{"text_format":"1","workbook":"xlsx","n_sheets":6,"sheets":["貴校データ入力シート","■分析補助シート","■分析補助シート（グラフ）","質問紙","作業","選択肢"],"not_rendered":{"charts":25,"images":0,"macros":1,"external_links":0,"defined_names":9,"comments":0,"pivot_tables":0},"unopened":[],"bounds":{"document_bytes":16777216,"sheet_cells":100000,"rows_first":2000,"rows_last":500,"rows_between":2000,"halvings":0,"cell_chars":16384,"cell_head_chars":4096},"cells_cut":0,"cells_raw":0,"read":"whole","date_system":"1900"}

{"sheet":"貴校データ入力シート","index":0,"n_rows":303,"n_cols":28,"rows_kept":303,"cut":false,"hidden":false,"merged":[[258,1,261,1],[258,2,261,5],[262,1,265,1],[262,2,265,5],[266,1,269,1],[266,2,269,5],[278,1,281,1],[278,2,281,5],[282,1,285,1],[282,2,285,5],[270,1,273,1],[270,2,273,5],[274,1,277,1],[274,2,277,5],[230,1,233,1],[230,2,233,5],[234,1,237,1],[234,2,237,5],[238,1,241,1],[238,2,241,5],[242,1,245,1],[242,2,245,5],[246,1,249,1],[246,2,249,5],[326,1,329,1],[326,2,329,5],[306,2,309,5],[310,2,313,5],[314,1,317,1],[314,2,317,5],[318,1,321,1],[318,2,321,5],[322,1,325,1],[322,2,325,5],[306,1,309,1],[310,1,313,1],[214,2,217,5],[218,2,221,5],[222,2,225,5],[226,2,229,5],[286,2,289,5],[290,2,293,5],[302,2,305,5],[250,2,253,5],[254,2,257,5],[1,0,1,27],[0,0,0,27],[150,2,153,5],[14,1,17,1],[18,1,21,1],[22,1,25,1],[26,1,29,1],[66,1,69,1],[14,2,17,5],[18,2,21,5],[22,2,25,5],[26,2,29,5],[42,2,45,5],[46,2,49,5],[50,2,53,5],[54,2,57,5],[58,2,61,5],[42,1,45,1],[78,2,81,5],[12,26,13,26],[12,27,13,27],[11,1,11,8],[12,2,13,5],[11,9,11,27],[12,6,12,25],[30,1,33,1],[30,2,33,5],[46,1,49,1],[210,1,213,1],[122,2,125,5],[126,2,129,5],[146,2,149,5],[154,2,157,5],[154,1,157,1],[146,1,149,1],[130,2,133,5],[70,1,73,1],[82,2,85,5],[90,2,93,5],[94,2,97,5],[102,1,105,1],[82,1,85,1],[86,1,89,1],[90,1,93,1],[94,1,97,1],[74,1,77,1],[78,1,81,1],[126,1,129,1],[210,2,213,5],[134,1,137,1],[158,2,161,5],[142,1,145,1],[134,2,137,5],[138,2,141,5],[142,2,145,5],[98,2,101,5],[102,2,105,5],[106,2,109,5],[110,2,113,5],[114,2,117,5],[118,2,121,5],[106,1,109,1],[114,1,117,1],[118,1,121,1],[98,1,101,1],[50,1,53,1],[54,1,57,1],[122,1,125,1],[110,1,113,1],[62,2,65,5],[66,2,69,5],[70,2,73,5],[74,2,77,5],[58,1,61,1],[62,1,65,1],[86,2,89,5],[214,1,217,1],[218,1,221,1],[222,1,225,1],[4,1,4,22],[226,1,229,1],[250,1,253,1],[254,1,257,1],[286,1,289,1],[290,1,293,1],[150,1,153,1],[7,1,7,19],[12,1,13,1],[34,1,37,1],[34,2,37,5],[38,1,41,1],[38,2,41,5],[194,1,197,1],[194,2,197,5],[198,1,201,1],[198,2,201,5],[174,1,177,1],[174,2,177,5],[138,1,141,1],[130,1,133,1],[302,1,305,1],[206,1,209,1],[206,2,209,5],[158,1,161,1],[162,1,165,1],[162,2,165,5],[166,1,169,1],[166,2,169,5],[202,1,205,1],[202,2,205,5],[294,1,297,1],[294,2,297,5],[298,1,301,1],[298,2,301,5],[170,1,173,1],[170,2,173,5],[178,1,181,1],[178,2,181,5],[182,1,185,1],[182,2,185,5],[186,1,189,1],[186,2,189,5],[190,1,193,1],[190,2,193,5]]}
["令和８年度　全国学力・学習状況調査　貴校データ入力シートへの入力方法"]
["学校用データの　　「04回答結果集計（児童質問＜表＞）.xlsx」ファイル　　より、選択肢１～２０、その他、無回答の値（下表の黄色いセル）と同じ部分をコピーし、黄色いセルの部分に貼り付けグラフデータ更新ボタンを押してください。　　\n\n「■分析補助シート」及び「■分析補助シート（帯グラフ）」に学校データが反映されます。\n\nただし、（１）～（７３）と（国１）～（算２）を分けて貼り付けてください。　（「04回答結果集計（児童質問＜表＞）.xlsx」ファイルでは（７３）と（国１）との間に１行スペースと非表示の行がありますが、このシートでは処理の関係でそのスペースがないため）"]
[]
[null,"令和８年度 全国学力・学習状況調査"]
[null,"学校用分析補助シート小学校［児童質問］"]
[]
[]
[]
[]
[]
[]
[null,"※【その他】とは、『選択肢以外の回答や複数回答されたもの』である。",null,null,null,null,null,null,null,"1段目：学校の児童数　　　　　　　　　　　2段目：学校の児童数の割合(％)------\n3段目：都道府県(公立)の児童数の割合(％)　4段目：全国(公立)の児童数の割合(％)"]
[null,"質問\n番号","質問事項",null,null,null,"選択肢",null,null,null,null,null,null,null,null,null,null,null,null,null,null,null,null,null,null,null,"その他","無回答"]
[null,null,null,null,null,null,"１","２","３","４","５","６","７","８","９","１０","１１","１２","１３","１４","１５","１６","１７","１８","１９","２０"]
[null,"（１）","朝食を毎日食べていますか"]
[]
[]
[]
[null,"（２）","毎日、同じくらいの時刻に寝ていますか"]
[]
[]
[]
[null,"（３）","毎日、同じくらいの時刻に起きていますか"]
[]
[]
[]
[null,"（４）","普段（月曜日から金曜日）、１日当たりどれくらいの時間、スマートフォンや携帯電話、パソコン、タブレット、ゲーム機、テレビ等（以下、「スマートフォン等」）でSNSや動画視聴などをしますか（スマートフォン等を使って学習する時間やゲームをする時間は除く）"]
[]
[]
[]
[null,"（５）","あなたの家では主に何語で話していますか(日本語の割合)"]
[]
[]
[]
[null,"（６）","学校の勉強のことについて、あなたの親や家族は、どれくらいあなたと話しますか"]
[]
[]
[]
[null,"（７）","学校での悩みについて、あなたの親や家族は、どれくらいあなたと話しますか"]
[]
[]
[]
[null,"（８）","自分には、よいところがあると思いますか"]
[]
[]
[]
[null,"（９）","先生は、あなたのよいところを認めてくれていると思いますか"]
[]
[]
[]
[null,"（１０）","将来の夢や目標を持っていますか"]
[]
[]
[]
[null,"（１１）","人が困っているときは、進んで助けていますか"]
[]
[]
[]
[null,"（１２）","いじめは、どんな理由があってもいけないことだと思いますか"]
[]
[]
[]
[null,"（１３）","困りごとや不安がある時に、先生や学校にいる大人にいつでも相談できますか"]
[]
[]
[]
[null,"（１４）","人の役に立つ人間になりたいと思いますか"]
[]
[]
[]
[null,"（１５）","学校に行くのは楽しいと思いますか"]
[]
[]
[]
[null,"（１６）","自分と違う意見について考えるのは楽しいと思いますか"]
[]
[]
[]
[null,"（１７）","友達関係に満足していますか"]
[]
[]
[]
[null,"（２０）","あなたの学級では、人と違う意見を言っても否定されないと思いますか"]
[]
[]
[]
[null,"（２１）","普段の生活の中で、幸せな気持ちになることはどれくらいありますか"]
[]
[]
[]
[null,"（２２）","分からないことやくわしく知りたいことがあったときに、自分で学び方を考え、工夫することはできていますか"]
[]
[]
[]
[null,"（２３）","学校の授業時間以外に、普段（月曜日から金曜日）、１日当たりどれくらいの時間、勉強をしますか（学習塾で勉強している時間や家庭教師の先生に教わっている時間、インターネットを活用して学ぶ時間も含む）"]
[]
[]
[]
[null,"（２４）","学校の授業時間以外に、普段（月曜日から金曜日）、１日当たりどれくらいの時間、PC・タブレットなどのICT機器を、勉強のために使っていますか（遊びなどの目的に使う時間は除く）"]
[]
[]
[]
[null,"（２５）","土曜日や日曜日など学校が休みの日に、１日当たりどれくらいの時間、勉強をしますか（学習塾で勉強している時間や家庭教師の先生に教わっている時間、インターネットを活用して学ぶ時間も含む）"]
[]
[]
[]
[null,"（２６）","学校の授業時間以外に、普段、１日当たりどれくらいの時間、読書をしますか（電子書籍の読書も含む。教科書や参考書、漫画や雑誌は除く）"]
[]
[]
[]
[null,"（２７）","昼休みや放課後に、本（教科書や参考書、漫画や雑誌は除く）を読んだり、借りたりするために、学校図書館・学校図書室（電子図書館を含む）にどれくらい行きますか"]
[]
[]
[]
[null,"（２８）","放課後や学校が休みの日に、本（教科書や参考書、漫画や雑誌は除く）を読んだり、借りたりするために、地域の図書館（電子図書館を含む）にどれくらい行きますか"]
[]
[]
[]
[null,"（２９）","あなたの家には、およそどれくらいの本がありますか（雑誌、新聞、教科書は除く）"]
[]
[]
[]
[null,"（３０）","新聞をどれくらい読んでいますか"]
[]
[]
[]
[null,"（３３）","地域や社会をよくするために何かしてみたいと思いますか"]
[]
[]
[]
[null,"（３５）","５年生までに受けた授業で、PC・タブレットなどのICT機器を、どの程度使用しましたか"]
[]
[]
[]
[null,"（３６－１）","あなたは自分がPC・タブレットなどのICT機器で文章を作成する（文字、コメントを書くなど）ことができると思いますか"]
[]
[]
[]
[null,"（３６－２）","あなたは自分がインターネットを使って情報を収集する（検索する、調べるなど）ことができると思いますか"]
[]
[]
[]
[null,"（３６－３）","あなたは自分がPC・タブレットなどのICT機器を使って情報を整理する（図、表、グラフ、思考ツールなどを使ってまとめる）ことができると思いますか"]
[]
[]
[]
[null,"（３６－４）","あなたは自分がPC・タブレットなどのICT機器を使って学校での活動でプレゼンテーション（発表のスライド）を作成することができると思いますか"]
[]
[]
[]
[null,"（３８）","５年生までに受けた授業で、自分の考えを発表する機会では、自分の考えがうまく伝わるよう、資料や文章、話の組立てなどを工夫して発表していましたか"]
[]
[]
[]
[null,"（３９）","５年生までに受けた授業では、課題の解決に向けて、自分で考え、自分から取り組んでいましたか"]
[]
[]
[]
[null,"（４０）","５年生までに受けた授業では、各教科などで学んだことを生かしながら、自分の考えをまとめる活動を行っていましたか"]
[]
[]
[]
[null,"（４１）","５年生までに受けた授業は、自分にあった教え方、教材、学習時間などになっていましたか"]
[]
[]
[]
[null,"（４２）","学級の友達との間で話し合う活動を通じて、自分の考えを深めたり、新たな考え方に気付いたりすることができていますか"]
[]
[]
[]
[null,"（４３）","学習した内容について、分かった点や、よく分からなかった点を見直し、次の学習につなげることができていますか"]
[]
[]
[]
[null,"（４４）","授業で学んだことを、次の学習や実生活に結びつけて考えたり、生かしたりすることができると思いますか"]
[]
[]
[]
[null,"（４５）","先生は、授業やテストで間違えたところや、理解していないところについて、分かるまで教えてくれていると思いますか"]
[]
[]
[]
[null,"（４６）","授業や学校生活では、友達や周りの人の考えを大切にして、お互いに協力しながら課題の解決に取り組んでいますか"]
[]
[]
[]
[null,"（４７）","総合的な学習の時間では、自分で課題を立てて情報を集め整理して、調べたことを発表するなどの学習活動に取り組んでいますか"]
[]
[]
[]
[null,"（４８）","総合的な学習の時間では、PC・タブレットなどのICT機器を使って、うまく情報を集めたり、整理したり、発表したりできていますか"]
[]
[]
[]
[null,"（４９）","あなたの学級では、学級生活をよりよくするために学級会で話し合い、互いの意見のよさを生かして解決方法を決めていますか"]
[]
[]
[]
[null,"（５０）","学級会における学級での話合いを生かして、今、自分が努力すべきことを決めて取り組んでいますか"]
[]
[]
[]
[null,"（５１）","道徳の授業では、自分の考えを深めたり、学級やグループで話し合ったりする活動に取り組んでいますか"]
[]
[]
[]
[null,"（５２）","国語の勉強は得意ですか"]
[]
[]
[]
[null,"（５３）","国語の勉強は好きですか"]
[]
[]
[]
[null,"（５４）","国語の授業の内容はよく分かりますか"]
[]
[]
[]
[null,"（５５）","国語の授業で学習したことは、将来、社会に出たときに役に立つと思いますか"]
[]
[]
[]
[null,"（５６）","５年生までにうけた授業では、国語の授業で、先生は、あなたの良いところや、前よりもできるようになったところはどこかを伝えてくれましたか"]
[]
[]
[]
[null,"（５７）","５年生までにうけた授業では、国語の授業で、先生は、あなたの学習のうまくできていないところはどこかを伝え、どうしたらうまくできるようになるかを教えてくれましたか"]
[]
[]
[]
[null,"（５８）","５年生までにうけた授業では、国語の授業で、文章などを引用して、自分の考えが伝わるように書き表し方を工夫して文章を書いていましたか"]
[]
[]
[]
[null,"（５９）","５年生までにうけた授業では、国語の授業で、文章を読んで理解したことに基づいて、自分の考えをまとめていましたか"]
[]
[]
[]
[null,"（６０）","算数の勉強は得意ですか"]
[]
[]
[]
[null,"（６１）","算数の勉強は好きですか"]
[]
[]
[]
[null,"（６２）","算数の授業の内容はよく分かりますか"]
[]
[]
[]
[null,"（６３）","算数の授業で学習したことは、将来、社会に出たときに役に立つと思いますか"]
[]
[]
[]
[null,"（６４）","５年生までに受けた授業では、算数の授業で学習したことを、普段の生活の中で活用できていましたか"]
[]
[]
[]
[null,"（６５）","５年生までに受けた授業では、算数の問題の解き方が分からないときは、あきらめずにいろいろな方法を考えましたか"]
[]
[]
[]
[null,"（６６）","５年生までに受けた授業では、算数の授業で、どのように考えたのかについて説明する活動をよく行っていましたか"]
[]
[]
[]
[null,"（６７）","５年生までに受けた授業では、図形や数直線など図が示された問題では、問題を解くときに図が役に立つと思いましたか"]
[]
[]
[]
[null,"（６９）","英語の勉強は得意ですか"]
[]
[]
[]
[null,"（７０）","英語の勉強は好きですか"]
[]
[]
[]
[null,"（７１）","将来、積極的に英語を使うような生活をしたり職業に就いたりしたいですか"]
[]
[]
[]
[null,"（７２）","これまで、学校の授業以外で、英語を使う機会がありましたか（地域の人や外国にいる人と英語で話す、英語で手紙や電子メールを書く、英語のテレビや動画、ホームページを見る、PC・タブレットなどのICT機器を利用して他者と英語で交流する、英会話教室に通うなど）"]
[]
[]
[]
[null,"（７３）","家庭学習の課題（宿題）として、どの程度、PC・タブレットなどのICT機器を使用して、英語の音声を聞いたり英語を話す練習をしたりしていますか"]
[]
[]
[]
[null,"（国１）","今回の国語の問題では、解答を文章で書く問題がありました。それらの問題について、どのように解答しましたか"]
[]
[]
[]
[null,"（国２）","解答時間は十分でしたか（国語）"]
[]
[]
[]
[null,"（算１）","今回の算数の問題では、言葉や数、式を使って、わけや求め方などを書く問題がありました。それらの問題について、どのように解答しましたか"]
[]
[]
[]
[null,"（算２）","解答時間は十分でしたか（算数）"]

{"sheet":"■分析補助シート","index":1,"n_rows":94,"n_cols":10,"rows_kept":94,"cut":false,"hidden":false,"merged":[]}
[]
[null,null,null,null,{"$f":"貴校データ入力シート!B4","v":"令和８年度 全国学力・学習状況調査"}]
[null,null,null,null,"学校用分析補助シート小学校［児童質問］"]
[]
[]
[null,null,null,null,"質問事項","貴校","島根県","全国","貴校－全国"]
[{"$f":"IF(F7=\"\",\"\",I7-C7/10000)","v":-8.0000000000000002E-3},{"$f":"IF(F7=\"\",\"\",RANK(A7,$A$7:$A$79)*100+C7)","v":4080},80,{"$f":"VLOOKUP(C7,base_data,2,FALSE)","v":"（５８）"},{"$f":"VLOOKUP(C7,base_data,3,FALSE)","v":"５年生までにうけた授業では、国語の授業で、文章などを引用して、自分の考えが伝わるように書き表し方を工夫して文章を書いていましたか"},{"$f":"IF(VLOOKUP(C7,base_data,39,FALSE)=\"\",VLOOKUP(C7,base_data,36,FALSE),\"\")","v":0},{"$f":"IF(VLOOKUP(C7,base_data,39,FALSE)=\"\",VLOOKUP(C7,base_data,37,FALSE),\"\")","v":0},{"$f":"IF(VLOOKUP(C7,base_data,39,FALSE)=\"\",VLOOKUP(C7,base_data,38,FALSE),\"\")","v":0},{"$f":"IFERROR(F7-H7,\"\")","v":0},{"$f":"IF(F7=\"\",1,2)","v":2}]
[-4.7000000000000002E-3,2047,47,"（３６－３）","あなたは自分がPC・タブレットなどのICT機器を使って情報を整理する（図、表、グラフ、思考ツールなどを使ってまとめる）ことができると思いますか",0,0,0,0,{"$f":"IF(F8=\"\",1,2)","v":2}]
[-7.0000000000000001E-3,3070,70,"（４８）","総合的な学習の時間では、PC・タブレットなどのICT機器を使って、うまく情報を集めたり、整理したり、発表したりできていますか",0,0,0,0,{"$f":"IF(F9=\"\",1,2)","v":2}]
[-8.2000000000000007E-3,4282,82,"（６０）","算数の勉強は得意ですか",0,0,0,0]
[-2.5999999999999999E-3,1526,26,"（２２）","分からないことやくわしく知りたいことがあったときに、自分で学び方を考え、工夫することはできていますか",0,0,0,0,{"$f":"IF(F11=\"\",1,2)","v":2}]
[-7.7999999999999996E-3,3878,78,"（５６）","５年生までにうけた授業では、国語の授業で、先生は、あなたの良いところや、前よりもできるようになったところはどこかを伝えてくれましたか",0,0,0,0,{"$f":"IF(F12=\"\",1,2)","v":2}]
[-8.6E-3,4686,86,"（６４）","５年生までに受けた授業では、算数の授業で学習したことを、普段の生活の中で活用できていましたか",0,0,0,0]
[-8.3999999999999995E-3,4484,84,"（６２）","算数の授業の内容はよく分かりますか",0,0,0,0]
[-1.2999999999999999E-3,913,13,"（１３）","困りごとや不安がある時に、先生や学校にいる大人にいつでも相談できますか",0,0,0,0,{"$f":"IF(F15=\"\",1,2)","v":2}]
[-7.6E-3,3676,76,"（５４）","国語の授業の内容はよく分かりますか",0,0,0,0,{"$f":"IF(F16=\"\",1,2)","v":2}]
[-6.6E-3,2666,66,"（４４）","授業で学んだことを、次の学習や実生活に結びつけて考えたり、生かしたりすることができると思いますか",0,0,0,0,{"$f":"IF(F17=\"\",1,2)","v":2}]
[-1E-3,610,10,"（１０）","将来の夢や目標を持っていますか",0,0,0,0,{"$f":"IF(F18=\"\",1,2)","v":2}]
[-8.5000000000000006E-3,4585,85,"（６３）","算数の授業で学習したことは、将来、社会に出たときに役に立つと思いますか",0,0,0,0]
[-7.9000000000000008E-3,3979,79,"（５７）","５年生までにうけた授業では、国語の授業で、先生は、あなたの学習のうまくできていないところはどこかを伝え、どうしたらうまくできるようになるかを教えてくれましたか",0,0,0,0,{"$f":"IF(F20=\"\",1,2)","v":2}]
[-6.8999999999999999E-3,2969,69,"（４７）","総合的な学習の時間では、自分で課題を立てて情報を集め整理して、調べたことを発表するなどの学習活動に取り組んでいますか",0,0,0,0,2]
[-2.9999999999999997E-4,303,3,"（３）","毎日、同じくらいの時刻に起きていますか",0,0,0,0,2]
[-1E-4,101,1,"（１）","朝食を毎日食べていますか",0,0,0,0,2]
[-1.6999999999999999E-3,1317,17,"（１７）","友達関係に満足していますか",0,0,0,0,2]
[-4.7999999999999996E-3,2148,48,"（３６－４）","あなたは自分がPC・タブレットなどのICT機器を使って学校での活動でプレゼンテーション（発表のスライド）を作成することができると思いますか",0,0,0,0,2]
[-1.06E-2,5506,106,"（国２）","解答時間は十分でしたか（国語）",0,0,0,0]
[-8.8999999999999999E-3,4989,89,"（６７）","５年生までに受けた授業では、図形や数直線など図が示された問題では、問題を解くときに図が役に立つと思いましたか",0,0,0,0]
[-2.5000000000000001E-3,1425,25,"（２１）","普段の生活の中で、幸せな気持ちになることはどれくらいありますか",0,0,0,0,{"$f":"IF(F28=\"\",1,2)","v":2}]
[-1.1000000000000001E-3,711,11,"（１１）","人が困っているときは、進んで助けていますか",0,0,0,0,{"$f":"IF(F29=\"\",1,2)","v":2}]
[-7.4000000000000003E-3,3474,74,"（５２）","国語の勉強は得意ですか",0,0,0,0,{"$f":"IF(F30=\"\",1,2)","v":2}]
[-8.6999999999999994E-3,4787,87,"（６５）","５年生までに受けた授業では、算数の問題の解き方が分からないときは、あきらめずにいろいろな方法を考えましたか",0,0,0,0]
[-3.3999999999999998E-3,1634,34,"（３０）","新聞をどれくらい読んでいますか",0,0,0,0,{"$f":"IF(F32=\"\",1,2)","v":2}]
[-0.01,5100,100,"（６９）","英語の勉強は得意ですか",0,0,0,0]
[-8.0999999999999996E-3,4181,81,"（５９）","５年生までにうけた授業では、国語の授業で、文章を読んで理解したことに基づいて、自分の考えをまとめていましたか",0,0,0,0]
[-6.7999999999999996E-3,2868,68,"（４６）","授業や学校生活では、友達や周りの人の考えを大切にして、お互いに協力しながら課題の解決に取り組んでいますか",0,0,0,0,{"$f":"IF(F35=\"\",1,2)","v":2}]
[-6.4999999999999997E-3,2565,65,"（４３）","学習した内容について、分かった点や、よく分からなかった点を見直し、次の学習につなげることができていますか",0,0,0,0,2]
[-6.3E-3,2463,63,"（４１）","５年生までに受けた授業は、自分にあった教え方、教材、学習時間などになっていましたか",0,0,0,0,2]
[-1.4E-3,1014,14,"（１４）","人の役に立つ人間になりたいと思いますか",0,0,0,0,2]
[{"$f":"IF(F39=\"\",\"\",I39-C39/10000)","v":-7.7000000000000002E-3},{"$f":"IF(F39=\"\",\"\",RANK(A39,$A$7:$A$79)*100+C39)","v":3777},77,{"$f":"VLOOKUP(C39,base_data,2,FALSE)","v":"（５５）"},{"$f":"VLOOKUP(C39,base_data,3,FALSE)","v":"国語の授業で学習したことは、将来、社会に出たときに役に立つと思いますか"},{"$f":"IF(VLOOKUP(C39,base_data,39,FALSE)=\"\",VLOOKUP(C39,base_data,36,FALSE),\"\")","v":0},{"$f":"IF(VLOOKUP(C39,base_data,39,FALSE)=\"\",VLOOKUP(C39,base_data,37,FALSE),\"\")","v":0},{"$f":"IF(VLOOKUP(C39,base_data,39,FALSE)=\"\",VLOOKUP(C39,base_data,38,FALSE),\"\")","v":0},{"$f":"IFERROR(F39-H39,\"\")","v":0},2]
[-6.1999999999999998E-3,2362,62,"（４０）","５年生までに受けた授業では、各教科などで学んだことを生かしながら、自分の考えをまとめる活動を行っていましたか",0,0,0,0,2]
[-6.7000000000000002E-3,2767,67,"（４５）","先生は、授業やテストで間違えたところや、理解していないところについて、分かるまで教えてくれていると思いますか",0,0,0,0,2]
[-8.9999999999999998E-4,509,9,"（９）","先生は、あなたのよいところを認めてくれていると思いますか",0,0,0,0,2]
[-1.0800000000000001E-2,5608,108,"（算２）","解答時間は十分でしたか（算数）",0,0,0,0]
[-1.03E-2,5403,103,"（７２）","これまで、学校の授業以外で、英語を使う機会がありましたか（地域の人や外国にいる人と英語で話す、英語で手紙や電子メールを書く、英語のテレビや動画、ホームページを見る、PC・タブレットなどのICT機器を利用して他者と英語で交流する、英会話教室に通うなど）",0,0,0,0]
[-4.5999999999999999E-3,1946,46,"（３６－２）","あなたは自分がインターネットを使って情報を収集する（検索する、調べるなど）ことができると思いますか",0,0,0,0,{"$f":"IF(F45=\"\",1,2)","v":2}]
[-7.1999999999999998E-3,3272,72,"（５０）","学級会における学級での話合いを生かして、今、自分が努力すべきことを決めて取り組んでいますか",0,0,0,0,{"$f":"IF(F46=\"\",1,2)","v":2}]
[-8.0000000000000004E-4,408,8,"（８）","自分には、よいところがあると思いますか",0,0,0,0,{"$f":"IF(F47=\"\",1,2)","v":2}]
[-6.1000000000000004E-3,2261,61,"（３９）","５年生までに受けた授業では、課題の解決に向けて、自分で考え、自分から取り組んでいましたか",0,0,0,0,{"$f":"IF(F48=\"\",1,2)","v":2}]
[-1.1999999999999999E-3,812,12,"（１２）","いじめは、どんな理由があってもいけないことだと思いますか",0,0,0,0,{"$f":"IF(F49=\"\",1,2)","v":2}]
[-8.3000000000000001E-3,4383,83,"（６１）","算数の勉強は好きですか",0,0,0,0]
[-7.4999999999999997E-3,3575,75,"（５３）","国語の勉強は好きですか",0,0,0,0,{"$f":"IF(F51=\"\",1,2)","v":2}]
[-7.1000000000000004E-3,3171,71,"（４９）","あなたの学級では、学級生活をよりよくするために学級会で話し合い、互いの意見のよさを生かして解決方法を決めていますか",0,0,0,0,{"$f":"IF(F52=\"\",1,2)","v":2}]
[-4.4999999999999997E-3,1845,45,"（３６－１）","あなたは自分がPC・タブレットなどのICT機器で文章を作成する（文字、コメントを書くなど）ことができると思いますか",0,0,0,0,{"$f":"IF(F53=\"\",1,2)","v":2}]
[-8.8000000000000005E-3,4888,88,"（６６）","５年生までに受けた授業では、算数の授業で、どのように考えたのかについて説明する活動をよく行っていましたか",0,0,0,0]
[-4.1000000000000003E-3,1741,41,"（３３）","地域や社会をよくするために何かしてみたいと思いますか",0,0,0,0,{"$f":"IF(F55=\"\",1,2)","v":2}]
[-1.5E-3,1115,15,"（１５）","学校に行くのは楽しいと思いますか",0,0,0,0,{"$f":"IF(F56=\"\",1,2)","v":2}]
[-2.0000000000000001E-4,202,2,"（２）","毎日、同じくらいの時刻に寝ていますか",0,0,0,0,{"$f":"IF(F57=\"\",1,2)","v":2}]
[-1.01E-2,5201,101,"（７０）","英語の勉強は好きですか",0,0,0,0]
[-1.6000000000000001E-3,1216,16,"（１６）","自分と違う意見について考えるのは楽しいと思いますか",0,0,0,0,{"$f":"IF(F59=\"\",1,2)","v":2}]
[-7.3000000000000001E-3,3373,73,"（５１）","道徳の授業では、自分の考えを深めたり、学級やグループで話し合ったりする活動に取り組んでいますか",0,0,0,0,{"$f":"IF(F60=\"\",1,2)","v":2}]
[-1.0200000000000001E-2,5302,102,"（７１）","将来、積極的に英語を使うような生活をしたり職業に就いたりしたいですか",0,0,0,0]
["","",4,"（４）","普段（月曜日から金曜日）、１日当たりどれくらいの時間、スマートフォンや携帯電話、パソコン、タブレット、ゲーム機、テレビ等（以下、「スマートフォン等」）でSNSや動画視聴などをしますか（スマートフォン等を使って学習する時間やゲームをする時間は除く）","","","","",{"$f":"IF(F62=\"\",1,2)","v":1}]
["","",5,"（５）","あなたの家では主に何語で話していますか(日本語の割合)","","","","",1]
["","",6,"（６）","学校の勉強のことについて、あなたの親や家族は、どれくらいあなたと話しますか","","","","",1]
["","",7,"（７）","学校での悩みについて、あなたの親や家族は、どれくらいあなたと話しますか","","","","",1]
["","",24,"（２０）","あなたの学級では、人と違う意見を言っても否定されないと思いますか","","","","",1]
["","",27,"（２３）","学校の授業時間以外に、普段（月曜日から金曜日）、１日当たりどれくらいの時間、勉強をしますか（学習塾で勉強している時間や家庭教師の先生に教わっている時間、インターネットを活用して学ぶ時間も含む）","","","","",1]
["","",28,"（２４）","学校の授業時間以外に、普段（月曜日から金曜日）、１日当たりどれくらいの時間、PC・タブレットなどのICT機器を、勉強のために使っていますか（遊びなどの目的に使う時間は除く）","","","","",1]
["","",29,"（２５）","土曜日や日曜日など学校が休みの日に、１日当たりどれくらいの時間、勉強をしますか（学習塾で勉強している時間や家庭教師の先生に教わっている時間、インターネットを活用して学ぶ時間も含む）","","","","",1]
["","",30,"（２６）","学校の授業時間以外に、普段、１日当たりどれくらいの時間、読書をしますか（電子書籍の読書も含む。教科書や参考書、漫画や雑誌は除く）","","","","",1]
[{"$f":"IF(F71=\"\",\"\",I71-C71/10000)","v":""},{"$f":"IF(F71=\"\",\"\",RANK(A71,$A$7:$A$79)*100+C71)","v":""},31,{"$f":"VLOOKUP(C71,base_data,2,FALSE)","v":"（２７）"},{"$f":"VLOOKUP(C71,base_data,3,FALSE)","v":"昼休みや放課後に、本（教科書や参考書、漫画や雑誌は除く）を読んだり、借りたりするために、学校図書館・学校図書室（電子図書館を含む）にどれくらい行きますか"},{"$f":"IF(VLOOKUP(C71,base_data,39,FALSE)=\"\",VLOOKUP(C71,base_data,36,FALSE),\"\")","v":""},{"$f":"IF(VLOOKUP(C71,base_data,39,FALSE)=\"\",VLOOKUP(C71,base_data,37,FALSE),\"\")","v":""},{"$f":"IF(VLOOKUP(C71,base_data,39,FALSE)=\"\",VLOOKUP(C71,base_data,38,FALSE),\"\")","v":""},{"$f":"IFERROR(F71-H71,\"\")","v":""},1]
["","",32,"（２８）","放課後や学校が休みの日に、本（教科書や参考書、漫画や雑誌は除く）を読んだり、借りたりするために、地域の図書館（電子図書館を含む）にどれくらい行きますか","","","","",1]
["","",33,"（２９）","あなたの家には、およそどれくらいの本がありますか（雑誌、新聞、教科書は除く）","","","","",1]
["","",44,"（３５）","５年生までに受けた授業で、PC・タブレットなどのICT機器を、どの程度使用しましたか","","","","",1]
["","",60,"（３８）","５年生までに受けた授業で、自分の考えを発表する機会では、自分の考えがうまく伝わるよう、資料や文章、話の組立てなどを工夫して発表していましたか","","","","",1]
["","",64,"（４２）","学級の友達との間で話し合う活動を通じて、自分の考えを深めたり、新たな考え方に気付いたりすることができていますか","","","","",1]
["","",104,"（７３）","家庭学習の課題（宿題）として、どの程度、PC・タブレットなどのICT機器を使用して、英語の音声を聞いたり英語を話す練習をしたりしていますか","","","",""]
["","",105,"（国１）","今回の国語の問題では、解答を文章で書く問題がありました。それらの問題について、どのように解答しましたか","","","",""]
["","",107,"（算１）","今回の算数の問題では、言葉や数、式を使って、わけや求め方などを書く問題がありました。それらの問題について、どのように解答しましたか","","","",""]
[null,null,null,null,null,null,null,null,null,{"$f":"IF(F80=\"\",1,2)","v":1}]
[null,null,null,null,"■全国との比較において、比較的大きな差異がみられるもの（上位、下位各５項目）"]
[null,null,null,null,"質問事項","貴校","島根県","全国","貴校－全国"]
[null,{"$f":"SMALL($B$7:$B$79,1)","v":101},null,{"$f":"VLOOKUP(B83,$B$7:$I$79,3,FALSE)","v":"（１）"},{"$f":"VLOOKUP(B83,$B$7:$I$79,4,FALSE)","v":"朝食を毎日食べていますか"},{"$f":"VLOOKUP(B83,$B$7:$I$79,5,FALSE)","v":0},{"$f":"VLOOKUP(B83,$B$7:$I$79,6,FALSE)","v":0},{"$f":"VLOOKUP(B83,$B$7:$I$79,7,FALSE)","v":0},{"$f":"F83-H83","v":0}]
[null,{"$f":"SMALL($B$7:$B$79,2)","v":202},null,"（２）","毎日、同じくらいの時刻に寝ていますか",0,0,0,0]
[null,{"$f":"SMALL($B$7:$B$79,3)","v":303},null,"（３）","毎日、同じくらいの時刻に起きていますか",0,0,0,0]
[null,{"$f":"SMALL($B$7:$B$79,4)","v":408},null,"（８）","自分には、よいところがあると思いますか",0,0,0,0]
[null,{"$f":"SMALL($B$7:$B$79,5)","v":509},null,"（９）","先生は、あなたのよいところを認めてくれていると思いますか",0,0,0,0]
[]
[null,null,null,null,{"$f":"E82","v":"質問事項"}]
[null,{"$f":"LARGE($B$7:$B$79,1)","v":5608},null,"（算２）","解答時間は十分でしたか（算数）",0,0,0,0]
[null,{"$f":"LARGE($B$7:$B$79,2)","v":5506},null,{"$f":"VLOOKUP(B91,$B$7:$I$79,3,FALSE)","v":"（国２）"},{"$f":"VLOOKUP(B91,$B$7:$I$79,4,FALSE)","v":"解答時間は十分でしたか（国語）"},{"$f":"VLOOKUP(B91,$B$7:$I$79,5,FALSE)","v":0},{"$f":"VLOOKUP(B91,$B$7:$I$79,6,FALSE)","v":0},{"$f":"VLOOKUP(B91,$B$7:$I$79,7,FALSE)","v":0},{"$f":"F91-H91","v":0}]
[null,{"$f":"LARGE($B$7:$B$79,3)","v":5403},null,"（７２）","これまで、学校の授業以外で、英語を使う機会がありましたか（地域の人や外国にいる人と英語で話す、英語で手紙や電子メールを書く、英語のテレビや動画、ホームページを見る、PC・タブレットなどのICT機器を利用して他者と英語で交流する、英会話教室に通うなど）",0,0,0,0]
[{"$f":"IF(F93=\"\",\"\",I93-D93/10000)","v":7.1000000000000004E-3},{"$f":"LARGE($B$7:$B$79,4)","v":5302},null,"（７１）","将来、積極的に英語を使うような生活をしたり職業に就いたりしたいですか",0,0,0,0]
[null,{"$f":"LARGE($B$7:$B$79,5)","v":5201},null,"（７０）","英語の勉強は好きですか",0,0,0,0]

{"sheet":"■分析補助シート（グラフ）","index":2,"n_rows":1,"n_cols":1,"rows_kept":1,"cut":false,"hidden":false,"merged":[]}
["■４件法以外の質問項目に対する回答の割合（単位％）"]

{"sheet":"質問紙","index":3,"n_rows":303,"n_cols":40,"rows_kept":303,"cut":false,"hidden":false,"merged":[[283,0,286,0],[283,1,286,1],[283,2,286,9],[283,35,286,35],[283,36,286,36],[283,37,286,37],[283,38,286,38],[279,0,282,0],[279,1,282,1],[279,2,282,9],[279,35,282,35],[279,36,282,36],[279,37,282,37],[279,38,282,38],[267,38,270,38],[259,0,262,0],[259,1,262,1],[259,2,262,9],[259,35,262,35],[259,36,262,36],[259,37,262,37],[259,38,262,38],[263,0,266,0],[263,1,266,1],[263,2,266,9],[263,35,266,35],[263,36,266,36],[263,37,266,37],[263,38,266,38],[239,0,242,0],[239,1,242,1],[239,2,242,9],[239,35,242,35],[239,36,242,36],[239,37,242,37],[239,38,242,38],[251,0,254,0],[251,1,254,1],[251,2,254,9],[251,35,254,35],[251,36,254,36],[251,37,254,37],[251,38,254,38],[243,0,246,0],[243,1,246,1],[243,2,246,9],[243,35,246,35],[243,36,246,36],[243,37,246,37],[243,38,246,38],[247,0,250,0],[247,1,250,1],[275,0,278,0],[275,1,278,1],[275,2,278,9],[275,35,278,35],[275,36,278,36],[275,37,278,37],[275,38,278,38],[227,0,230,0],[227,1,230,1],[227,2,230,9],[227,35,230,35],[227,36,230,36],[227,37,230,37],[227,38,230,38],[231,0,234,0],[231,1,234,1],[231,2,234,9],[231,35,234,35],[231,36,234,36],[231,37,234,37],[231,38,234,38],[235,0,238,0],[235,1,238,1],[235,38,238,38],[223,36,226,36],[223,35,226,35],[223,2,226,9],[223,1,226,1],[223,0,226,0],[235,2,238,9],[235,35,238,35],[235,36,238,36],[235,37,238,37],[271,36,274,36],[271,37,274,37],[247,2,250,9],[247,35,250,35],[247,36,250,36],[247,37,250,37],[247,38,250,38],[271,0,274,0],[271,1,274,1],[271,2,274,9],[255,0,258,0],[255,1,258,1],[255,2,258,9],[255,35,258,35],[255,36,258,36],[255,37,258,37],[271,38,274,38],[255,38,258,38],[267,0,270,0],[267,1,270,1],[267,2,270,9],[267,35,270,35],[267,36,270,36],[267,37,270,37],[187,0,190,0],[191,0,194,0],[195,0,198,0],[199,0,202,0],[203,0,206,0],[219,0,222,0],[187,1,190,1],[187,2,190,9],[191,1,194,1],[191,2,194,9],[195,1,198,1],[195,2,198,9],[199,1,202,1],[199,2,202,9],[203,1,206,1],[203,2,206,9],[207,0,210,0],[207,1,210,1],[207,2,210,9],[211,0,214,0],[211,1,214,1],[211,2,214,9],[215,0,218,0],[215,1,218,1],[167,38,170,38],[171,38,174,38],[175,38,178,38],[179,38,182,38],[183,38,186,38],[147,38,150,38],[151,38,154,38],[155,38,158,38],[159,38,162,38],[115,38,118,38],[119,38,122,38],[123,38,126,38],[127,38,130,38],[131,38,134,38],[135,38,138,38],[139,38,142,38],[143,38,146,38],[163,38,166,38],[11,38,14,38],[15,38,18,38],[19,38,22,38],[23,38,26,38],[27,38,30,38],[31,38,34,38],[35,38,38,38],[39,38,42,38],[43,38,46,38],[175,37,178,37],[179,35,182,35],[179,36,182,36],[179,37,182,37],[183,35,186,35],[183,36,186,36],[183,37,186,37],[47,38,50,38],[51,38,54,38],[55,38,58,38],[59,38,62,38],[63,38,66,38],[67,38,70,38],[71,38,74,38],[75,38,78,38],[79,38,82,38],[83,38,86,38],[87,38,90,38],[91,38,94,38],[95,38,98,38],[99,38,102,38],[103,38,106,38],[107,38,110,38],[111,38,114,38],[159,37,162,37],[163,35,166,35],[163,36,166,36],[163,37,166,37],[167,35,170,35],[167,36,170,36],[167,37,170,37],[171,35,174,35],[171,36,174,36],[171,37,174,37],[143,37,146,37],[147,35,150,35],[147,36,150,36],[147,37,150,37],[151,35,154,35],[151,36,154,36],[151,37,154,37],[155,35,158,35],[155,36,158,36],[155,37,158,37],[127,37,130,37],[131,35,134,35],[131,36,134,36],[131,37,134,37],[135,35,138,35],[135,36,138,36],[135,37,138,37],[139,35,142,35],[139,36,142,36],[139,37,142,37],[111,37,114,37],[115,35,118,35],[115,36,118,36],[115,37,118,37],[119,35,122,35],[119,36,122,36],[119,37,122,37],[123,35,126,35],[123,36,126,36],[123,37,126,37],[95,37,98,37],[99,35,102,35],[99,36,102,36],[99,37,102,37],[103,35,106,35],[103,36,106,36],[103,37,106,37],[107,35,110,35],[107,36,110,36],[107,37,110,37],[79,37,82,37],[83,35,86,35],[83,36,86,36],[83,37,86,37],[87,35,90,35],[87,36,90,36],[87,37,90,37],[91,35,94,35],[91,36,94,36],[91,37,94,37],[63,37,66,37],[67,35,70,35],[67,36,70,36],[67,37,70,37],[71,35,74,35],[71,36,74,36],[71,37,74,37],[75,35,78,35],[75,36,78,36],[75,37,78,37],[9,35,9,37],[15,35,18,35],[15,36,18,36],[15,37,18,37],[19,35,22,35],[19,36,22,36],[19,37,22,37],[23,35,26,35],[23,36,26,36],[23,37,26,37],[11,35,14,35],[11,36,14,36],[11,37,14,37],[27,35,30,35],[27,36,30,36],[27,37,30,37],[31,35,34,35],[31,36,34,36],[31,37,34,37],[35,35,38,35],[35,36,38,36],[35,37,38,37],[39,37,42,37],[43,35,46,35],[43,36,46,36],[43,37,46,37],[163,0,166,0],[167,0,170,0],[171,0,174,0],[135,0,138,0],[139,0,142,0],[143,0,146,0],[123,0,126,0],[47,35,50,35],[47,36,50,36],[47,37,50,37],[51,35,54,35],[51,36,54,36],[51,37,54,37],[55,35,58,35],[55,36,58,36],[55,37,58,37],[59,35,62,35],[59,36,62,36],[59,37,62,37],[63,35,66,35],[175,0,178,0],[179,0,182,0],[183,0,186,0],[147,0,150,0],[151,0,154,0],[155,0,158,0],[159,0,162,0],[39,35,42,35],[39,36,42,36],[63,36,66,36],[79,35,82,35],[79,36,82,36],[95,35,98,35],[95,36,98,36],[111,35,114,35],[111,36,114,36],[127,35,130,35],[127,36,130,36],[143,35,146,35],[143,36,146,36],[159,35,162,35],[159,36,162,36],[175,35,178,35],[175,36,178,36],[83,0,86,0],[87,0,90,0],[91,0,94,0],[127,0,130,0],[131,0,134,0],[95,0,98,0],[99,0,102,0],[103,0,106,0],[107,0,110,0],[111,0,114,0],[115,0,118,0],[119,0,122,0],[47,0,50,0],[51,0,54,0],[55,0,58,0],[59,0,62,0],[63,0,66,0],[67,0,70,0],[71,0,74,0],[75,0,78,0],[79,0,82,0],[11,0,14,0],[15,0,18,0],[19,0,22,0],[23,0,26,0],[27,0,30,0],[31,0,34,0],[35,0,38,0],[39,0,42,0],[43,0,46,0],[143,1,146,1],[143,2,146,9],[9,31,10,31],[123,1,126,1],[123,2,126,9],[127,1,130,1],[127,2,130,9],[131,1,134,1],[131,2,134,9],[103,1,106,1],[111,1,114,1],[111,2,114,9],[115,1,118,1],[115,2,118,9],[119,1,122,1],[119,2,122,9],[135,1,138,1],[135,2,138,9],[139,1,142,1],[139,2,142,9],[91,1,94,1],[91,2,94,9],[95,1,98,1],[95,2,98,9],[99,1,102,1],[99,2,102,9],[103,2,106,9],[107,1,110,1],[107,2,110,9],[71,1,74,1],[71,2,74,9],[75,1,78,1],[75,2,78,9],[79,1,82,1],[79,2,82,9],[83,1,86,1],[83,2,86,9],[87,1,90,1],[87,2,90,9],[8,1,8,11],[8,12,8,30],[9,1,10,1],[9,2,10,9],[9,30,10,30],[4,1,4,30],[6,7,6,9],[7,7,7,9],[6,1,6,6],[7,1,7,6],[9,10,9,29],[19,2,22,9],[23,1,26,1],[23,2,26,9],[27,1,30,1],[27,2,30,9],[67,2,70,9],[35,2,38,9],[39,1,42,1],[39,2,42,9],[43,1,46,1],[43,2,46,9],[47,1,50,1],[47,2,50,9],[51,1,54,1],[51,2,54,9],[9,32,9,34],[171,1,174,1],[171,2,174,9],[175,1,178,1],[175,2,178,9],[179,1,182,1],[179,2,182,9],[147,1,150,1],[147,2,150,9],[31,1,34,1],[31,2,34,9],[35,1,38,1],[55,1,58,1],[55,2,58,9],[59,1,62,1],[59,2,62,9],[63,1,66,1],[63,2,66,9],[67,1,70,1],[11,1,14,1],[11,2,14,9],[15,1,18,1],[15,2,18,9],[19,1,22,1],[183,1,186,1],[183,2,186,9],[151,1,154,1],[151,2,154,9],[155,1,158,1],[155,2,158,9],[159,1,162,1],[159,2,162,9],[163,1,166,1],[163,2,166,9],[167,1,170,1],[167,2,170,9],[187,35,190,35],[187,36,190,36],[187,37,190,37],[187,38,190,38],[191,35,194,35],[191,36,194,36],[191,37,194,37],[191,38,194,38],[195,35,198,35],[195,36,198,36],[195,37,198,37],[195,38,198,38],[199,35,202,35],[199,36,202,36],[199,37,202,37],[199,38,202,38],[203,35,206,35],[203,36,206,36],[203,37,206,37],[203,38,206,38],[219,35,222,35],[219,36,222,36],[219,37,222,37],[219,38,222,38],[207,35,210,35],[207,36,210,36],[207,37,210,37],[207,38,210,38],[211,35,214,35],[211,36,214,36],[211,37,214,37],[211,38,214,38],[295,0,298,0],[295,1,298,1],[295,2,298,9],[295,35,298,35],[295,36,298,36],[295,37,298,37],[295,38,298,38],[299,0,302,0],[299,1,302,1],[299,2,302,9],[299,35,302,35],[299,36,302,36],[299,37,302,37],[299,38,302,38],[291,0,294,0],[287,38,290,38],[223,38,226,38],[223,37,226,37],[215,2,218,9],[215,35,218,35],[215,36,218,36],[215,37,218,37],[215,38,218,38],[219,1,222,1],[219,2,222,9],[291,38,294,38],[291,37,294,37],[291,36,294,36],[291,35,294,35],[291,2,294,9],[291,1,294,1],[287,37,290,37],[287,36,290,36],[287,35,290,35],[287,2,290,9],[287,1,290,1],[287,0,290,0],[271,35,274,35]]}
["令和8年度全国学力・学習状況調査",null,null,null,null,null,null,null,null,null,null,null,null,null,null,null,null,null,null,null,null,null,null,null,null,null,null,null,null,null,"小学校調査"]
["回答結果集計　［児童質問紙］"]
[null,"小学校－児童"]
[1,2,3,4,5,6,7,8,9,10,11,12,13,14,15,16,17,18,19,20,21,22,23,24,25,26,27,28,29,30,31,32,33,34,35,36,37,38,39]
[]
[]
[null,null,null,null,null,null,null,"児童数"]
[null,"小学校"]
[null,"※【その他】とは，『選択肢以外の回答や複数回答』されたものである。",null,null,null,null,null,null,null,null,null,null,"1段目：学校の児童数　　　　　　　　　　　2段目：学校の児童数の割合(％)＿＿＿\r\n3段目：都道府県(公立)の児童数の割合(％)　4段目：全国(公立)の児童数の割合(％)"]
[null,"質問\n番号","質問事項",null,null,null,null,null,null,null,"選択肢",null,null,null,null,null,null,null,null,null,null,null,null,null,null,null,null,null,null,null,"その他","無回答","肯定群",null,null,"肯定群"]
[null,null,null,null,null,null,null,null,null,null,"１","２","３","４","５","６","７","８","９","１０","１１","１２","１３","１４","１５","１６","１７","１８","１９","２０",null,null,"貴校","島根県","全国","貴校","島根県","全国","グラフ"]
[1,"（１）",{"$f":"IF(貴校データ入力シート!C15=\"\",\"\",貴校データ入力シート!C15)","v":"朝食を毎日食べていますか"},null,null,null,null,null,null,null,{"$f":"IF(貴校データ入力シート!G15=\"\",\"\",貴校データ入力シート!G15)","v":""},{"$f":"IF(貴校データ入力シート!H15=\"\",\"\",貴校データ入力シート!H15)","v":""},{"$f":"IF(貴校データ入力シート!I15=\"\",\"\",貴校データ入力シート!I15)","v":""},{"$f":"IF(貴校データ入力シート!J15=\"\",\"\",貴校データ入力シート!J15)","v":""},{"$f":"IF(貴校データ入力シート!K15=\"\",\"\",貴校データ入力シート!K15)","v":""},{"$f":"IF(貴校データ入力シート!L15=\"\",\"\",貴校データ入力シート!L15)","v":""},{"$f":"IF(貴校データ入力シート!M15=\"\",\"\",貴校データ入力シート!M15)","v":""},{"$f":"IF(貴校データ入力シート!N15=\"\",\"\",貴校データ入力シート!N15)","v":""},{"$f":"IF(貴校データ入力シート!O15=\"\",\"\",貴校データ入力シート!O15)","v":""},{"$f":"IF(貴校データ入力シート!P15=\"\",\"\",貴校データ入力シート!P15)","v":""},{"$f":"IF(貴校データ入力シート!Q15=\"\",\"\",貴校データ入力シート!Q15)","v":""},{"$f":"IF(貴校データ入力シート!R15=\"\",\"\",貴校データ入力シート!R15)","v":""},{"$f":"IF(貴校データ入力シート!S15=\"\",\"\",貴校データ入力シート!S15)","v":""},{"$f":"IF(貴校データ入力シート!T15=\"\",\"\",貴校データ入力シート!T15)","v":""},{"$f":"IF(貴校データ入力シート!U15=\"\",\"\",貴校データ入力シート!U15)","v":""},{"$f":"IF(貴校データ入力シート!V15=\"\",\"\",貴校データ入力シート!V15)","v":""},{"$f":"IF(貴校データ入力シート!W15=\"\",\"\",貴校データ入力シート!W15)","v":""},{"$f":"IF(貴校データ入力シート!X15=\"\",\"\",貴校データ入力シート!X15)","v":""},{"$f":"IF(貴校データ入力シート!Y15=\"\",\"\",貴校データ入力シート!Y15)","v":""},{"$f":"IF(貴校データ入力シート!Z15=\"\",\"\",貴校データ入力シート!Z15)","v":""},{"$f":"IF(貴校データ入力シート!AA15=\"\",\"\",貴校データ入力シート!AA15)","v":""},{"$f":"IF(貴校データ入力シート!AB15=\"\",\"\",貴校データ入力シート!AB15)","v":""},null,null,null,{"$f":"AG13","v":0},{"$f":"AH14","v":0},{"$f":"AI15","v":0}]
[null,null,null,null,null,null,null,null,null,null,{"$f":"IF(貴校データ入力シート!G16=\"\",\"\",貴校データ入力シート!G16)","v":""},{"$f":"IF(貴校データ入力シート!H16=\"\",\"\",貴校データ入力シート!H16)","v":""},{"$f":"IF(貴校データ入力シート!I16=\"\",\"\",貴校データ入力シート!I16)","v":""},{"$f":"IF(貴校データ入力シート!J16=\"\",\"\",貴校データ入力シート!J16)","v":""},{"$f":"IF(貴校データ入力シート!K16=\"\",\"\",貴校データ入力シート!K16)","v":""},{"$f":"IF(貴校データ入力シート!L16=\"\",\"\",貴校データ入力シート!L16)","v":""},{"$f":"IF(貴校データ入力シート!M16=\"\",\"\",貴校データ入力シート!M16)","v":""},{"$f":"IF(貴校データ入力シート!N16=\"\",\"\",貴校データ入力シート!N16)","v":""},{"$f":"IF(貴校データ入力シート!O16=\"\",\"\",貴校データ入力シート!O16)","v":""},{"$f":"IF(貴校データ入力シート!P16=\"\",\"\",貴校データ入力シート!P16)","v":""},{"$f":"IF(貴校データ入力シート!Q16=\"\",\"\",貴校データ入力シート!Q16)","v":""},{"$f":"IF(貴校データ入力シート!R16=\"\",\"\",貴校データ入力シート!R16)","v":""},{"$f":"IF(貴校データ入力シート!S16=\"\",\"\",貴校データ入力シート!S16)","v":""},{"$f":"IF(貴校データ入力シート!T16=\"\",\"\",貴校データ入力シート!T16)","v":""},{"$f":"IF(貴校データ入力シート!U16=\"\",\"\",貴校データ入力シート!U16)","v":""},{"$f":"IF(貴校データ入力シート!V16=\"\",\"\",貴校データ入力シート!V16)","v":""},{"$f":"IF(貴校データ入力シート!W16=\"\",\"\",貴校データ入力シート!W16)","v":""},{"$f":"IF(貴校データ入力シート!X16=\"\",\"\",貴校データ入力シート!X16)","v":""},{"$f":"IF(貴校データ入力シート!Y16=\"\",\"\",貴校データ入力シート!Y16)","v":""},{"$f":"IF(貴校データ入力シート!Z16=\"\",\"\",貴校データ入力シート!Z16)","v":""},{"$f":"IF(貴校データ入力シート!AA16=\"\",\"\",貴校データ入力シート!AA16)","v":""},{"$f":"IF(貴校データ入力シート!AB16=\"\",\"\",貴校データ入力シート!AB16)","v":""},{"$f":"SUM(K13:L13)","v":0}]
[null,null,null,null,null,null,null,null,null,null,{"$f":"IF(貴校データ入力シート!G17=\"\",\"\",貴校データ入力シート!G17)","v":""},{"$f":"IF(貴校データ入力シート!H17=\"\",\"\",貴校データ入力シート!H17)","v":""},{"$f":"IF(貴校データ入力シート!I17=\"\",\"\",貴校データ入力シート!I17)","v":""},{"$f":"IF(貴校データ入力シート!J17=\"\",\"\",貴校データ入力シート!J17)","v":""},{"$f":"IF(貴校データ入力シート!K17=\"\",\"\",貴校データ入力シート!K17)","v":""},{"$f":"IF(貴校データ入力シート!L17=\"\",\"\",貴校データ入力シート!L17)","v":""},{"$f":"IF(貴校データ入力シート!M17=\"\",\"\",貴校データ入力シート!M17)","v":""},{"$f":"IF(貴校データ入力シート!N17=\"\",\"\",貴校データ入力シート!N17)","v":""},{"$f":"IF(貴校データ入力シート!O17=\"\",\"\",貴校データ入力シート!O17)","v":""},{"$f":"IF(貴校データ入力シート!P17=\"\",\"\",貴校データ入力シート!P17)","v":""},{"$f":"IF(貴校データ入力シート!Q17=\"\",\"\",貴校データ入力シート!Q17)","v":""},{"$f":"IF(貴校データ入力シート!R17=\"\",\"\",貴校データ入力シート!R17)","v":""},{"$f":"IF(貴校データ入力シート!S17=\"\",\"\",貴校データ入力シート!S17)","v":""},{"$f":"IF(貴校データ入力シート!T17=\"\",\"\",貴校データ入力シート!T17)","v":""},{"$f":"IF(貴校データ入力シート!U17=\"\",\"\",貴校データ入力シート!U17)","v":""},{"$f":"IF(貴校データ入力シート!V17=\"\",\"\",貴校データ入力シート!V17)","v":""},{"$f":"IF(貴校データ入力シート!W17=\"\",\"\",貴校データ入力シート!W17)","v":""},{"$f":"IF(貴校データ入力シート!X17=\"\",\"\",貴校データ入力シート!X17)","v":""},{"$f":"IF(貴校データ入力シート!Y17=\"\",\"\",貴校データ入力シート!Y17)","v":""},{"$f":"IF(貴校データ入力シート!Z17=\"\",\"\",貴校データ入力シート!Z17)","v":""},{"$f":"IF(貴校データ入力シート!AA17=\"\",\"\",貴校データ入力シート!AA17)","v":""},{"$f":"IF(貴校データ入力シート!AB17=\"\",\"\",貴校データ入力シート!AB17)","v":""},null,{"$f":"SUM(K14:L14)","v":0},null,null,null,null,null,"←四件法以外「1」、複数選択「2」、四件法は空欄"]
[null,null,null,null,null,null,null,null,null,null,{"$f":"IF(貴校データ入力シート!G18=\"\",\"\",貴校データ入力シート!G18)","v":""},{"$f":"IF(貴校データ入力シート!H18=\"\",\"\",貴校データ入力シート!H18)","v":""},{"$f":"IF(貴校データ入力シート!I18=\"\",\"\",貴校データ入力シート!I18)","v":""},{"$f":"IF(貴校データ入力シート!J18=\"\",\"\",貴校データ入力シート!J18)","v":""},{"$f":"IF(貴校データ入力シート!K18=\"\",\"\",貴校データ入力シート!K18)","v":""},{"$f":"IF(貴校データ入力シート!L18=\"\",\"\",貴校データ入力シート!L18)","v":""},{"$f":"IF(貴校データ入力シート!M18=\"\",\"\",貴校データ入力シート!M18)","v":""},{"$f":"IF(貴校データ入力シート!N18=\"\",\"\",貴校データ入力シート!N18)","v":""},{"$f":"IF(貴校データ入力シート!O18=\"\",\"\",貴校データ入力シート!O18)","v":""},{"$f":"IF(貴校データ入力シート!P18=\"\",\"\",貴校データ入力シート!P18)","v":""},{"$f":"IF(貴校データ入力シート!Q18=\"\",\"\",貴校データ入力シート!Q18)","v":""},{"$f":"IF(貴校データ入力シート!R18=\"\",\"\",貴校データ入力シート!R18)","v":""},{"$f":"IF(貴校データ入力シート!S18=\"\",\"\",貴校データ入力シート!S18)","v":""},{"$f":"IF(貴校データ入力シート!T18=\"\",\"\",貴校データ入力シート!T18)","v":""},{"$f":"IF(貴校データ入力シート!U18=\"\",\"\",貴校データ入力シート!U18)","v":""},{"$f":"IF(貴校データ入力シート!V18=\"\",\"\",貴校データ入力シート!V18)","v":""},{"$f":"IF(貴校データ入力シート!W18=\"\",\"\",貴校データ入力シート!W18)","v":""},{"$f":"IF(貴校データ入力シート!X18=\"\",\"\",貴校データ入力シート!X18)","v":""},{"$f":"IF(貴校データ入力シート!Y18=\"\",\"\",貴校データ入力シート!Y18)","v":""},{"$f":"IF(貴校データ入力シート!Z18=\"\",\"\",貴校データ入力シート!Z18)","v":""},{"$f":"IF(貴校データ入力シート!AA18=\"\",\"\",貴校データ入力シート!AA18)","v":""},{"$f":"IF(貴校データ入力シート!AB18=\"\",\"\",貴校データ入力シート!AB18)","v":""},null,null,{"$f":"SUM(K15:L15)","v":0}]
[2,"（２）",{"$f":"IF(貴校データ入力シート!C19=\"\",\"\",貴校データ入力シート!C19)","v":"毎日、同じくらいの時刻に寝ていますか"},null,null,null,null,null,null,null,{"$f":"IF(貴校データ入力シート!G19=\"\",\"\",貴校データ入力シート!G19)","v":""},{"$f":"IF(貴校データ入力シート!H19=\"\",\"\",貴校データ入力シート!H19)","v":""},{"$f":"IF(貴校データ入力シート!I19=\"\",\"\",貴校データ入力シート!I19)","v":""},{"$f":"IF(貴校データ入力シート!J19=\"\",\"\",貴校データ入力シート!J19)","v":""},{"$f":"IF(貴校データ入力シート!K19=\"\",\"\",貴校データ入力シート!K19)","v":""},{"$f":"IF(貴校データ入力シート!L19=\"\",\"\",貴校データ入力シート!L19)","v":""},{"$f":"IF(貴校データ入力シート!M19=\"\",\"\",貴校データ入力シート!M19)","v":""},{"$f":"IF(貴校データ入力シート!N19=\"\",\"\",貴校データ入力シート!N19)","v":""},{"$f":"IF(貴校データ入力シート!O19=\"\",\"\",貴校データ入力シート!O19)","v":""},{"$f":"IF(貴校データ入力シート!P19=\"\",\"\",貴校データ入力シート!P19)","v":""},{"$f":"IF(貴校データ入力シート!Q19=\"\",\"\",貴校データ入力シート!Q19)","v":""},{"$f":"IF(貴校データ入力シート!R19=\"\",\"\",貴校データ入力シート!R19)","v":""},{"$f":"IF(貴校データ入力シート!S19=\"\",\"\",貴校データ入力シート!S19)","v":""},{"$f":"IF(貴校データ入力シート!T19=\"\",\"\",貴校データ入力シート!T19)","v":""},{"$f":"IF(貴校データ入力シート!U19=\"\",\"\",貴校データ入力シート!U19)","v":""},{"$f":"IF(貴校データ入力シート!V19=\"\",\"\",貴校データ入力シート!V19)","v":""},{"$f":"IF(貴校データ入力シート!W19=\"\",\"\",貴校データ入力シート!W19)","v":""},{"$f":"IF(貴校データ入力シート!X19=\"\",\"\",貴校データ入力シート!X19)","v":""},{"$f":"IF(貴校データ入力シート!Y19=\"\",\"\",貴校データ入力シート!Y19)","v":""},{"$f":"IF(貴校データ入力シート!Z19=\"\",\"\",貴校データ入力シート!Z19)","v":""},{"$f":"IF(貴校データ入力シート!AA19=\"\",\"\",貴校データ入力シート!AA19)","v":""},{"$f":"IF(貴校データ入力シート!AB19=\"\",\"\",貴校データ入力シート!AB19)","v":""},null,null,null,{"$f":"AG17","v":0},{"$f":"AH18","v":0},{"$f":"AI19","v":0}]
[null,null,null,null,null,null,null,null,null,null,{"$f":"IF(貴校データ入力シート!G20=\"\",\"\",貴校データ入力シート!G20)","v":""},{"$f":"IF(貴校データ入力シート!H20=\"\",\"\",貴校データ入力シート!H20)","v":""},{"$f":"IF(貴校データ入力シート!I20=\"\",\"\",貴校データ入力シート!I20)","v":""},{"$f":"IF(貴校データ入力シート!J20=\"\",\"\",貴校データ入力シート!J20)","v":""},{"$f":"IF(貴校データ入力シート!K20=\"\",\"\",貴校データ入力シート!K20)","v":""},{"$f":"IF(貴校データ入力シート!L20=\"\",\"\",貴校データ入力シート!L20)","v":""},{"$f":"IF(貴校データ入力シート!M20=\"\",\"\",貴校データ入力シート!M20)","v":""},{"$f":"IF(貴校データ入力シート!N20=\"\",\"\",貴校データ入力シート!N20)","v":""},{"$f":"IF(貴校データ入力シート!O20=\"\",\"\",貴校データ入力シート!O20)","v":""},{"$f":"IF(貴校データ入力シート!P20=\"\",\"\",貴校データ入力シート!P20)","v":""},{"$f":"IF(貴校データ入力シート!Q20=\"\",\"\",貴校データ入力シート!Q20)","v":""},{"$f":"IF(貴校データ入力シート!R20=\"\",\"\",貴校データ入力シート!R20)","v":""},{"$f":"IF(貴校データ入力シート!S20=\"\",\"\",貴校データ入力シート!S20)","v":""},{"$f":"IF(貴校データ入力シート!T20=\"\",\"\",貴校データ入力シート!T20)","v":""},{"$f":"IF(貴校データ入力シート!U20=\"\",\"\",貴校データ入力シート!U20)","v":""},{"$f":"IF(貴校データ入力シート!V20=\"\",\"\",貴校データ入力シート!V20)","v":""},{"$f":"IF(貴校データ入力シート!W20=\"\",\"\",貴校データ入力シート!W20)","v":""},{"$f":"IF(貴校データ入力シート!X20=\"\",\"\",貴校データ入力シート!X20)","v":""},{"$f":"IF(貴校データ入力シート!Y20=\"\",\"\",貴校データ入力シート!Y20)","v":""},{"$f":"IF(貴校データ入力シート!Z20=\"\",\"\",貴校データ入力シート!Z20)","v":""},{"$f":"IF(貴校データ入力シート!AA20=\"\",\"\",貴校データ入力シート!AA20)","v":""},{"$f":"IF(貴校データ入力シート!AB20=\"\",\"\",貴校データ入力シート!AB20)","v":""},{"$f":"SUM(K17:L17)","v":0}]
[null,null,null,null,null,null,null,null,null,null,{"$f":"IF(貴校データ入力シート!G21=\"\",\"\",貴校データ入力シート!G21)","v":""},{"$f":"IF(貴校データ入力シート!H21=\"\",\"\",貴校データ入力シート!H21)","v":""},{"$f":"IF(貴校データ入力シート!I21=\"\",\"\",貴校データ入力シート!I21)","v":""},{"$f":"IF(貴校データ入力シート!J21=\"\",\"\",貴校データ入力シート!J21)","v":""},{"$f":"IF(貴校データ入力シート!K21=\"\",\"\",貴校データ入力シート!K21)","v":""},{"$f":"IF(貴校データ入力シート!L21=\"\",\"\",貴校データ入力シート!L21)","v":""},{"$f":"IF(貴校データ入力シート!M21=\"\",\"\",貴校データ入力シート!M21)","v":""},{"$f":"IF(貴校データ入力シート!N21=\"\",\"\",貴校データ入力シート!N21)","v":""},{"$f":"IF(貴校データ入力シート!O21=\"\",\"\",貴校データ入力シート!O21)","v":""},{"$f":"IF(貴校データ入力シート!P21=\"\",\"\",貴校データ入力シート!P21)","v":""},{"$f":"IF(貴校データ入力シート!Q21=\"\",\"\",貴校データ入力シート!Q21)","v":""},{"$f":"IF(貴校データ入力シート!R21=\"\",\"\",貴校データ入力シート!R21)","v":""},{"$f":"IF(貴校データ入力シート!S21=\"\",\"\",貴校データ入力シート!S21)","v":""},{"$f":"IF(貴校データ入力シート!T21=\"\",\"\",貴校データ入力シート!T21)","v":""},{"$f":"IF(貴校データ入力シート!U21=\"\",\"\",貴校データ入力シート!U21)","v":""},{"$f":"IF(貴校データ入力シート!V21=\"\",\"\",貴校データ入力シート!V21)","v":""},{"$f":"IF(貴校データ入力シート!W21=\"\",\"\",貴校データ入力シート!W21)","v":""},{"$f":"IF(貴校データ入力シート!X21=\"\",\"\",貴校データ入力シート!X21)","v":""},{"$f":"IF(貴校データ入力シート!Y21=\"\",\"\",貴校データ入力シート!Y21)","v":""},{"$f":"IF(貴校データ入力シート!Z21=\"\",\"\",貴校データ入力シート!Z21)","v":""},{"$f":"IF(貴校データ入力シート!AA21=\"\",\"\",貴校データ入力シート!AA21)","v":""},{"$f":"IF(貴校データ入力シート!AB21=\"\",\"\",貴校データ入力シート!AB21)","v":""},null,{"$f":"SUM(K18:L18)","v":0}]
[null,null,null,null,null,null,null,null,null,null,{"$f":"IF(貴校データ入力シート!G22=\"\",\"\",貴校データ入力シート!G22)","v":""},{"$f":"IF(貴校データ入力シート!H22=\"\",\"\",貴校データ入力シート!H22)","v":""},{"$f":"IF(貴校データ入力シート!I22=\"\",\"\",貴校データ入力シート!I22)","v":""},{"$f":"IF(貴校データ入力シート!J22=\"\",\"\",貴校データ入力シート!J22)","v":""},{"$f":"IF(貴校データ入力シート!K22=\"\",\"\",貴校データ入力シート!K22)","v":""},{"$f":"IF(貴校データ入力シート!L22=\"\",\"\",貴校データ入力シート!L22)","v":""},{"$f":"IF(貴校データ入力シート!M22=\"\",\"\",貴校データ入力シート!M22)","v":""},{"$f":"IF(貴校データ入力シート!N22=\"\",\"\",貴校データ入力シート!N22)","v":""},{"$f":"IF(貴校データ入力シート!O22=\"\",\"\",貴校データ入力シート!O22)","v":""},{"$f":"IF(貴校データ入力シート!P22=\"\",\"\",貴校データ入力シート!P22)","v":""},{"$f":"IF(貴校データ入力シート!Q22=\"\",\"\",貴校データ入力シート!Q22)","v":""},{"$f":"IF(貴校データ入力シート!R22=\"\",\"\",貴校データ入力シート!R22)","v":""},{"$f":"IF(貴校データ入力シート!S22=\"\",\"\",貴校データ入力シート!S22)","v":""},{"$f":"IF(貴校データ入力シート!T22=\"\",\"\",貴校データ入力シート!T22)","v":""},{"$f":"IF(貴校データ入力シート!U22=\"\",\"\",貴校データ入力シート!U22)","v":""},{"$f":"IF(貴校データ入力シート!V22=\"\",\"\",貴校データ入力シート!V22)","v":""},{"$f":"IF(貴校データ入力シート!W22=\"\",\"\",貴校データ入力シート!W22)","v":""},{"$f":"IF(貴校データ入力シート!X22=\"\",\"\",貴校データ入力シート!X22)","v":""},{"$f":"IF(貴校データ入力シート!Y22=\"\",\"\",貴校データ入力シート!Y22)","v":""},{"$f":"IF(貴校データ入力シート!Z22=\"\",\"\",貴校データ入力シート!Z22)","v":""},{"$f":"IF(貴校データ入力シート!AA22=\"\",\"\",貴校データ入力シート!AA22)","v":""},{"$f":"IF(貴校データ入力シート!AB22=\"\",\"\",貴校データ入力シート!AB22)","v":""},null,null,{"$f":"SUM(K19:L19)","v":0}]
[3,"（３）",{"$f":"IF(貴校データ入力シート!C23=\"\",\"\",貴校データ入力シート!C23)","v":"毎日、同じくらいの時刻に起きていますか"},null,null,null,null,null,null,null,{"$f":"IF(貴校データ入力シート!G23=\"\",\"\",貴校データ入力シート!G23)","v":""},{"$f":"IF(貴校データ入力シート!H23=\"\",\"\",貴校データ入力シート!H23)","v":""},{"$f":"IF(貴校データ入力シート!I23=\"\",\"\",貴校データ入力シート!I23)","v":""},{"$f":"IF(貴校データ入力シート!J23=\"\",\"\",貴校データ入力シート!J23)","v":""},{"$f":"IF(貴校データ入力シート!K23=\"\",\"\",貴校データ入力シート!K23)","v":""},{"$f":"IF(貴校データ入力シート!L23=\"\",\"\",貴校データ入力シート!L23)","v":""},{"$f":"IF(貴校データ入力シート!M23=\"\",\"\",貴校データ入力シート!M23)","v":""},{"$f":"IF(貴校データ入力シート!N23=\"\",\"\",貴校データ入力シート!N23)","v":""},{"$f":"IF(貴校データ入力シート!O23=\"\",\"\",貴校データ入力シート!O23)","v":""},{"$f":"IF(貴校データ入力シート!P23=\"\",\"\",貴校データ入力シート!P23)","v":""},{"$f":"IF(貴校データ入力シート!Q23=\"\",\"\",貴校データ入力シート!Q23)","v":""},{"$f":"IF(貴校データ入力シート!R23=\"\",\"\",貴校データ入力シート!R23)","v":""},{"$f":"IF(貴校データ入力シート!S23=\"\",\"\",貴校データ入力シート!S23)","v":""},{"$f":"IF(貴校データ入力シート!T23=\"\",\"\",貴校データ入力シート!T23)","v":""},{"$f":"IF(貴校データ入力シート!U23=\"\",\"\",貴校データ入力シート!U23)","v":""},{"$f":"IF(貴校データ入力シート!V23=\"\",\"\",貴校データ入力シート!V23)","v":""},{"$f":"IF(貴校データ入力シート!W23=\"\",\"\",貴校データ入力シート!W23)","v":""},{"$f":"IF(貴校データ入力シート!X23=\"\",\"\",貴校データ入力シート!X23)","v":""},{"$f":"IF(貴校データ入力シート!Y23=\"\",\"\",貴校データ入力シート!Y23)","v":""},{"$f":"IF(貴校データ入力シート!Z23=\"\",\"\",貴校データ入力シート!Z23)","v":""},{"$f":"IF(貴校データ入力シート!AA23=\"\",\"\",貴校データ入力シート!AA23)","v":""},{"$f":"IF(貴校データ入力シート!AB23=\"\",\"\",貴校データ入力シート!AB23)","v":""},null,null,null,{"$f":"AG21","v":0},{"$f":"AH22","v":0},{"$f":"AI23","v":0}]
[null,null,null,null,null,null,null,null,null,null,{"$f":"IF(貴校データ入力シート!G24=\"\",\"\",貴校データ入力シート!G24)","v":""},{"$f":"IF(貴校データ入力シート!H24=\"\",\"\",貴校データ入力シート!H24)","v":""},{"$f":"IF(貴校データ入力シート!I24=\"\",\"\",貴校データ入力シート!I24)","v":""},{"$f":"IF(貴校データ入力シート!J24=\"\",\"\",貴校データ入力シート!J24)","v":""},{"$f":"IF(貴校データ入力シート!K24=\"\",\"\",貴校データ入力シート!K24)","v":""},{"$f":"IF(貴校データ入力シート!L24=\"\",\"\",貴校データ入力シート!L24)","v":""},{"$f":"IF(貴校データ入力シート!M24=\"\",\"\",貴校データ入力シート!M24)","v":""},{"$f":"IF(貴校データ入力シート!N24=\"\",\"\",貴校データ入力シート!N24)","v":""},{"$f":"IF(貴校データ入力シート!O24=\"\",\"\",貴校データ入力シート!O24)","v":""},{"$f":"IF(貴校データ入力シート!P24=\"\",\"\",貴校データ入力シート!P24)","v":""},{"$f":"IF(貴校データ入力シート!Q24=\"\",\"\",貴校データ入力シート!Q24)","v":""},{"$f":"IF(貴校データ入力シート!R24=\"\",\"\",貴校データ入力シート!R24)","v":""},{"$f":"IF(貴校データ入力シート!S24=\"\",\"\",貴校データ入力シート!S24)","v":""},{"$f":"IF(貴校データ入力シート!T24=\"\",\"\",貴校データ入力シート!T24)","v":""},{"$f":"IF(貴校データ入力シート!U24=\"\",\"\",貴校データ入力シート!U24)","v":""},{"$f":"IF(貴校データ入力シート!V24=\"\",\"\",貴校データ入力シート!V24)","v":""},{"$f":"IF(貴校データ入力シート!W24=\"\",\"\",貴校データ入力シート!W24)","v":""},{"$f":"IF(貴校データ入力シート!X24=\"\",\"\",貴校データ入力シート!X24)","v":""},{"$f":"IF(貴校データ入力シート!Y24=\"\",\"\",貴校データ入力シート!Y24)","v":""},{"$f":"IF(貴校データ入力シート!Z24=\"\",\"\",貴校データ入力シート!Z24)","v":""},{"$f":"IF(貴校データ入力シート!AA24=\"\",\"\",貴校データ入力シート!AA24)","v":""},{"$f":"IF(貴校データ入力シート!AB24=\"\",\"\",貴校データ入力シート!AB24)","v":""},{"$f":"SUM(K21:L21)","v":0}]
[null,null,null,null,null,null,null,null,null,null,{"$f":"IF(貴校データ入力シート!G25=\"\",\"\",貴校データ入力シート!G25)","v":""},{"$f":"IF(貴校データ入力シート!H25=\"\",\"\",貴校データ入力シート!H25)","v":""},{"$f":"IF(貴校データ入力シート!I25=\"\",\"\",貴校データ入力シート!I25)","v":""},{"$f":"IF(貴校データ入力シート!J25=\"\",\"\",貴校データ入力シート!J25)","v":""},{"$f":"IF(貴校データ入力シート!K25=\"\",\"\",貴校データ入力シート!K25)","v":""},{"$f":"IF(貴校データ入力シート!L25=\"\",\"\",貴校データ入力シート!L25)","v":""},{"$f":"IF(貴校データ入力シート!M25=\"\",\"\",貴校データ入力シート!M25)","v":""},{"$f":"IF(貴校データ入力シート!N25=\"\",\"\",貴校データ入力シート!N25)","v":""},{"$f":"IF(貴校データ入力シート!O25=\"\",\"\",貴校データ入力シート!O25)","v":""},{"$f":"IF(貴校データ入力シート!P25=\"\",\"\",貴校データ入力シート!P25)","v":""},{"$f":"IF(貴校データ入力シート!Q25=\"\",\"\",貴校データ入力シート!Q25)","v":""},{"$f":"IF(貴校データ入力シート!R25=\"\",\"\",貴校データ入力シート!R25)","v":""},{"$f":"IF(貴校データ入力シート!S25=\"\",\"\",貴校データ入力シート!S25)","v":""},{"$f":"IF(貴校データ入力シート!T25=\"\",\"\",貴校データ入力シート!T25)","v":""},{"$f":"IF(貴校データ入力シート!U25=\"\",\"\",貴校データ入力シート!U25)","v":""},{"$f":"IF(貴校データ入力シート!V25=\"\",\"\",貴校データ入力シート!V25)","v":""},{"$f":"IF(貴校データ入力シート!W25=\"\",\"\",貴校データ入力シート!W25)","v":""},{"$f":"IF(貴校データ入力シート!X25=\"\",\"\",貴校データ入力シート!X25)","v":""},{"$f":"IF(貴校データ入力シート!Y25=\"\",\"\",貴校データ入力シート!Y25)","v":""},{"$f":"IF(貴校データ入力シート!Z25=\"\",\"\",貴校データ入力シート!Z25)","v":""},{"$f":"IF(貴校データ入力シート!AA25=\"\",\"\",貴校データ入力シート!AA25)","v":""},{"$f":"IF(貴校データ入力シート!AB25=\"\",\"\",貴校データ入力シート!AB25)","v":""},null,{"$f":"SUM(K22:L22)","v":0}]
[null,null,null,null,null,null,null,null,null,null,{"$f":"IF(貴校データ入力シート!G26=\"\",\"\",貴校データ入力シート!G26)","v":""},{"$f":"IF(貴校データ入力シート!H26=\"\",\"\",貴校データ入力シート!H26)","v":""},{"$f":"IF(貴校データ入力シート!I26=\"\",\"\",貴校データ入力シート!I26)","v":""},{"$f":"IF(貴校データ入力シート!J26=\"\",\"\",貴校データ入力シート!J26)","v":""},{"$f":"IF(貴校データ入力シート!K26=\"\",\"\",貴校データ入力シート!K26)","v":""},{"$f":"IF(貴校データ入力シート!L26=\"\",\"\",貴校データ入力シート!L26)","v":""},{"$f":"IF(貴校データ入力シート!M26=\"\",\"\",貴校データ入力シート!M26)","v":""},{"$f":"IF(貴校データ入力シート!N26=\"\",\"\",貴校データ入力シート!N26)","v":""},{"$f":"IF(貴校データ入力シート!O26=\"\",\"\",貴校データ入力シート!O26)","v":""},{"$f":"IF(貴校データ入力シート!P26=\"\",\"\",貴校データ入力シート!P26)","v":""},{"$f":"IF(貴校データ入力シート!Q26=\"\",\"\",貴校データ入力シート!Q26)","v":""},{"$f":"IF(貴校データ入力シート!R26=\"\",\"\",貴校データ入力シート!R26)","v":""},{"$f":"IF(貴校データ入力シート!S26=\"\",\"\",貴校データ入力シート!S26)","v":""},{"$f":"IF(貴校データ入力シート!T26=\"\",\"\",貴校データ入力シート!T26)","v":""},{"$f":"IF(貴校データ入力シート!U26=\"\",\"\",貴校データ入力シート!U26)","v":""},{"$f":"IF(貴校データ入力シート!V26=\"\",\"\",貴校データ入力シート!V26)","v":""},{"$f":"IF(貴校データ入力シート!W26=\"\",\"\",貴校データ入力シート!W26)","v":""},{"$f":"IF(貴校データ入力シート!X26=\"\",\"\",貴校データ入力シート!X26)","v":""},{"$f":"IF(貴校データ入力シート!Y26=\"\",\"\",貴校データ入力シート!Y26)","v":""},{"$f":"IF(貴校データ入力シート!Z26=\"\",\"\",貴校データ入力シート!Z26)","v":""},{"$f":"IF(貴校データ入力シート!AA26=\"\",\"\",貴校データ入力シート!AA26)","v":""},{"$f":"IF(貴校データ入力シート!AB26=\"\",\"\",貴校データ入力シート!AB26)","v":""},null,null,{"$f":"SUM(K23:L23)","v":0}]
[4,"（４）",{"$f":"IF(貴校データ入力シート!C27=\"\",\"\",貴校データ入力シート!C27)","v":"普段（月曜日から金曜日）、１日当たりどれくらいの時間、スマートフォンや携帯電話、パソコン、タブレット、ゲーム機、テレビ等（以下、「スマートフォン等」）でSNSや動画視聴などをしますか（スマートフォン等を使って学習する時間やゲームをする時間は除く）"},null,null,null,null,null,null,null,{"$f":"IF(貴校データ入力シート!G27=\"\",\"\",貴校データ入力シート!G27)","v":""},{"$f":"IF(貴校データ入力シート!H27=\"\",\"\",貴校データ入力シート!H27)","v":""},{"$f":"IF(貴校データ入力シート!I27=\"\",\"\",貴校データ入力シート!I27)","v":""},{"$f":"IF(貴校データ入力シート!J27=\"\",\"\",貴校データ入力シート!J27)","v":""},{"$f":"IF(貴校データ入力シート!K27=\"\",\"\",貴校データ入力シート!K27)","v":""},{"$f":"IF(貴校データ入力シート!L27=\"\",\"\",貴校データ入力シート!L27)","v":""},{"$f":"IF(貴校データ入力シート!M27=\"\",\"\",貴校データ入力シート!M27)","v":""},{"$f":"IF(貴校データ入力シート!N27=\"\",\"\",貴校データ入力シート!N27)","v":""},{"$f":"IF(貴校データ入力シート!O27=\"\",\"\",貴校データ入力シート!O27)","v":""},{"$f":"IF(貴校データ入力シート!P27=\"\",\"\",貴校データ入力シート!P27)","v":""},{"$f":"IF(貴校データ入力シート!Q27=\"\",\"\",貴校データ入力シート!Q27)","v":""},{"$f":"IF(貴校データ入力シート!R27=\"\",\"\",貴校データ入力シート!R27)","v":""},{"$f":"IF(貴校データ入力シート!S27=\"\",\"\",貴校データ入力シート!S27)","v":""},{"$f":"IF(貴校データ入力シート!T27=\"\",\"\",貴校データ入力シート!T27)","v":""},{"$f":"IF(貴校データ入力シート!U27=\"\",\"\",貴校データ入力シート!U27)","v":""},{"$f":"IF(貴校データ入力シート!V27=\"\",\"\",貴校データ入力シート!V27)","v":""},{"$f":"IF(貴校データ入力シート!W27=\"\",\"\",貴校データ入力シート!W27)","v":""},{"$f":"IF(貴校データ入力シート!X27=\"\",\"\",貴校データ入力シート!X27)","v":""},{"$f":"IF(貴校データ入力シート!Y27=\"\",\"\",貴校データ入力シート!Y27)","v":""},{"$f":"IF(貴校データ入力シート!Z27=\"\",\"\",貴校データ入力シート!Z27)","v":""},{"$f":"IF(貴校データ入力シート!AA27=\"\",\"\",貴校データ入力シート!AA27)","v":""},{"$f":"IF(貴校データ入力シート!AB27=\"\",\"\",貴校データ入力シート!AB27)","v":""},null,null,null,{"$f":"AG25","v":0},{"$f":"AH26","v":0},{"$f":"AI27","v":0},1]
[null,null,null,null,null,null,null,null,null,null,{"$f":"IF(貴校データ入力シート!G28=\"\",\"\",貴校データ入力シート!G28)","v":""},{"$f":"IF(貴校データ入力シート!H28=\"\",\"\",貴校データ入力シート!H28)","v":""},{"$f":"IF(貴校データ入力シート!I28=\"\",\"\",貴校データ入力シート!I28)","v":""},{"$f":"IF(貴校データ入力シート!J28=\"\",\"\",貴校データ入力シート!J28)","v":""},{"$f":"IF(貴校データ入力シート!K28=\"\",\"\",貴校データ入力シート!K28)","v":""},{"$f":"IF(貴校データ入力シート!L28=\"\",\"\",貴校データ入力シート!L28)","v":""},{"$f":"IF(貴校データ入力シート!M28=\"\",\"\",貴校データ入力シート!M28)","v":""},{"$f":"IF(貴校データ入力シート!N28=\"\",\"\",貴校データ入力シート!N28)","v":""},{"$f":"IF(貴校データ入力シート!O28=\"\",\"\",貴校データ入力シート!O28)","v":""},{"$f":"IF(貴校データ入力シート!P28=\"\",\"\",貴校データ入力シート!P28)","v":""},{"$f":"IF(貴校データ入力シート!Q28=\"\",\"\",貴校データ入力シート!Q28)","v":""},{"$f":"IF(貴校データ入力シート!R28=\"\",\"\",貴校データ入力シート!R28)","v":""},{"$f":"IF(貴校データ入力シート!S28=\"\",\"\",貴校データ入力シート!S28)","v":""},{"$f":"IF(貴校データ入力シート!T28=\"\",\"\",貴校データ入力シート!T28)","v":""},{"$f":"IF(貴校データ入力シート!U28=\"\",\"\",貴校データ入力シート!U28)","v":""},{"$f":"IF(貴校データ入力シート!V28=\"\",\"\",貴校データ入力シート!V28)","v":""},{"$f":"IF(貴校データ入力シート!W28=\"\",\"\",貴校データ入力シート!W28)","v":""},{"$f":"IF(貴校データ入力シート!X28=\"\",\"\",貴校データ入力シート!X28)","v":""},{"$f":"IF(貴校データ入力シート!Y28=\"\",\"\",貴校データ入力シート!Y28)","v":""},{"$f":"IF(貴校データ入力シート!Z28=\"\",\"\",貴校データ入力シート!Z28)","v":""},{"$f":"IF(貴校データ入力シート!AA28=\"\",\"\",貴校データ入力シート!AA28)","v":""},{"$f":"IF(貴校データ入力シート!AB28=\"\",\"\",貴校データ入力シート!AB28)","v":""},{"$f":"SUM(K25:L25)","v":0}]
[null,null,null,null,null,null,null,null,null,null,{"$f":"IF(貴校データ入力シート!G29=\"\",\"\",貴校データ入力シート!G29)","v":""},{"$f":"IF(貴校データ入力シート!H29=\"\",\"\",貴校データ入力シート!H29)","v":""},{"$f":"IF(貴校データ入力シート!I29=\"\",\"\",貴校データ入力シート!I29)","v":""},{"$f":"IF(貴校データ入力シート!J29=\"\",\"\",貴校データ入力シート!J29)","v":""},{"$f":"IF(貴校データ入力シート!K29=\"\",\"\",貴校データ入力シート!K29)","v":""},{"$f":"IF(貴校データ入力シート!L29=\"\",\"\",貴校データ入力シート!L29)","v":""},{"$f":"IF(貴校データ入力シート!M29=\"\",\"\",貴校データ入力シート!M29)","v":""},{"$f":"IF(貴校データ入力シート!N29=\"\",\"\",貴校データ入力シート!N29)","v":""},{"$f":"IF(貴校データ入力シート!O29=\"\",\"\",貴校データ入力シート!O29)","v":""},{"$f":"IF(貴校データ入力シート!P29=\"\",\"\",貴校データ入力シート!P29)","v":""},{"$f":"IF(貴校データ入力シート!Q29=\"\",\"\",貴校データ入力シート!Q29)","v":""},{"$f":"IF(貴校データ入力シート!R29=\"\",\"\",貴校データ入力シート!R29)","v":""},{"$f":"IF(貴校データ入力シート!S29=\"\",\"\",貴校データ入力シート!S29)","v":""},{"$f":"IF(貴校データ入力シート!T29=\"\",\"\",貴校データ入力シート!T29)","v":""},{"$f":"IF(貴校データ入力シート!U29=\"\",\"\",貴校データ入力シート!U29)","v":""},{"$f":"IF(貴校データ入力シート!V29=\"\",\"\",貴校データ入力シート!V29)","v":""},{"$f":"IF(貴校データ入力シート!W29=\"\",\"\",貴校データ入力シート!W29)","v":""},{"$f":"IF(貴校データ入力シート!X29=\"\",\"\",貴校データ入力シート!X29)","v":""},{"$f":"IF(貴校データ入力シート!Y29=\"\",\"\",貴校データ入力シート!Y29)","v":""},{"$f":"IF(貴校データ入力シート!Z29=\"\",\"\",貴校データ入力シート!Z29)","v":""},{"$f":"IF(貴校データ入力シート!AA29=\"\",\"\",貴校データ入力シート!AA29)","v":""},{"$f":"IF(貴校データ入力シート!AB29=\"\",\"\",貴校データ入力シート!AB29)","v":""},null,{"$f":"SUM(K26:L26)","v":0}]
[null,null,null,null,null,null,null,null,null,null,{"$f":"IF(貴校データ入力シート!G30=\"\",\"\",貴校データ入力シート!G30)","v":""},{"$f":"IF(貴校データ入力シート!H30=\"\",\"\",貴校データ入力シート!H30)","v":""},{"$f":"IF(貴校データ入力シート!I30=\"\",\"\",貴校データ入力シート!I30)","v":""},{"$f":"IF(貴校データ入力シート!J30=\"\",\"\",貴校データ入力シート!J30)","v":""},{"$f":"IF(貴校データ入力シート!K30=\"\",\"\",貴校データ入力シート!K30)","v":""},{"$f":"IF(貴校データ入力シート!L30=\"\",\"\",貴校データ入力シート!L30)","v":""},{"$f":"IF(貴校データ入力シート!M30=\"\",\"\",貴校データ入力シート!M30)","v":""},{"$f":"IF(貴校データ入力シート!N30=\"\",\"\",貴校データ入力シート!N30)","v":""},{"$f":"IF(貴校データ入力シート!O30=\"\",\"\",貴校データ入力シート!O30)","v":""},{"$f":"IF(貴校データ入力シート!P30=\"\",\"\",貴校データ入力シート!P30)","v":""},{"$f":"IF(貴校データ入力シート!Q30=\"\",\"\",貴校データ入力シート!Q30)","v":""},{"$f":"IF(貴校データ入力シート!R30=\"\",\"\",貴校データ入力シート!R30)","v":""},{"$f":"IF(貴校データ入力シート!S30=\"\",\"\",貴校データ入力シート!S30)","v":""},{"$f":"IF(貴校データ入力シート!T30=\"\",\"\",貴校データ入力シート!T30)","v":""},{"$f":"IF(貴校データ入力シート!U30=\"\",\"\",貴校データ入力シート!U30)","v":""},{"$f":"IF(貴校データ入力シート!V30=\"\",\"\",貴校データ入力シート!V30)","v":""},{"$f":"IF(貴校データ入力シート!W30=\"\",\"\",貴校データ入力シート!W30)","v":""},{"$f":"IF(貴校データ入力シート!X30=\"\",\"\",貴校データ入力シート!X30)","v":""},{"$f":"IF(貴校データ入力シート!Y30=\"\",\"\",貴校データ入力シート!Y30)","v":""},{"$f":"IF(貴校データ入力シート!Z30=\"\",\"\",貴校データ入力シート!Z30)","v":""},{"$f":"IF(貴校データ入力シート!AA30=\"\",\"\",貴校データ入力シート!AA30)","v":""},{"$f":"IF(貴校データ入力シート!AB30=\"\",\"\",貴校データ入力シート!AB30)","v":""},null,null,{"$f":"SUM(K27:L27)","v":0}]
[5,"（５）",{"$f":"IF(貴校データ入力シート!C31=\"\",\"\",貴校データ入力シート!C31)","v":"あなたの家では主に何語で話していますか(日本語の割合)"},null,null,null,null,null,null,null,{"$f":"IF(貴校データ入力シート!G31=\"\",\"\",貴校データ入力シート!G31)","v":""},{"$f":"IF(貴校データ入力シート!H31=\"\",\"\",貴校データ入力シート!H31)","v":""},{"$f":"IF(貴校データ入力シート!I31=\"\",\"\",貴校データ入力シート!I31)","v":""},{"$f":"IF(貴校データ入力シート!J31=\"\",\"\",貴校データ入力シート!J31)","v":""},{"$f":"IF(貴校データ入力シート!K31=\"\",\"\",貴校データ入力シート!K31)","v":""},{"$f":"IF(貴校データ入力シート!L31=\"\",\"\",貴校データ入力シート!L31)","v":""},{"$f":"IF(貴校データ入力シート!M31=\"\",\"\",貴校データ入力シート!M31)","v":""},{"$f":"IF(貴校データ入力シート!N31=\"\",\"\",貴校データ入力シート!N31)","v":""},{"$f":"IF(貴校データ入力シート!O31=\"\",\"\",貴校データ入力シート!O31)","v":""},{"$f":"IF(貴校データ入力シート!P31=\"\",\"\",貴校データ入力シート!P31)","v":""},{"$f":"IF(貴校データ入力シート!Q31=\"\",\"\",貴校データ入力シート!Q31)","v":""},{"$f":"IF(貴校データ入力シート!R31=\"\",\"\",貴校データ入力シート!R31)","v":""},{"$f":"IF(貴校データ入力シート!S31=\"\",\"\",貴校データ入力シート!S31)","v":""},{"$f":"IF(貴校データ入力シート!T31=\"\",\"\",貴校データ入力シート!T31)","v":""},{"$f":"IF(貴校データ入力シート!U31=\"\",\"\",貴校データ入力シート!U31)","v":""},{"$f":"IF(貴校データ入力シート!V31=\"\",\"\",貴校データ入力シート!V31)","v":""},{"$f":"IF(貴校データ入力シート!W31=\"\",\"\",貴校データ入力シート!W31)","v":""},{"$f":"IF(貴校データ入力シート!X31=\"\",\"\",貴校データ入力シート!X31)","v":""},{"$f":"IF(貴校データ入力シート!Y31=\"\",\"\",貴校データ入力シート!Y31)","v":""},{"$f":"IF(貴校データ入力シート!Z31=\"\",\"\",貴校データ入力シート!Z31)","v":""},{"$f":"IF(貴校データ入力シート!AA31=\"\",\"\",貴校データ入力シート!AA31)","v":""},{"$f":"IF(貴校データ入力シート!AB31=\"\",\"\",貴校データ入力シート!AB31)","v":""},null,null,null,{"$f":"AG29","v":0},{"$f":"AH30","v":0},{"$f":"AI31","v":0},1]
[null,null,null,null,null,null,null,null,null,null,{"$f":"IF(貴校データ入力シート!G32=\"\",\"\",貴校データ入力シート!G32)","v":""},{"$f":"IF(貴校データ入力シート!H32=\"\",\"\",貴校データ入力シート!H32)","v":""},{"$f":"IF(貴校データ入力シート!I32=\"\",\"\",貴校データ入力シート!I32)","v":""},{"$f":"IF(貴校データ入力シート!J32=\"\",\"\",貴校データ入力シート!J32)","v":""},{"$f":"IF(貴校データ入力シート!K32=\"\",\"\",貴校データ入力シート!K32)","v":""},{"$f":"IF(貴校データ入力シート!L32=\"\",\"\",貴校データ入力シート!L32)","v":""},{"$f":"IF(貴校データ入力シート!M32=\"\",\"\",貴校データ入力シート!M32)","v":""},{"$f":"IF(貴校データ入力シート!N32=\"\",\"\",貴校データ入力シート!N32)","v":""},{"$f":"IF(貴校データ入力シート!O32=\"\",\"\",貴校データ入力シート!O32)","v":""},{"$f":"IF(貴校データ入力シート!P32=\"\",\"\",貴校データ入力シート!P32)","v":""},{"$f":"IF(貴校データ入力シート!Q32=\"\",\"\",貴校データ入力シート!Q32)","v":""},{"$f":"IF(貴校データ入力シート!R32=\"\",\"\",貴校データ入力シート!R32)","v":""},{"$f":"IF(貴校データ入力シート!S32=\"\",\"\",貴校データ入力シート!S32)","v":""},{"$f":"IF(貴校データ入力シート!T32=\"\",\"\",貴校データ入力シート!T32)","v":""},{"$f":"IF(貴校データ入力シート!U32=\"\",\"\",貴校データ入力シート!U32)","v":""},{"$f":"IF(貴校データ入力シート!V32=\"\",\"\",貴校データ入力シート!V32)","v":""},{"$f":"IF(貴校データ入力シート!W32=\"\",\"\",貴校データ入力シート!W32)","v":""},{"$f":"IF(貴校データ入力シート!X32=\"\",\"\",貴校データ入力シート!X32)","v":""},{"$f":"IF(貴校データ入力シート!Y32=\"\",\"\",貴校データ入力シート!Y32)","v":""},{"$f":"IF(貴校データ入力シート!Z32=\"\",\"\",貴校データ入力シート!Z32)","v":""},{"$f":"IF(貴校データ入力シート!AA32=\"\",\"\",貴校データ入力シート!AA32)","v":""},{"$f":"IF(貴校データ入力シート!AB32=\"\",\"\",貴校データ入力シート!AB32)","v":""},{"$f":"SUM(K29)","v":0}]
[null,null,null,null,null,null,null,null,null,null,{"$f":"IF(貴校データ入力シート!G33=\"\",\"\",貴校データ入力シート!G33)","v":""},{"$f":"IF(貴校データ入力シート!H33=\"\",\"\",貴校データ入力シート!H33)","v":""},{"$f":"IF(貴校データ入力シート!I33=\"\",\"\",貴校データ入力シート!I33)","v":""},{"$f":"IF(貴校データ入力シート!J33=\"\",\"\",貴校データ入力シート!J33)","v":""},{"$f":"IF(貴校データ入力シート!K33=\"\",\"\",貴校データ入力シート!K33)","v":""},{"$f":"IF(貴校データ入力シート!L33=\"\",\"\",貴校データ入力シート!L33)","v":""},{"$f":"IF(貴校データ入力シート!M33=\"\",\"\",貴校データ入力シート!M33)","v":""},{"$f":"IF(貴校データ入力シート!N33=\"\",\"\",貴校データ入力シート!N33)","v":""},{"$f":"IF(貴校データ入力シート!O33=\"\",\"\",貴校データ入力シート!O33)","v":""},{"$f":"IF(貴校データ入力シート!P33=\"\",\"\",貴校データ入力シート!P33)","v":""},{"$f":"IF(貴校データ入力シート!Q33=\"\",\"\",貴校データ入力シート!Q33)","v":""},{"$f":"IF(貴校データ入力シート!R33=\"\",\"\",貴校データ入力シート!R33)","v":""},{"$f":"IF(貴校データ入力シート!S33=\"\",\"\",貴校データ入力シート!S33)","v":""},{"$f":"IF(貴校データ入力シート!T33=\"\",\"\",貴校データ入力シート!T33)","v":""},{"$f":"IF(貴校データ入力シート!U33=\"\",\"\",貴校データ入力シート!U33)","v":""},{"$f":"IF(貴校データ入力シート!V33=\"\",\"\",貴校データ入力シート!V33)","v":""},{"$f":"IF(貴校データ入力シート!W33=\"\",\"\",貴校データ入力シート!W33)","v":""},{"$f":"IF(貴校データ入力シート!X33=\"\",\"\",貴校データ入力シート!X33)","v":""},{"$f":"IF(貴校データ入力シート!Y33=\"\",\"\",貴校データ入力シート!Y33)","v":""},{"$f":"IF(貴校データ入力シート!Z33=\"\",\"\",貴校データ入力シート!Z33)","v":""},{"$f":"IF(貴校データ入力シート!AA33=\"\",\"\",貴校データ入力シート!AA33)","v":""},{"$f":"IF(貴校データ入力シート!AB33=\"\",\"\",貴校データ入力シート!AB33)","v":""},null,{"$f":"SUM(K30)","v":0}]
[null,null,null,null,null,null,null,null,null,null,{"$f":"IF(貴校データ入力シート!G34=\"\",\"\",貴校データ入力シート!G34)","v":""},{"$f":"IF(貴校データ入力シート!H34=\"\",\"\",貴校データ入力シート!H34)","v":""},{"$f":"IF(貴校データ入力シート!I34=\"\",\"\",貴校データ入力シート!I34)","v":""},{"$f":"IF(貴校データ入力シート!J34=\"\",\"\",貴校データ入力シート!J34)","v":""},{"$f":"IF(貴校データ入力シート!K34=\"\",\"\",貴校データ入力シート!K34)","v":""},{"$f":"IF(貴校データ入力シート!L34=\"\",\"\",貴校データ入力シート!L34)","v":""},{"$f":"IF(貴校データ入力シート!M34=\"\",\"\",貴校データ入力シート!M34)","v":""},{"$f":"IF(貴校データ入力シート!N34=\"\",\"\",貴校データ入力シート!N34)","v":""},{"$f":"IF(貴校データ入力シート!O34=\"\",\"\",貴校データ入力シート!O34)","v":""},{"$f":"IF(貴校データ入力シート!P34=\"\",\"\",貴校データ入力シート!P34)","v":""},{"$f":"IF(貴校データ入力シート!Q34=\"\",\"\",貴校データ入力シート!Q34)","v":""},{"$f":"IF(貴校データ入力シート!R34=\"\",\"\",貴校データ入力シート!R34)","v":""},{"$f":"IF(貴校データ入力シート!S34=\"\",\"\",貴校データ入力シート!S34)","v":""},{"$f":"IF(貴校データ入力シート!T34=\"\",\"\",貴校データ入力シート!T34)","v":""},{"$f":"IF(貴校データ入力シート!U34=\"\",\"\",貴校データ入力シート!U34)","v":""},{"$f":"IF(貴校データ入力シート!V34=\"\",\"\",貴校データ入力シート!V34)","v":""},{"$f":"IF(貴校データ入力シート!W34=\"\",\"\",貴校データ入力シート!W34)","v":""},{"$f":"IF(貴校データ入力シート!X34=\"\",\"\",貴校データ入力シート!X34)","v":""},{"$f":"IF(貴校データ入力シート!Y34=\"\",\"\",貴校データ入力シート!Y34)","v":""},{"$f":"IF(貴校データ入力シート!Z34=\"\",\"\",貴校データ入力シート!Z34)","v":""},{"$f":"IF(貴校データ入力シート!AA34=\"\",\"\",貴校データ入力シート!AA34)","v":""},{"$f":"IF(貴校データ入力シート!AB34=\"\",\"\",貴校データ入力シート!AB34)","v":""},null,null,{"$f":"SUM(K31)","v":0}]
[6,"（６）",{"$f":"IF(貴校データ入力シート!C35=\"\",\"\",貴校データ入力シート!C35)","v":"学校の勉強のことについて、あなたの親や家族は、どれくらいあなたと話しますか"},null,null,null,null,null,null,null,{"$f":"IF(貴校データ入力シート!G35=\"\",\"\",貴校データ入力シート!G35)","v":""},{"$f":"IF(貴校データ入力シート!H35=\"\",\"\",貴校データ入力シート!H35)","v":""},{"$f":"IF(貴校データ入力シート!I35=\"\",\"\",貴校データ入力シート!I35)","v":""},{"$f":"IF(貴校データ入力シート!J35=\"\",\"\",貴校データ入力シート!J35)","v":""},{"$f":"IF(貴校データ入力シート!K35=\"\",\"\",貴校データ入力シート!K35)","v":""},{"$f":"IF(貴校データ入力シート!L35=\"\",\"\",貴校データ入力シート!L35)","v":""},{"$f":"IF(貴校データ入力シート!M35=\"\",\"\",貴校データ入力シート!M35)","v":""},{"$f":"IF(貴校データ入力シート!N35=\"\",\"\",貴校データ入力シート!N35)","v":""},{"$f":"IF(貴校データ入力シート!O35=\"\",\"\",貴校データ入力シート!O35)","v":""},{"$f":"IF(貴校データ入力シート!P35=\"\",\"\",貴校データ入力シート!P35)","v":""},{"$f":"IF(貴校データ入力シート!Q35=\"\",\"\",貴校データ入力シート!Q35)","v":""},{"$f":"IF(貴校データ入力シート!R35=\"\",\"\",貴校データ入力シート!R35)","v":""},{"$f":"IF(貴校データ入力シート!S35=\"\",\"\",貴校データ入力シート!S35)","v":""},{"$f":"IF(貴校データ入力シート!T35=\"\",\"\",貴校データ入力シート!T35)","v":""},{"$f":"IF(貴校データ入力シート!U35=\"\",\"\",貴校データ入力シート!U35)","v":""},{"$f":"IF(貴校データ入力シート!V35=\"\",\"\",貴校データ入力シート!V35)","v":""},{"$f":"IF(貴校データ入力シート!W35=\"\",\"\",貴校データ入力シート!W35)","v":""},{"$f":"IF(貴校データ入力シート!X35=\"\",\"\",貴校データ入力シート!X35)","v":""},{"$f":"IF(貴校データ入力シート!Y35=\"\",\"\",貴校データ入力シート!Y35)","v":""},{"$f":"IF(貴校データ入力シート!Z35=\"\",\"\",貴校データ入力シート!Z35)","v":""},{"$f":"IF(貴校データ入力シート!AA35=\"\",\"\",貴校データ入力シート!AA35)","v":""},{"$f":"IF(貴校データ入力シート!AB35=\"\",\"\",貴校データ入力シート!AB35)","v":""},null,null,null,{"$f":"AG33","v":0},{"$f":"AH34","v":0},{"$f":"AI35","v":0},1]
[null,null,null,null,null,null,null,null,null,null,{"$f":"IF(貴校データ入力シート!G36=\"\",\"\",貴校データ入力シート!G36)","v":""},{"$f":"IF(貴校データ入力シート!H36=\"\",\"\",貴校データ入力シート!H36)","v":""},{"$f":"IF(貴校データ入力シート!I36=\"\",\"\",貴校データ入力シート!I36)","v":""},{"$f":"IF(貴校データ入力シート!J36=\"\",\"\",貴校データ入力シート!J36)","v":""},{"$f":"IF(貴校データ入力シート!K36=\"\",\"\",貴校データ入力シート!K36)","v":""},{"$f":"IF(貴校データ入力シート!L36=\"\",\"\",貴校データ入力シート!L36)","v":""},{"$f":"IF(貴校データ入力シート!M36=\"\",\"\",貴校データ入力シート!M36)","v":""},{"$f":"IF(貴校データ入力シート!N36=\"\",\"\",貴校データ入力シート!N36)","v":""},{"$f":"IF(貴校データ入力シート!O36=\"\",\"\",貴校データ入力シート!O36)","v":""},{"$f":"IF(貴校データ入力シート!P36=\"\",\"\",貴校データ入力シート!P36)","v":""},{"$f":"IF(貴校データ入力シート!Q36=\"\",\"\",貴校データ入力シート!Q36)","v":""},{"$f":"IF(貴校データ入力シート!R36=\"\",\"\",貴校データ入力シート!R36)","v":""},{"$f":"IF(貴校データ入力シート!S36=\"\",\"\",貴校データ入力シート!S36)","v":""},{"$f":"IF(貴校データ入力シート!T36=\"\",\"\",貴校データ入力シート!T36)","v":""},{"$f":"IF(貴校データ入力シート!U36=\"\",\"\",貴校データ入力シート!U36)","v":""},{"$f":"IF(貴校データ入力シート!V36=\"\",\"\",貴校データ入力シート!V36)","v":""},{"$f":"IF(貴校データ入力シート!W36=\"\",\"\",貴校データ入力シート!W36)","v":""},{"$f":"IF(貴校データ入力シート!X36=\"\",\"\",貴校データ入力シート!X36)","v":""},{"$f":"IF(貴校データ入力シート!Y36=\"\",\"\",貴校データ入力シート!Y36)","v":""},{"$f":"IF(貴校データ入力シート!Z36=\"\",\"\",貴校データ入力シート!Z36)","v":""},{"$f":"IF(貴校データ入力シート!AA36=\"\",\"\",貴校データ入力シート!AA36)","v":""},{"$f":"IF(貴校データ入力シート!AB36=\"\",\"\",貴校データ入力シート!AB36)","v":""},{"$f":"SUM(K33:L33)","v":0}]
[null,null,null,null,null,null,null,null,null,null,{"$f":"IF(貴校データ入力シート!G37=\"\",\"\",貴校データ入力シート!G37)","v":""},{"$f":"IF(貴校データ入力シート!H37=\"\",\"\",貴校データ入力シート!H37)","v":""},{"$f":"IF(貴校データ入力シート!I37=\"\",\"\",貴校データ入力シート!I37)","v":""},{"$f":"IF(貴校データ入力シート!J37=\"\",\"\",貴校データ入力シート!J37)","v":""},{"$f":"IF(貴校データ入力シート!K37=\"\",\"\",貴校データ入力シート!K37)","v":""},{"$f":"IF(貴校データ入力シート!L37=\"\",\"\",貴校データ入力シート!L37)","v":""},{"$f":"IF(貴校データ入力シート!M37=\"\",\"\",貴校データ入力シート!M37)","v":""},{"$f":"IF(貴校データ入力シート!N37=\"\",\"\",貴校データ入力シート!N37)","v":""},{"$f":"IF(貴校データ入力シート!O37=\"\",\"\",貴校データ入力シート!O37)","v":""},{"$f":"IF(貴校データ入力シート!P37=\"\",\"\",貴校データ入力シート!P37)","v":""},{"$f":"IF(貴校データ入力シート!Q37=\"\",\"\",貴校データ入力シート!Q37)","v":""},{"$f":"IF(貴校データ入力シート!R37=\"\",\"\",貴校データ入力シート!R37)","v":""},{"$f":"IF(貴校データ入力シート!S37=\"\",\"\",貴校データ入力シート!S37)","v":""},{"$f":"IF(貴校データ入力シート!T37=\"\",\"\",貴校データ入力シート!T37)","v":""},{"$f":"IF(貴校データ入力シート!U37=\"\",\"\",貴校データ入力シート!U37)","v":""},{"$f":"IF(貴校データ入力シート!V37=\"\",\"\",貴校データ入力シート!V37)","v":""},{"$f":"IF(貴校データ入力シート!W37=\"\",\"\",貴校データ入力シート!W37)","v":""},{"$f":"IF(貴校データ入力シート!X37=\"\",\"\",貴校データ入力シート!X37)","v":""},{"$f":"IF(貴校データ入力シート!Y37=\"\",\"\",貴校データ入力シート!Y37)","v":""},{"$f":"IF(貴校データ入力シート!Z37=\"\",\"\",貴校データ入力シート!Z37)","v":""},{"$f":"IF(貴校データ入力シート!AA37=\"\",\"\",貴校データ入力シート!AA37)","v":""},{"$f":"IF(貴校データ入力シート!AB37=\"\",\"\",貴校データ入力シート!AB37)","v":""},null,{"$f":"SUM(K34:L34)","v":0}]
[null,null,null,null,null,null,null,null,null,null,{"$f":"IF(貴校データ入力シート!G38=\"\",\"\",貴校データ入力シート!G38)","v":""},{"$f":"IF(貴校データ入力シート!H38=\"\",\"\",貴校データ入力シート!H38)","v":""},{"$f":"IF(貴校データ入力シート!I38=\"\",\"\",貴校データ入力シート!I38)","v":""},{"$f":"IF(貴校データ入力シート!J38=\"\",\"\",貴校データ入力シート!J38)","v":""},{"$f":"IF(貴校データ入力シート!K38=\"\",\"\",貴校データ入力シート!K38)","v":""},{"$f":"IF(貴校データ入力シート!L38=\"\",\"\",貴校データ入力シート!L38)","v":""},{"$f":"IF(貴校データ入力シート!M38=\"\",\"\",貴校データ入力シート!M38)","v":""},{"$f":"IF(貴校データ入力シート!N38=\"\",\"\",貴校データ入力シート!N38)","v":""},{"$f":"IF(貴校データ入力シート!O38=\"\",\"\",貴校データ入力シート!O38)","v":""},{"$f":"IF(貴校データ入力シート!P38=\"\",\"\",貴校データ入力シート!P38)","v":""},{"$f":"IF(貴校データ入力シート!Q38=\"\",\"\",貴校データ入力シート!Q38)","v":""},{"$f":"IF(貴校データ入力シート!R38=\"\",\"\",貴校データ入力シート!R38)","v":""},{"$f":"IF(貴校データ入力シート!S38=\"\",\"\",貴校データ入力シート!S38)","v":""},{"$f":"IF(貴校データ入力シート!T38=\"\",\"\",貴校データ入力シート!T38)","v":""},{"$f":"IF(貴校データ入力シート!U38=\"\",\"\",貴校データ入力シート!U38)","v":""},{"$f":"IF(貴校データ入力シート!V38=\"\",\"\",貴校データ入力シート!V38)","v":""},{"$f":"IF(貴校データ入力シート!W38=\"\",\"\",貴校データ入力シート!W38)","v":""},{"$f":"IF(貴校データ入力シート!X38=\"\",\"\",貴校データ入力シート!X38)","v":""},{"$f":"IF(貴校データ入力シート!Y38=\"\",\"\",貴校データ入力シート!Y38)","v":""},{"$f":"IF(貴校データ入力シート!Z38=\"\",\"\",貴校データ入力シート!Z38)","v":""},{"$f":"IF(貴校データ入力シート!AA38=\"\",\"\",貴校データ入力シート!AA38)","v":""},{"$f":"IF(貴校データ入力シート!AB38=\"\",\"\",貴校データ入力シート!AB38)","v":""},null,null,{"$f":"SUM(K35:L35)","v":0}]
[7,"（７）",{"$f":"IF(貴校データ入力シート!C39=\"\",\"\",貴校データ入力シート!C39)","v":"学校での悩みについて、あなたの親や家族は、どれくらいあなたと話しますか"},null,null,null,null,null,null,null,{"$f":"IF(貴校データ入力シート!G39=\"\",\"\",貴校データ入力シート!G39)","v":""},{"$f":"IF(貴校データ入力シート!H39=\"\",\"\",貴校データ入力シート!H39)","v":""},{"$f":"IF(貴校データ入力シート!I39=\"\",\"\",貴校データ入力シート!I39)","v":""},{"$f":"IF(貴校データ入力シート!J39=\"\",\"\",貴校データ入力シート!J39)","v":""},{"$f":"IF(貴校データ入力シート!K39=\"\",\"\",貴校データ入力シート!K39)","v":""},{"$f":"IF(貴校データ入力シート!L39=\"\",\"\",貴校データ入力シート!L39)","v":""},{"$f":"IF(貴校データ入力シート!M39=\"\",\"\",貴校データ入力シート!M39)","v":""},{"$f":"IF(貴校データ入力シート!N39=\"\",\"\",貴校データ入力シート!N39)","v":""},{"$f":"IF(貴校データ入力シート!O39=\"\",\"\",貴校データ入力シート!O39)","v":""},{"$f":"IF(貴校データ入力シート!P39=\"\",\"\",貴校データ入力シート!P39)","v":""},{"$f":"IF(貴校データ入力シート!Q39=\"\",\"\",貴校データ入力シート!Q39)","v":""},{"$f":"IF(貴校データ入力シート!R39=\"\",\"\",貴校データ入力シート!R39)","v":""},{"$f":"IF(貴校データ入力シート!S39=\"\",\"\",貴校データ入力シート!S39)","v":""},{"$f":"IF(貴校データ入力シート!T39=\"\",\"\",貴校データ入力シート!T39)","v":""},{"$f":"IF(貴校データ入力シート!U39=\"\",\"\",貴校データ入力シート!U39)","v":""},{"$f":"IF(貴校データ入力シート!V39=\"\",\"\",貴校データ入力シート!V39)","v":""},{"$f":"IF(貴校データ入力シート!W39=\"\",\"\",貴校データ入力シート!W39)","v":""},{"$f":"IF(貴校データ入力シート!X39=\"\",\"\",貴校データ入力シート!X39)","v":""},{"$f":"IF(貴校データ入力シート!Y39=\"\",\"\",貴校データ入力シート!Y39)","v":""},{"$f":"IF(貴校データ入力シート!Z39=\"\",\"\",貴校データ入力シート!Z39)","v":""},{"$f":"IF(貴校データ入力シート!AA39=\"\",\"\",貴校データ入力シート!AA39)","v":""},{"$f":"IF(貴校データ入力シート!AB39=\"\",\"\",貴校データ入力シート!AB39)","v":""},null,null,null,{"$f":"AG37","v":0},{"$f":"AH38","v":0},{"$f":"AI39","v":0},1]
[null,null,null,null,null,null,null,null,null,null,{"$f":"IF(貴校データ入力シート!G40=\"\",\"\",貴校データ入力シート!G40)","v":""},{"$f":"IF(貴校データ入力シート!H40=\"\",\"\",貴校データ入力シート!H40)","v":""},{"$f":"IF(貴校データ入力シート!I40=\"\",\"\",貴校データ入力シート!I40)","v":""},{"$f":"IF(貴校データ入力シート!J40=\"\",\"\",貴校データ入力シート!J40)","v":""},{"$f":"IF(貴校データ入力シート!K40=\"\",\"\",貴校データ入力シート!K40)","v":""},{"$f":"IF(貴校データ入力シート!L40=\"\",\"\",貴校データ入力シート!L40)","v":""},{"$f":"IF(貴校データ入力シート!M40=\"\",\"\",貴校データ入力シート!M40)","v":""},{"$f":"IF(貴校データ入力シート!N40=\"\",\"\",貴校データ入力シート!N40)","v":""},{"$f":"IF(貴校データ入力シート!O40=\"\",\"\",貴校データ入力シート!O40)","v":""},{"$f":"IF(貴校データ入力シート!P40=\"\",\"\",貴校データ入力シート!P40)","v":""},{"$f":"IF(貴校データ入力シート!Q40=\"\",\"\",貴校データ入力シート!Q40)","v":""},{"$f":"IF(貴校データ入力シート!R40=\"\",\"\",貴校データ入力シート!R40)","v":""},{"$f":"IF(貴校データ入力シート!S40=\"\",\"\",貴校データ入力シート!S40)","v":""},{"$f":"IF(貴校データ入力シート!T40=\"\",\"\",貴校データ入力シート!T40)","v":""},{"$f":"IF(貴校データ入力シート!U40=\"\",\"\",貴校データ入力シート!U40)","v":""},{"$f":"IF(貴校データ入力シート!V40=\"\",\"\",貴校データ入力シート!V40)","v":""},{"$f":"IF(貴校データ入力シート!W40=\"\",\"\",貴校データ入力シート!W40)","v":""},{"$f":"IF(貴校データ入力シート!X40=\"\",\"\",貴校データ入力シート!X40)","v":""},{"$f":"IF(貴校データ入力シート!Y40=\"\",\"\",貴校データ入力シート!Y40)","v":""},{"$f":"IF(貴校データ入力シート!Z40=\"\",\"\",貴校データ入力シート!Z40)","v":""},{"$f":"IF(貴校データ入力シート!AA40=\"\",\"\",貴校データ入力シート!AA40)","v":""},{"$f":"IF(貴校データ入力シート!AB40=\"\",\"\",貴校データ入力シート!AB40)","v":""},{"$f":"SUM(K37:L37)","v":0}]
[null,null,null,null,null,null,null,null,null,null,{"$f":"IF(貴校データ入力シート!G41=\"\",\"\",貴校データ入力シート!G41)","v":""},{"$f":"IF(貴校データ入力シート!H41=\"\",\"\",貴校データ入力シート!H41)","v":""},{"$f":"IF(貴校データ入力シート!I41=\"\",\"\",貴校データ入力シート!I41)","v":""},{"$f":"IF(貴校データ入力シート!J41=\"\",\"\",貴校データ入力シート!J41)","v":""},{"$f":"IF(貴校データ入力シート!K41=\"\",\"\",貴校データ入力シート!K41)","v":""},{"$f":"IF(貴校データ入力シート!L41=\"\",\"\",貴校データ入力シート!L41)","v":""},{"$f":"IF(貴校データ入力シート!M41=\"\",\"\",貴校データ入力シート!M41)","v":""},{"$f":"IF(貴校データ入力シート!N41=\"\",\"\",貴校データ入力シート!N41)","v":""},{"$f":"IF(貴校データ入力シート!O41=\"\",\"\",貴校データ入力シート!O41)","v":""},{"$f":"IF(貴校データ入力シート!P41=\"\",\"\",貴校データ入力シート!P41)","v":""},{"$f":"IF(貴校データ入力シート!Q41=\"\",\"\",貴校データ入力シート!Q41)","v":""},{"$f":"IF(貴校データ入力シート!R41=\"\",\"\",貴校データ入力シート!R41)","v":""},{"$f":"IF(貴校データ入力シート!S41=\"\",\"\",貴校データ入力シート!S41)","v":""},{"$f":"IF(貴校データ入力シート!T41=\"\",\"\",貴校データ入力シート!T41)","v":""},{"$f":"IF(貴校データ入力シート!U41=\"\",\"\",貴校データ入力シート!U41)","v":""},{"$f":"IF(貴校データ入力シート!V41=\"\",\"\",貴校データ入力シート!V41)","v":""},{"$f":"IF(貴校データ入力シート!W41=\"\",\"\",貴校データ入力シート!W41)","v":""},{"$f":"IF(貴校データ入力シート!X41=\"\",\"\",貴校データ入力シート!X41)","v":""},{"$f":"IF(貴校データ入力シート!Y41=\"\",\"\",貴校データ入力シート!Y41)","v":""},{"$f":"IF(貴校データ入力シート!Z41=\"\",\"\",貴校データ入力シート!Z41)","v":""},{"$f":"IF(貴校データ入力シート!AA41=\"\",\"\",貴校データ入力シート!AA41)","v":""},{"$f":"IF(貴校データ入力シート!AB41=\"\",\"\",貴校データ入力シート!AB41)","v":""},null,{"$f":"SUM(K38:L38)","v":0}]
[null,null,null,null,null,null,null,null,null,null,{"$f":"IF(貴校データ入力シート!G42=\"\",\"\",貴校データ入力シート!G42)","v":""},{"$f":"IF(貴校データ入力シート!H42=\"\",\"\",貴校データ入力シート!H42)","v":""},{"$f":"IF(貴校データ入力シート!I42=\"\",\"\",貴校データ入力シート!I42)","v":""},{"$f":"IF(貴校データ入力シート!J42=\"\",\"\",貴校データ入力シート!J42)","v":""},{"$f":"IF(貴校データ入力シート!K42=\"\",\"\",貴校データ入力シート!K42)","v":""},{"$f":"IF(貴校データ入力シート!L42=\"\",\"\",貴校データ入力シート!L42)","v":""},{"$f":"IF(貴校データ入力シート!M42=\"\",\"\",貴校データ入力シート!M42)","v":""},{"$f":"IF(貴校データ入力シート!N42=\"\",\"\",貴校データ入力シート!N42)","v":""},{"$f":"IF(貴校データ入力シート!O42=\"\",\"\",貴校データ入力シート!O42)","v":""},{"$f":"IF(貴校データ入力シート!P42=\"\",\"\",貴校データ入力シート!P42)","v":""},{"$f":"IF(貴校データ入力シート!Q42=\"\",\"\",貴校データ入力シート!Q42)","v":""},{"$f":"IF(貴校データ入力シート!R42=\"\",\"\",貴校データ入力シート!R42)","v":""},{"$f":"IF(貴校データ入力シート!S42=\"\",\"\",貴校データ入力シート!S42)","v":""},{"$f":"IF(貴校データ入力シート!T42=\"\",\"\",貴校データ入力シート!T42)","v":""},{"$f":"IF(貴校データ入力シート!U42=\"\",\"\",貴校データ入力シート!U42)","v":""},{"$f":"IF(貴校データ入力シート!V42=\"\",\"\",貴校データ入力シート!V42)","v":""},{"$f":"IF(貴校データ入力シート!W42=\"\",\"\",貴校データ入力シート!W42)","v":""},{"$f":"IF(貴校データ入力シート!X42=\"\",\"\",貴校データ入力シート!X42)","v":""},{"$f":"IF(貴校データ入力シート!Y42=\"\",\"\",貴校データ入力シート!Y42)","v":""},{"$f":"IF(貴校データ入力シート!Z42=\"\",\"\",貴校データ入力シート!Z42)","v":""},{"$f":"IF(貴校データ入力シート!AA42=\"\",\"\",貴校データ入力シート!AA42)","v":""},{"$f":"IF(貴校データ入力シート!AB42=\"\",\"\",貴校データ入力シート!AB42)","v":""},null,null,{"$f":"SUM(K39:L39)","v":0}]
[8,"（８）",{"$f":"IF(貴校データ入力シート!C43=\"\",\"\",貴校データ入力シート!C43)","v":"自分には、よいところがあると思いますか"},null,null,null,null,null,null,null,{"$f":"IF(貴校データ入力シート!G43=\"\",\"\",貴校データ入力シート!G43)","v":""},{"$f":"IF(貴校データ入力シート!H43=\"\",\"\",貴校データ入力シート!H43)","v":""},{"$f":"IF(貴校データ入力シート!I43=\"\",\"\",貴校データ入力シート!I43)","v":""},{"$f":"IF(貴校データ入力シート!J43=\"\",\"\",貴校データ入力シート!J43)","v":""},{"$f":"IF(貴校データ入力シート!K43=\"\",\"\",貴校データ入力シート!K43)","v":""},{"$f":"IF(貴校データ入力シート!L43=\"\",\"\",貴校データ入力シート!L43)","v":""},{"$f":"IF(貴校データ入力シート!M43=\"\",\"\",貴校データ入力シート!M43)","v":""},{"$f":"IF(貴校データ入力シート!N43=\"\",\"\",貴校データ入力シート!N43)","v":""},{"$f":"IF(貴校データ入力シート!O43=\"\",\"\",貴校データ入力シート!O43)","v":""},{"$f":"IF(貴校データ入力シート!P43=\"\",\"\",貴校データ入力シート!P43)","v":""},{"$f":"IF(貴校データ入力シート!Q43=\"\",\"\",貴校データ入力シート!Q43)","v":""},{"$f":"IF(貴校データ入力シート!R43=\"\",\"\",貴校データ入力シート!R43)","v":""},{"$f":"IF(貴校データ入力シート!S43=\"\",\"\",貴校データ入力シート!S43)","v":""},{"$f":"IF(貴校データ入力シート!T43=\"\",\"\",貴校データ入力シート!T43)","v":""},{"$f":"IF(貴校データ入力シート!U43=\"\",\"\",貴校データ入力シート!U43)","v":""},{"$f":"IF(貴校データ入力シート!V43=\"\",\"\",貴校データ入力シート!V43)","v":""},{"$f":"IF(貴校データ入力シート!W43=\"\",\"\",貴校データ入力シート!W43)","v":""},{"$f":"IF(貴校データ入力シート!X43=\"\",\"\",貴校データ入力シート!X43)","v":""},{"$f":"IF(貴校データ入力シート!Y43=\"\",\"\",貴校データ入力シート!Y43)","v":""},{"$f":"IF(貴校データ入力シート!Z43=\"\",\"\",貴校データ入力シート!Z43)","v":""},{"$f":"IF(貴校データ入力シート!AA43=\"\",\"\",貴校データ入力シート!AA43)","v":""},{"$f":"IF(貴校データ入力シート!AB43=\"\",\"\",貴校データ入力シート!AB43)","v":""},null,null,null,{"$f":"AG41","v":0},{"$f":"AH42","v":0},{"$f":"AI43","v":0}]
[null,null,null,null,null,null,null,null,null,null,{"$f":"IF(貴校データ入力シート!G44=\"\",\"\",貴校データ入力シート!G44)","v":""},{"$f":"IF(貴校データ入力シート!H44=\"\",\"\",貴校データ入力シート!H44)","v":""},{"$f":"IF(貴校データ入力シート!I44=\"\",\"\",貴校データ入力シート!I44)","v":""},{"$f":"IF(貴校データ入力シート!J44=\"\",\"\",貴校データ入力シート!J44)","v":""},{"$f":"IF(貴校データ入力シート!K44=\"\",\"\",貴校データ入力シート!K44)","v":""},{"$f":"IF(貴校データ入力シート!L44=\"\",\"\",貴校データ入力シート!L44)","v":""},{"$f":"IF(貴校データ入力シート!M44=\"\",\"\",貴校データ入力シート!M44)","v":""},{"$f":"IF(貴校データ入力シート!N44=\"\",\"\",貴校データ入力シート!N44)","v":""},{"$f":"IF(貴校データ入力シート!O44=\"\",\"\",貴校データ入力シート!O44)","v":""},{"$f":"IF(貴校データ入力シート!P44=\"\",\"\",貴校データ入力シート!P44)","v":""},{"$f":"IF(貴校データ入力シート!Q44=\"\",\"\",貴校データ入力シート!Q44)","v":""},{"$f":"IF(貴校データ入力シート!R44=\"\",\"\",貴校データ入力シート!R44)","v":""},{"$f":"IF(貴校データ入力シート!S44=\"\",\"\",貴校データ入力シート!S44)","v":""},{"$f":"IF(貴校データ入力シート!T44=\"\",\"\",貴校データ入力シート!T44)","v":""},{"$f":"IF(貴校データ入力シート!U44=\"\",\"\",貴校データ入力シート!U44)","v":""},{"$f":"IF(貴校データ入力シート!V44=\"\",\"\",貴校データ入力シート!V44)","v":""},{"$f":"IF(貴校データ入力シート!W44=\"\",\"\",貴校データ入力シート!W44)","v":""},{"$f":"IF(貴校データ入力シート!X44=\"\",\"\",貴校データ入力シート!X44)","v":""},{"$f":"IF(貴校データ入力シート!Y44=\"\",\"\",貴校データ入力シート!Y44)","v":""},{"$f":"IF(貴校データ入力シート!Z44=\"\",\"\",貴校データ入力シート!Z44)","v":""},{"$f":"IF(貴校データ入力シート!AA44=\"\",\"\",貴校データ入力シート!AA44)","v":""},{"$f":"IF(貴校データ入力シート!AB44=\"\",\"\",貴校データ入力シート!AB44)","v":""},{"$f":"SUM(K41:L41)","v":0}]
[null,null,null,null,null,null,null,null,null,null,{"$f":"IF(貴校データ入力シート!G45=\"\",\"\",貴校データ入力シート!G45)","v":""},{"$f":"IF(貴校データ入力シート!H45=\"\",\"\",貴校データ入力シート!H45)","v":""},{"$f":"IF(貴校データ入力シート!I45=\"\",\"\",貴校データ入力シート!I45)","v":""},{"$f":"IF(貴校データ入力シート!J45=\"\",\"\",貴校データ入力シート!J45)","v":""},{"$f":"IF(貴校データ入力シート!K45=\"\",\"\",貴校データ入力シート!K45)","v":""},{"$f":"IF(貴校データ入力シート!L45=\"\",\"\",貴校データ入力シート!L45)","v":""},{"$f":"IF(貴校データ入力シート!M45=\"\",\"\",貴校データ入力シート!M45)","v":""},{"$f":"IF(貴校データ入力シート!N45=\"\",\"\",貴校データ入力シート!N45)","v":""},{"$f":"IF(貴校データ入力シート!O45=\"\",\"\",貴校データ入力シート!O45)","v":""},{"$f":"IF(貴校データ入力シート!P45=\"\",\"\",貴校データ入力シート!P45)","v":""},{"$f":"IF(貴校データ入力シート!Q45=\"\",\"\",貴校データ入力シート!Q45)","v":""},{"$f":"IF(貴校データ入力シート!R45=\"\",\"\",貴校データ入力シート!R45)","v":""},{"$f":"IF(貴校データ入力シート!S45=\"\",\"\",貴校データ入力シート!S45)","v":""},{"$f":"IF(貴校データ入力シート!T45=\"\",\"\",貴校データ入力シート!T45)","v":""},{"$f":"IF(貴校データ入力シート!U45=\"\",\"\",貴校データ入力シート!U45)","v":""},{"$f":"IF(貴校データ入力シート!V45=\"\",\"\",貴校データ入力シート!V45)","v":""},{"$f":"IF(貴校データ入力シート!W45=\"\",\"\",貴校データ入力シート!W45)","v":""},{"$f":"IF(貴校データ入力シート!X45=\"\",\"\",貴校データ入力シート!X45)","v":""},{"$f":"IF(貴校データ入力シート!Y45=\"\",\"\",貴校データ入力シート!Y45)","v":""},{"$f":"IF(貴校データ入力シート!Z45=\"\",\"\",貴校データ入力シート!Z45)","v":""},{"$f":"IF(貴校データ入力シート!AA45=\"\",\"\",貴校データ入力シート!AA45)","v":""},{"$f":"IF(貴校データ入力シート!AB45=\"\",\"\",貴校データ入力シート!AB45)","v":""},null,{"$f":"SUM(K42:L42)","v":0}]
[null,null,null,null,null,null,null,null,null,null,{"$f":"IF(貴校データ入力シート!G46=\"\",\"\",貴校データ入力シート!G46)","v":""},{"$f":"IF(貴校データ入力シート!H46=\"\",\"\",貴校データ入力シート!H46)","v":""},{"$f":"IF(貴校データ入力シート!I46=\"\",\"\",貴校データ入力シート!I46)","v":""},{"$f":"IF(貴校データ入力シート!J46=\"\",\"\",貴校データ入力シート!J46)","v":""},{"$f":"IF(貴校データ入力シート!K46=\"\",\"\",貴校データ入力シート!K46)","v":""},{"$f":"IF(貴校データ入力シート!L46=\"\",\"\",貴校データ入力シート!L46)","v":""},{"$f":"IF(貴校データ入力シート!M46=\"\",\"\",貴校データ入力シート!M46)","v":""},{"$f":"IF(貴校データ入力シート!N46=\"\",\"\",貴校データ入力シート!N46)","v":""},{"$f":"IF(貴校データ入力シート!O46=\"\",\"\",貴校データ入力シート!O46)","v":""},{"$f":"IF(貴校データ入力シート!P46=\"\",\"\",貴校データ入力シート!P46)","v":""},{"$f":"IF(貴校データ入力シート!Q46=\"\",\"\",貴校データ入力シート!Q46)","v":""},{"$f":"IF(貴校データ入力シート!R46=\"\",\"\",貴校データ入力シート!R46)","v":""},{"$f":"IF(貴校データ入力シート!S46=\"\",\"\",貴校データ入力シート!S46)","v":""},{"$f":"IF(貴校データ入力シート!T46=\"\",\"\",貴校データ入力シート!T46)","v":""},{"$f":"IF(貴校データ入力シート!U46=\"\",\"\",貴校データ入力シート!U46)","v":""},{"$f":"IF(貴校データ入力シート!V46=\"\",\"\",貴校データ入力シート!V46)","v":""},{"$f":"IF(貴校データ入力シート!W46=\"\",\"\",貴校データ入力シート!W46)","v":""},{"$f":"IF(貴校データ入力シート!X46=\"\",\"\",貴校データ入力シート!X46)","v":""},{"$f":"IF(貴校データ入力シート!Y46=\"\",\"\",貴校データ入力シート!Y46)","v":""},{"$f":"IF(貴校データ入力シート!Z46=\"\",\"\",貴校データ入力シート!Z46)","v":""},{"$f":"IF(貴校データ入力シート!AA46=\"\",\"\",貴校データ入力シート!AA46)","v":""},{"$f":"IF(貴校データ入力シート!AB46=\"\",\"\",貴校データ入力シート!AB46)","v":""},null,null,{"$f":"SUM(K43:L43)","v":0}]
[9,"（９）",{"$f":"IF(貴校データ入力シート!C47=\"\",\"\",貴校データ入力シート!C47)","v":"先生は、あなたのよいところを認めてくれていると思いますか"},null,null,null,null,null,null,null,{"$f":"IF(貴校データ入力シート!G47=\"\",\"\",貴校データ入力シート!G47)","v":""},{"$f":"IF(貴校データ入力シート!H47=\"\",\"\",貴校データ入力シート!H47)","v":""},{"$f":"IF(貴校データ入力シート!I47=\"\",\"\",貴校データ入力シート!I47)","v":""},{"$f":"IF(貴校データ入力シート!J47=\"\",\"\",貴校データ入力シート!J47)","v":""},{"$f":"IF(貴校データ入力シート!K47=\"\",\"\",貴校データ入力シート!K47)","v":""},{"$f":"IF(貴校データ入力シート!L47=\"\",\"\",貴校データ入力シート!L47)","v":""},{"$f":"IF(貴校データ入力シート!M47=\"\",\"\",貴校データ入力シート!M47)","v":""},{"$f":"IF(貴校データ入力シート!N47=\"\",\"\",貴校データ入力シート!N47)","v":""},{"$f":"IF(貴校データ入力シート!O47=\"\",\"\",貴校データ入力シート!O47)","v":""},{"$f":"IF(貴校データ入力シート!P47=\"\",\"\",貴校データ入力シート!P47)","v":""},{"$f":"IF(貴校データ入力シート!Q47=\"\",\"\",貴校データ入力シート!Q47)","v":""},{"$f":"IF(貴校データ入力シート!R47=\"\",\"\",貴校データ入力シート!R47)","v":""},{"$f":"IF(貴校データ入力シート!S47=\"\",\"\",貴校データ入力シート!S47)","v":""},{"$f":"IF(貴校データ入力シート!T47=\"\",\"\",貴校データ入力シート!T47)","v":""},{"$f":"IF(貴校データ入力シート!U47=\"\",\"\",貴校データ入力シート!U47)","v":""},{"$f":"IF(貴校データ入力シート!V47=\"\",\"\",貴校データ入力シート!V47)","v":""},{"$f":"IF(貴校データ入力シート!W47=\"\",\"\",貴校データ入力シート!W47)","v":""},{"$f":"IF(貴校データ入力シート!X47=\"\",\"\",貴校データ入力シート!X47)","v":""},{"$f":"IF(貴校データ入力シート!Y47=\"\",\"\",貴校データ入力シート!Y47)","v":""},{"$f":"IF(貴校データ入力シート!Z47=\"\",\"\",貴校データ入力シート!Z47)","v":""},{"$f":"IF(貴校データ入力シート!AA47=\"\",\"\",貴校データ入力シート!AA47)","v":""},{"$f":"IF(貴校データ入力シート!AB47=\"\",\"\",貴校データ入力シート!AB47)","v":""},null,null,null,{"$f":"AG45","v":0},{"$f":"AH46","v":0},{"$f":"AI47","v":0}]
[null,null,null,null,null,null,null,null,null,null,{"$f":"IF(貴校データ入力シート!G48=\"\",\"\",貴校データ入力シート!G48)","v":""},{"$f":"IF(貴校データ入力シート!H48=\"\",\"\",貴校データ入力シート!H48)","v":""},{"$f":"IF(貴校データ入力シート!I48=\"\",\"\",貴校データ入力シート!I48)","v":""},{"$f":"IF(貴校データ入力シート!J48=\"\",\"\",貴校データ入力シート!J48)","v":""},{"$f":"IF(貴校データ入力シート!K48=\"\",\"\",貴校データ入力シート!K48)","v":""},{"$f":"IF(貴校データ入力シート!L48=\"\",\"\",貴校データ入力シート!L48)","v":""},{"$f":"IF(貴校データ入力シート!M48=\"\",\"\",貴校データ入力シート!M48)","v":""},{"$f":"IF(貴校データ入力シート!N48=\"\",\"\",貴校データ入力シート!N48)","v":""},{"$f":"IF(貴校データ入力シート!O48=\"\",\"\",貴校データ入力シート!O48)","v":""},{"$f":"IF(貴校データ入力シート!P48=\"\",\"\",貴校データ入力シート!P48)","v":""},{"$f":"IF(貴校データ入力シート!Q48=\"\",\"\",貴校データ入力シート!Q48)","v":""},{"$f":"IF(貴校データ入力シート!R48=\"\",\"\",貴校データ入力シート!R48)","v":""},{"$f":"IF(貴校データ入力シート!S48=\"\",\"\",貴校データ入力シート!S48)","v":""},{"$f":"IF(貴校データ入力シート!T48=\"\",\"\",貴校データ入力シート!T48)","v":""},{"$f":"IF(貴校データ入力シート!U48=\"\",\"\",貴校データ入力シート!U48)","v":""},{"$f":"IF(貴校データ入力シート!V48=\"\",\"\",貴校データ入力シート!V48)","v":""},{"$f":"IF(貴校データ入力シート!W48=\"\",\"\",貴校データ入力シート!W48)","v":""},{"$f":"IF(貴校データ入力シート!X48=\"\",\"\",貴校データ入力シート!X48)","v":""},{"$f":"IF(貴校データ入力シート!Y48=\"\",\"\",貴校データ入力シート!Y48)","v":""},{"$f":"IF(貴校データ入力シート!Z48=\"\",\"\",貴校データ入力シート!Z48)","v":""},{"$f":"IF(貴校データ入力シート!AA48=\"\",\"\",貴校データ入力シート!AA48)","v":""},{"$f":"IF(貴校データ入力シート!AB48=\"\",\"\",貴校データ入力シート!AB48)","v":""},{"$f":"SUM(K45:L45)","v":0}]
[null,null,null,null,null,null,null,null,null,null,{"$f":"IF(貴校データ入力シート!G49=\"\",\"\",貴校データ入力シート!G49)","v":""},{"$f":"IF(貴校データ入力シート!H49=\"\",\"\",貴校データ入力シート!H49)","v":""},{"$f":"IF(貴校データ入力シート!I49=\"\",\"\",貴校データ入力シート!I49)","v":""},{"$f":"IF(貴校データ入力シート!J49=\"\",\"\",貴校データ入力シート!J49)","v":""},{"$f":"IF(貴校データ入力シート!K49=\"\",\"\",貴校データ入力シート!K49)","v":""},{"$f":"IF(貴校データ入力シート!L49=\"\",\"\",貴校データ入力シート!L49)","v":""},{"$f":"IF(貴校データ入力シート!M49=\"\",\"\",貴校データ入力シート!M49)","v":""},{"$f":"IF(貴校データ入力シート!N49=\"\",\"\",貴校データ入力シート!N49)","v":""},{"$f":"IF(貴校データ入力シート!O49=\"\",\"\",貴校データ入力シート!O49)","v":""},{"$f":"IF(貴校データ入力シート!P49=\"\",\"\",貴校データ入力シート!P49)","v":""},{"$f":"IF(貴校データ入力シート!Q49=\"\",\"\",貴校データ入力シート!Q49)","v":""},{"$f":"IF(貴校データ入力シート!R49=\"\",\"\",貴校データ入力シート!R49)","v":""},{"$f":"IF(貴校データ入力シート!S49=\"\",\"\",貴校データ入力シート!S49)","v":""},{"$f":"IF(貴校データ入力シート!T49=\"\",\"\",貴校データ入力シート!T49)","v":""},{"$f":"IF(貴校データ入力シート!U49=\"\",\"\",貴校データ入力シート!U49)","v":""},{"$f":"IF(貴校データ入力シート!V49=\"\",\"\",貴校データ入力シート!V49)","v":""},{"$f":"IF(貴校データ入力シート!W49=\"\",\"\",貴校データ入力シート!W49)","v":""},{"$f":"IF(貴校データ入力シート!X49=\"\",\"\",貴校データ入力シート!X49)","v":""},{"$f":"IF(貴校データ入力シート!Y49=\"\",\"\",貴校データ入力シート!Y49)","v":""},{"$f":"IF(貴校データ入力シート!Z49=\"\",\"\",貴校データ入力シート!Z49)","v":""},{"$f":"IF(貴校データ入力シート!AA49=\"\",\"\",貴校データ入力シート!AA49)","v":""},{"$f":"IF(貴校データ入力シート!AB49=\"\",\"\",貴校データ入力シート!AB49)","v":""},null,{"$f":"SUM(K46:L46)","v":0}]
[null,null,null,null,null,null,null,null,null,null,{"$f":"IF(貴校データ入力シート!G50=\"\",\"\",貴校データ入力シート!G50)","v":""},{"$f":"IF(貴校データ入力シート!H50=\"\",\"\",貴校データ入力シート!H50)","v":""},{"$f":"IF(貴校データ入力シート!I50=\"\",\"\",貴校データ入力シート!I50)","v":""},{"$f":"IF(貴校データ入力シート!J50=\"\",\"\",貴校データ入力シート!J50)","v":""},{"$f":"IF(貴校データ入力シート!K50=\"\",\"\",貴校データ入力シート!K50)","v":""},{"$f":"IF(貴校データ入力シート!L50=\"\",\"\",貴校データ入力シート!L50)","v":""},{"$f":"IF(貴校データ入力シート!M50=\"\",\"\",貴校データ入力シート!M50)","v":""},{"$f":"IF(貴校データ入力シート!N50=\"\",\"\",貴校データ入力シート!N50)","v":""},{"$f":"IF(貴校データ入力シート!O50=\"\",\"\",貴校データ入力シート!O50)","v":""},{"$f":"IF(貴校データ入力シート!P50=\"\",\"\",貴校データ入力シート!P50)","v":""},{"$f":"IF(貴校データ入力シート!Q50=\"\",\"\",貴校データ入力シート!Q50)","v":""},{"$f":"IF(貴校データ入力シート!R50=\"\",\"\",貴校データ入力シート!R50)","v":""},{"$f":"IF(貴校データ入力シート!S50=\"\",\"\",貴校データ入力シート!S50)","v":""},{"$f":"IF(貴校データ入力シート!T50=\"\",\"\",貴校データ入力シート!T50)","v":""},{"$f":"IF(貴校データ入力シート!U50=\"\",\"\",貴校データ入力シート!U50)","v":""},{"$f":"IF(貴校データ入力シート!V50=\"\",\"\",貴校データ入力シート!V50)","v":""},{"$f":"IF(貴校データ入力シート!W50=\"\",\"\",貴校データ入力シート!W50)","v":""},{"$f":"IF(貴校データ入力シート!X50=\"\",\"\",貴校データ入力シート!X50)","v":""},{"$f":"IF(貴校データ入力シート!Y50=\"\",\"\",貴校データ入力シート!Y50)","v":""},{"$f":"IF(貴校データ入力シート!Z50=\"\",\"\",貴校データ入力シート!Z50)","v":""},{"$f":"IF(貴校データ入力シート!AA50=\"\",\"\",貴校データ入力シート!AA50)","v":""},{"$f":"IF(貴校データ入力シート!AB50=\"\",\"\",貴校データ入力シート!AB50)","v":""},null,null,{"$f":"SUM(K47:L47)","v":0}]
[10,"（１０）",{"$f":"IF(貴校データ入力シート!C51=\"\",\"\",貴校データ入力シート!C51)","v":"将来の夢や目標を持っていますか"},null,null,null,null,null,null,null,{"$f":"IF(貴校データ入力シート!G51=\"\",\"\",貴校データ入力シート!G51)","v":""},{"$f":"IF(貴校データ入力シート!H51=\"\",\"\",貴校データ入力シート!H51)","v":""},{"$f":"IF(貴校データ入力シート!I51=\"\",\"\",貴校データ入力シート!I51)","v":""},{"$f":"IF(貴校データ入力シート!J51=\"\",\"\",貴校データ入力シート!J51)","v":""},{"$f":"IF(貴校データ入力シート!K51=\"\",\"\",貴校データ入力シート!K51)","v":""},{"$f":"IF(貴校データ入力シート!L51=\"\",\"\",貴校データ入力シート!L51)","v":""},{"$f":"IF(貴校データ入力シート!M51=\"\",\"\",貴校データ入力シート!M51)","v":""},{"$f":"IF(貴校データ入力シート!N51=\"\",\"\",貴校データ入力シート!N51)","v":""},{"$f":"IF(貴校データ入力シート!O51=\"\",\"\",貴校データ入力シート!O51)","v":""},{"$f":"IF(貴校データ入力シート!P51=\"\",\"\",貴校データ入力シート!P51)","v":""},{"$f":"IF(貴校データ入力シート!Q51=\"\",\"\",貴校データ入力シート!Q51)","v":""},{"$f":"IF(貴校データ入力シート!R51=\"\",\"\",貴校データ入力シート!R51)","v":""},{"$f":"IF(貴校データ入力シート!S51=\"\",\"\",貴校データ入力シート!S51)","v":""},{"$f":"IF(貴校データ入力シート!T51=\"\",\"\",貴校データ入力シート!T51)","v":""},{"$f":"IF(貴校データ入力シート!U51=\"\",\"\",貴校データ入力シート!U51)","v":""},{"$f":"IF(貴校データ入力シート!V51=\"\",\"\",貴校データ入力シート!V51)","v":""},{"$f":"IF(貴校データ入力シート!W51=\"\",\"\",貴校データ入力シート!W51)","v":""},{"$f":"IF(貴校データ入力シート!X51=\"\",\"\",貴校データ入力シート!X51)","v":""},{"$f":"IF(貴校データ入力シート!Y51=\"\",\"\",貴校データ入力シート!Y51)","v":""},{"$f":"IF(貴校データ入力シート!Z51=\"\",\"\",貴校データ入力シート!Z51)","v":""},{"$f":"IF(貴校データ入力シート!AA51=\"\",\"\",貴校データ入力シート!AA51)","v":""},{"$f":"IF(貴校データ入力シート!AB51=\"\",\"\",貴校データ入力シート!AB51)","v":""},null,null,null,{"$f":"AG49","v":0},{"$f":"AH50","v":0},{"$f":"AI51","v":0}]
[null,null,null,null,null,null,null,null,null,null,{"$f":"IF(貴校データ入力シート!G52=\"\",\"\",貴校データ入力シート!G52)","v":""},{"$f":"IF(貴校データ入力シート!H52=\"\",\"\",貴校データ入力シート!H52)","v":""},{"$f":"IF(貴校データ入力シート!I52=\"\",\"\",貴校データ入力シート!I52)","v":""},{"$f":"IF(貴校データ入力シート!J52=\"\",\"\",貴校データ入力シート!J52)","v":""},{"$f":"IF(貴校データ入力シート!K52=\"\",\"\",貴校データ入力シート!K52)","v":""},{"$f":"IF(貴校データ入力シート!L52=\"\",\"\",貴校データ入力シート!L52)","v":""},{"$f":"IF(貴校データ入力シート!M52=\"\",\"\",貴校データ入力シート!M52)","v":""},{"$f":"IF(貴校データ入力シート!N52=\"\",\"\",貴校データ入力シート!N52)","v":""},{"$f":"IF(貴校データ入力シート!O52=\"\",\"\",貴校データ入力シート!O52)","v":""},{"$f":"IF(貴校データ入力シート!P52=\"\",\"\",貴校データ入力シート!P52)","v":""},{"$f":"IF(貴校データ入力シート!Q52=\"\",\"\",貴校データ入力シート!Q52)","v":""},{"$f":"IF(貴校データ入力シート!R52=\"\",\"\",貴校データ入力シート!R52)","v":""},{"$f":"IF(貴校データ入力シート!S52=\"\",\"\",貴校データ入力シート!S52)","v":""},{"$f":"IF(貴校データ入力シート!T52=\"\",\"\",貴校データ入力シート!T52)","v":""},{"$f":"IF(貴校データ入力シート!U52=\"\",\"\",貴校データ入力シート!U52)","v":""},{"$f":"IF(貴校データ入力シート!V52=\"\",\"\",貴校データ入力シート!V52)","v":""},{"$f":"IF(貴校データ入力シート!W52=\"\",\"\",貴校データ入力シート!W52)","v":""},{"$f":"IF(貴校データ入力シート!X52=\"\",\"\",貴校データ入力シート!X52)","v":""},{"$f":"IF(貴校データ入力シート!Y52=\"\",\"\",貴校データ入力シート!Y52)","v":""},{"$f":"IF(貴校データ入力シート!Z52=\"\",\"\",貴校データ入力シート!Z52)","v":""},{"$f":"IF(貴校データ入力シート!AA52=\"\",\"\",貴校データ入力シート!AA52)","v":""},{"$f":"IF(貴校データ入力シート!AB52=\"\",\"\",貴校データ入力シート!AB52)","v":""},{"$f":"SUM(K49:L49)","v":0}]
[null,null,null,null,null,null,null,null,null,null,{"$f":"IF(貴校データ入力シート!G53=\"\",\"\",貴校データ入力シート!G53)","v":""},{"$f":"IF(貴校データ入力シート!H53=\"\",\"\",貴校データ入力シート!H53)","v":""},{"$f":"IF(貴校データ入力シート!I53=\"\",\"\",貴校データ入力シート!I53)","v":""},{"$f":"IF(貴校データ入力シート!J53=\"\",\"\",貴校データ入力シート!J53)","v":""},{"$f":"IF(貴校データ入力シート!K53=\"\",\"\",貴校データ入力シート!K53)","v":""},{"$f":"IF(貴校データ入力シート!L53=\"\",\"\",貴校データ入力シート!L53)","v":""},{"$f":"IF(貴校データ入力シート!M53=\"\",\"\",貴校データ入力シート!M53)","v":""},{"$f":"IF(貴校データ入力シート!N53=\"\",\"\",貴校データ入力シート!N53)","v":""},{"$f":"IF(貴校データ入力シート!O53=\"\",\"\",貴校データ入力シート!O53)","v":""},{"$f":"IF(貴校データ入力シート!P53=\"\",\"\",貴校データ入力シート!P53)","v":""},{"$f":"IF(貴校データ入力シート!Q53=\"\",\"\",貴校データ入力シート!Q53)","v":""},{"$f":"IF(貴校データ入力シート!R53=\"\",\"\",貴校データ入力シート!R53)","v":""},{"$f":"IF(貴校データ入力シート!S53=\"\",\"\",貴校データ入力シート!S53)","v":""},{"$f":"IF(貴校データ入力シート!T53=\"\",\"\",貴校データ入力シート!T53)","v":""},{"$f":"IF(貴校データ入力シート!U53=\"\",\"\",貴校データ入力シート!U53)","v":""},{"$f":"IF(貴校データ入力シート!V53=\"\",\"\",貴校データ入力シート!V53)","v":""},{"$f":"IF(貴校データ入力シート!W53=\"\",\"\",貴校データ入力シート!W53)","v":""},{"$f":"IF(貴校データ入力シート!X53=\"\",\"\",貴校データ入力シート!X53)","v":""},{"$f":"IF(貴校データ入力シート!Y53=\"\",\"\",貴校データ入力シート!Y53)","v":""},{"$f":"IF(貴校データ入力シート!Z53=\"\",\"\",貴校データ入力シート!Z53)","v":""},{"$f":"IF(貴校データ入力シート!AA53=\"\",\"\",貴校データ入力シート!AA53)","v":""},{"$f":"IF(貴校データ入力シート!AB53=\"\",\"\",貴校データ入力シート!AB53)","v":""},null,{"$f":"SUM(K50:L50)","v":0}]
[null,null,null,null,null,null,null,null,null,null,{"$f":"IF(貴校データ入力シート!G54=\"\",\"\",貴校データ入力シート!G54)","v":""},{"$f":"IF(貴校データ入力シート!H54=\"\",\"\",貴校データ入力シート!H54)","v":""},{"$f":"IF(貴校データ入力シート!I54=\"\",\"\",貴校データ入力シート!I54)","v":""},{"$f":"IF(貴校データ入力シート!J54=\"\",\"\",貴校データ入力シート!J54)","v":""},{"$f":"IF(貴校データ入力シート!K54=\"\",\"\",貴校データ入力シート!K54)","v":""},{"$f":"IF(貴校データ入力シート!L54=\"\",\"\",貴校データ入力シート!L54)","v":""},{"$f":"IF(貴校データ入力シート!M54=\"\",\"\",貴校データ入力シート!M54)","v":""},{"$f":"IF(貴校データ入力シート!N54=\"\",\"\",貴校データ入力シート!N54)","v":""},{"$f":"IF(貴校データ入力シート!O54=\"\",\"\",貴校データ入力シート!O54)","v":""},{"$f":"IF(貴校データ入力シート!P54=\"\",\"\",貴校データ入力シート!P54)","v":""},{"$f":"IF(貴校データ入力シート!Q54=\"\",\"\",貴校データ入力シート!Q54)","v":""},{"$f":"IF(貴校データ入力シート!R54=\"\",\"\",貴校データ入力シート!R54)","v":""},{"$f":"IF(貴校データ入力シート!S54=\"\",\"\",貴校データ入力シート!S54)","v":""},{"$f":"IF(貴校データ入力シート!T54=\"\",\"\",貴校データ入力シート!T54)","v":""},{"$f":"IF(貴校データ入力シート!U54=\"\",\"\",貴校データ入力シート!U54)","v":""},{"$f":"IF(貴校データ入力シート!V54=\"\",\"\",貴校データ入力シート!V54)","v":""},{"$f":"IF(貴校データ入力シート!W54=\"\",\"\",貴校データ入力シート!W54)","v":""},{"$f":"IF(貴校データ入力シート!X54=\"\",\"\",貴校データ入力シート!X54)","v":""},{"$f":"IF(貴校データ入力シート!Y54=\"\",\"\",貴校データ入力シート!Y54)","v":""},{"$f":"IF(貴校データ入力シート!Z54=\"\",\"\",貴校データ入力シート!Z54)","v":""},{"$f":"IF(貴校データ入力シート!AA54=\"\",\"\",貴校データ入力シート!AA54)","v":""},{"$f":"IF(貴校データ入力シート!AB54=\"\",\"\",貴校データ入力シート!AB54)","v":""},null,null,{"$f":"SUM(K51:L51)","v":0}]
[11,"（１１）",{"$f":"IF(貴校データ入力シート!C55=\"\",\"\",貴校データ入力シート!C55)","v":"人が困っているときは、進んで助けていますか"},null,null,null,null,null,null,null,{"$f":"IF(貴校データ入力シート!G55=\"\",\"\",貴校データ入力シート!G55)","v":""},{"$f":"IF(貴校データ入力シート!H55=\"\",\"\",貴校データ入力シート!H55)","v":""},{"$f":"IF(貴校データ入力シート!I55=\"\",\"\",貴校データ入力シート!I55)","v":""},{"$f":"IF(貴校データ入力シート!J55=\"\",\"\",貴校データ入力シート!J55)","v":""},{"$f":"IF(貴校データ入力シート!K55=\"\",\"\",貴校データ入力シート!K55)","v":""},{"$f":"IF(貴校データ入力シート!L55=\"\",\"\",貴校データ入力シート!L55)","v":""},{"$f":"IF(貴校データ入力シート!M55=\"\",\"\",貴校データ入力シート!M55)","v":""},{"$f":"IF(貴校データ入力シート!N55=\"\",\"\",貴校データ入力シート!N55)","v":""},{"$f":"IF(貴校データ入力シート!O55=\"\",\"\",貴校データ入力シート!O55)","v":""},{"$f":"IF(貴校データ入力シート!P55=\"\",\"\",貴校データ入力シート!P55)","v":""},{"$f":"IF(貴校データ入力シート!Q55=\"\",\"\",貴校データ入力シート!Q55)","v":""},{"$f":"IF(貴校データ入力シート!R55=\"\",\"\",貴校データ入力シート!R55)","v":""},{"$f":"IF(貴校データ入力シート!S55=\"\",\"\",貴校データ入力シート!S55)","v":""},{"$f":"IF(貴校データ入力シート!T55=\"\",\"\",貴校データ入力シート!T55)","v":""},{"$f":"IF(貴校データ入力シート!U55=\"\",\"\",貴校データ入力シート!U55)","v":""},{"$f":"IF(貴校データ入力シート!V55=\"\",\"\",貴校データ入力シート!V55)","v":""},{"$f":"IF(貴校データ入力シート!W55=\"\",\"\",貴校データ入力シート!W55)","v":""},{"$f":"IF(貴校データ入力シート!X55=\"\",\"\",貴校データ入力シート!X55)","v":""},{"$f":"IF(貴校データ入力シート!Y55=\"\",\"\",貴校データ入力シート!Y55)","v":""},{"$f":"IF(貴校データ入力シート!Z55=\"\",\"\",貴校データ入力シート!Z55)","v":""},{"$f":"IF(貴校データ入力シート!AA55=\"\",\"\",貴校データ入力シート!AA55)","v":""},{"$f":"IF(貴校データ入力シート!AB55=\"\",\"\",貴校データ入力シート!AB55)","v":""},null,null,null,{"$f":"AG53","v":0},{"$f":"AH54","v":0},{"$f":"AI55","v":0}]
[null,null,null,null,null,null,null,null,null,null,{"$f":"IF(貴校データ入力シート!G56=\"\",\"\",貴校データ入力シート!G56)","v":""},{"$f":"IF(貴校データ入力シート!H56=\"\",\"\",貴校データ入力シート!H56)","v":""},{"$f":"IF(貴校データ入力シート!I56=\"\",\"\",貴校データ入力シート!I56)","v":""},{"$f":"IF(貴校データ入力シート!J56=\"\",\"\",貴校データ入力シート!J56)","v":""},{"$f":"IF(貴校データ入力シート!K56=\"\",\"\",貴校データ入力シート!K56)","v":""},{"$f":"IF(貴校データ入力シート!L56=\"\",\"\",貴校データ入力シート!L56)","v":""},{"$f":"IF(貴校データ入力シート!M56=\"\",\"\",貴校データ入力シート!M56)","v":""},{"$f":"IF(貴校データ入力シート!N56=\"\",\"\",貴校データ入力シート!N56)","v":""},{"$f":"IF(貴校データ入力シート!O56=\"\",\"\",貴校データ入力シート!O56)","v":""},{"$f":"IF(貴校データ入力シート!P56=\"\",\"\",貴校データ入力シート!P56)","v":""},{"$f":"IF(貴校データ入力シート!Q56=\"\",\"\",貴校データ入力シート!Q56)","v":""},{"$f":"IF(貴校データ入力シート!R56=\"\",\"\",貴校データ入力シート!R56)","v":""},{"$f":"IF(貴校データ入力シート!S56=\"\",\"\",貴校データ入力シート!S56)","v":""},{"$f":"IF(貴校データ入力シート!T56=\"\",\"\",貴校データ入力シート!T56)","v":""},{"$f":"IF(貴校データ入力シート!U56=\"\",\"\",貴校データ入力シート!U56)","v":""},{"$f":"IF(貴校データ入力シート!V56=\"\",\"\",貴校データ入力シート!V56)","v":""},{"$f":"IF(貴校データ入力シート!W56=\"\",\"\",貴校データ入力シート!W56)","v":""},{"$f":"IF(貴校データ入力シート!X56=\"\",\"\",貴校データ入力シート!X56)","v":""},{"$f":"IF(貴校データ入力シート!Y56=\"\",\"\",貴校データ入力シート!Y56)","v":""},{"$f":"IF(貴校データ入力シート!Z56=\"\",\"\",貴校データ入力シート!Z56)","v":""},{"$f":"IF(貴校データ入力シート!AA56=\"\",\"\",貴校データ入力シート!AA56)","v":""},{"$f":"IF(貴校データ入力シート!AB56=\"\",\"\",貴校データ入力シート!AB56)","v":""},{"$f":"SUM(K53:L53)","v":0}]
[null,null,null,null,null,null,null,null,null,null,{"$f":"IF(貴校データ入力シート!G57=\"\",\"\",貴校データ入力シート!G57)","v":""},{"$f":"IF(貴校データ入力シート!H57=\"\",\"\",貴校データ入力シート!H57)","v":""},{"$f":"IF(貴校データ入力シート!I57=\"\",\"\",貴校データ入力シート!I57)","v":""},{"$f":"IF(貴校データ入力シート!J57=\"\",\"\",貴校データ入力シート!J57)","v":""},{"$f":"IF(貴校データ入力シート!K57=\"\",\"\",貴校データ入力シート!K57)","v":""},{"$f":"IF(貴校データ入力シート!L57=\"\",\"\",貴校データ入力シート!L57)","v":""},{"$f":"IF(貴校データ入力シート!M57=\"\",\"\",貴校データ入力シート!M57)","v":""},{"$f":"IF(貴校データ入力シート!N57=\"\",\"\",貴校データ入力シート!N57)","v":""},{"$f":"IF(貴校データ入力シート!O57=\"\",\"\",貴校データ入力シート!O57)","v":""},{"$f":"IF(貴校データ入力シート!P57=\"\",\"\",貴校データ入力シート!P57)","v":""},{"$f":"IF(貴校データ入力シート!Q57=\"\",\"\",貴校データ入力シート!Q57)","v":""},{"$f":"IF(貴校データ入力シート!R57=\"\",\"\",貴校データ入力シート!R57)","v":""},{"$f":"IF(貴校データ入力シート!S57=\"\",\"\",貴校データ入力シート!S57)","v":""},{"$f":"IF(貴校データ入力シート!T57=\"\",\"\",貴校データ入力シート!T57)","v":""},{"$f":"IF(貴校データ入力シート!U57=\"\",\"\",貴校データ入力シート!U57)","v":""},{"$f":"IF(貴校データ入力シート!V57=\"\",\"\",貴校データ入力シート!V57)","v":""},{"$f":"IF(貴校データ入力シート!W57=\"\",\"\",貴校データ入力シート!W57)","v":""},{"$f":"IF(貴校データ入力シート!X57=\"\",\"\",貴校データ入力シート!X57)","v":""},{"$f":"IF(貴校データ入力シート!Y57=\"\",\"\",貴校データ入力シート!Y57)","v":""},{"$f":"IF(貴校データ入力シート!Z57=\"\",\"\",貴校データ入力シート!Z57)","v":""},{"$f":"IF(貴校データ入力シート!AA57=\"\",\"\",貴校データ入力シート!AA57)","v":""},{"$f":"IF(貴校データ入力シート!AB57=\"\",\"\",貴校データ入力シート!AB57)","v":""},null,{"$f":"SUM(K54:L54)","v":0}]
[null,null,null,null,null,null,null,null,null,null,{"$f":"IF(貴校データ入力シート!G58=\"\",\"\",貴校データ入力シート!G58)","v":""},{"$f":"IF(貴校データ入力シート!H58=\"\",\"\",貴校データ入力シート!H58)","v":""},{"$f":"IF(貴校データ入力シート!I58=\"\",\"\",貴校データ入力シート!I58)","v":""},{"$f":"IF(貴校データ入力シート!J58=\"\",\"\",貴校データ入力シート!J58)","v":""},{"$f":"IF(貴校データ入力シート!K58=\"\",\"\",貴校データ入力シート!K58)","v":""},{"$f":"IF(貴校データ入力シート!L58=\"\",\"\",貴校データ入力シート!L58)","v":""},{"$f":"IF(貴校データ入力シート!M58=\"\",\"\",貴校データ入力シート!M58)","v":""},{"$f":"IF(貴校データ入力シート!N58=\"\",\"\",貴校データ入力シート!N58)","v":""},{"$f":"IF(貴校データ入力シート!O58=\"\",\"\",貴校データ入力シート!O58)","v":""},{"$f":"IF(貴校データ入力シート!P58=\"\",\"\",貴校データ入力シート!P58)","v":""},{"$f":"IF(貴校データ入力シート!Q58=\"\",\"\",貴校データ入力シート!Q58)","v":""},{"$f":"IF(貴校データ入力シート!R58=\"\",\"\",貴校データ入力シート!R58)","v":""},{"$f":"IF(貴校データ入力シート!S58=\"\",\"\",貴校データ入力シート!S58)","v":""},{"$f":"IF(貴校データ入力シート!T58=\"\",\"\",貴校データ入力シート!T58)","v":""},{"$f":"IF(貴校データ入力シート!U58=\"\",\"\",貴校データ入力シート!U58)","v":""},{"$f":"IF(貴校データ入力シート!V58=\"\",\"\",貴校データ入力シート!V58)","v":""},{"$f":"IF(貴校データ入力シート!W58=\"\",\"\",貴校データ入力シート!W58)","v":""},{"$f":"IF(貴校データ入力シート!X58=\"\",\"\",貴校データ入力シート!X58)","v":""},{"$f":"IF(貴校データ入力シート!Y58=\"\",\"\",貴校データ入力シート!Y58)","v":""},{"$f":"IF(貴校データ入力シート!Z58=\"\",\"\",貴校データ入力シート!Z58)","v":""},{"$f":"IF(貴校データ入力シート!AA58=\"\",\"\",貴校データ入力シート!AA58)","v":""},{"$f":"IF(貴校データ入力シート!AB58=\"\",\"\",貴校データ入力シート!AB58)","v":""},null,null,{"$f":"SUM(K55:L55)","v":0}]
[12,"（１２）",{"$f":"IF(貴校データ入力シート!C59=\"\",\"\",貴校データ入力シート!C59)","v":"いじめは、どんな理由があってもいけないことだと思いますか"},null,null,null,null,null,null,null,{"$f":"IF(貴校データ入力シート!G59=\"\",\"\",貴校データ入力シート!G59)","v":""},{"$f":"IF(貴校データ入力シート!H59=\"\",\"\",貴校データ入力シート!H59)","v":""},{"$f":"IF(貴校データ入力シート!I59=\"\",\"\",貴校データ入力シート!I59)","v":""},{"$f":"IF(貴校データ入力シート!J59=\"\",\"\",貴校データ入力シート!J59)","v":""},{"$f":"IF(貴校データ入力シート!K59=\"\",\"\",貴校データ入力シート!K59)","v":""},{"$f":"IF(貴校データ入力シート!L59=\"\",\"\",貴校データ入力シート!L59)","v":""},{"$f":"IF(貴校データ入力シート!M59=\"\",\"\",貴校データ入力シート!M59)","v":""},{"$f":"IF(貴校データ入力シート!N59=\"\",\"\",貴校データ入力シート!N59)","v":""},{"$f":"IF(貴校データ入力シート!O59=\"\",\"\",貴校データ入力シート!O59)","v":""},{"$f":"IF(貴校データ入力シート!P59=\"\",\"\",貴校データ入力シート!P59)","v":""},{"$f":"IF(貴校データ入力シート!Q59=\"\",\"\",貴校データ入力シート!Q59)","v":""},{"$f":"IF(貴校データ入力シート!R59=\"\",\"\",貴校データ入力シート!R59)","v":""},{"$f":"IF(貴校データ入力シート!S59=\"\",\"\",貴校データ入力シート!S59)","v":""},{"$f":"IF(貴校データ入力シート!T59=\"\",\"\",貴校データ入力シート!T59)","v":""},{"$f":"IF(貴校データ入力シート!U59=\"\",\"\",貴校データ入力シート!U59)","v":""},{"$f":"IF(貴校データ入力シート!V59=\"\",\"\",貴校データ入力シート!V59)","v":""},{"$f":"IF(貴校データ入力シート!W59=\"\",\"\",貴校データ入力シート!W59)","v":""},{"$f":"IF(貴校データ入力シート!X59=\"\",\"\",貴校データ入力シート!X59)","v":""},{"$f":"IF(貴校データ入力シート!Y59=\"\",\"\",貴校データ入力シート!Y59)","v":""},{"$f":"IF(貴校データ入力シート!Z59=\"\",\"\",貴校データ入力シート!Z59)","v":""},{"$f":"IF(貴校データ入力シート!AA59=\"\",\"\",貴校データ入力シート!AA59)","v":""},{"$f":"IF(貴校データ入力シート!AB59=\"\",\"\",貴校データ入力シート!AB59)","v":""},null,null,null,{"$f":"AG57","v":0},{"$f":"AH58","v":0},{"$f":"AI59","v":0}]
[null,null,null,null,null,null,null,null,null,null,{"$f":"IF(貴校データ入力シート!G60=\"\",\"\",貴校データ入力シート!G60)","v":""},{"$f":"IF(貴校データ入力シート!H60=\"\",\"\",貴校データ入力シート!H60)","v":""},{"$f":"IF(貴校データ入力シート!I60=\"\",\"\",貴校データ入力シート!I60)","v":""},{"$f":"IF(貴校データ入力シート!J60=\"\",\"\",貴校データ入力シート!J60)","v":""},{"$f":"IF(貴校データ入力シート!K60=\"\",\"\",貴校データ入力シート!K60)","v":""},{"$f":"IF(貴校データ入力シート!L60=\"\",\"\",貴校データ入力シート!L60)","v":""},{"$f":"IF(貴校データ入力シート!M60=\"\",\"\",貴校データ入力シート!M60)","v":""},{"$f":"IF(貴校データ入力シート!N60=\"\",\"\",貴校データ入力シート!N60)","v":""},{"$f":"IF(貴校データ入力シート!O60=\"\",\"\",貴校データ入力シート!O60)","v":""},{"$f":"IF(貴校データ入力シート!P60=\"\",\"\",貴校データ入力シート!P60)","v":""},{"$f":"IF(貴校データ入力シート!Q60=\"\",\"\",貴校データ入力シート!Q60)","v":""},{"$f":"IF(貴校データ入力シート!R60=\"\",\"\",貴校データ入力シート!R60)","v":""},{"$f":"IF(貴校データ入力シート!S60=\"\",\"\",貴校データ入力シート!S60)","v":""},{"$f":"IF(貴校データ入力シート!T60=\"\",\"\",貴校データ入力シート!T60)","v":""},{"$f":"IF(貴校データ入力シート!U60=\"\",\"\",貴校データ入力シート!U60)","v":""},{"$f":"IF(貴校データ入力シート!V60=\"\",\"\",貴校データ入力シート!V60)","v":""},{"$f":"IF(貴校データ入力シート!W60=\"\",\"\",貴校データ入力シート!W60)","v":""},{"$f":"IF(貴校データ入力シート!X60=\"\",\"\",貴校データ入力シート!X60)","v":""},{"$f":"IF(貴校データ入力シート!Y60=\"\",\"\",貴校データ入力シート!Y60)","v":""},{"$f":"IF(貴校データ入力シート!Z60=\"\",\"\",貴校データ入力シート!Z60)","v":""},{"$f":"IF(貴校データ入力シート!AA60=\"\",\"\",貴校データ入力シート!AA60)","v":""},{"$f":"IF(貴校データ入力シート!AB60=\"\",\"\",貴校データ入力シート!AB60)","v":""},{"$f":"SUM(K57:L57)","v":0}]
[null,null,null,null,null,null,null,null,null,null,{"$f":"IF(貴校データ入力シート!G61=\"\",\"\",貴校データ入力シート!G61)","v":""},{"$f":"IF(貴校データ入力シート!H61=\"\",\"\",貴校データ入力シート!H61)","v":""},{"$f":"IF(貴校データ入力シート!I61=\"\",\"\",貴校データ入力シート!I61)","v":""},{"$f":"IF(貴校データ入力シート!J61=\"\",\"\",貴校データ入力シート!J61)","v":""},{"$f":"IF(貴校データ入力シート!K61=\"\",\"\",貴校データ入力シート!K61)","v":""},{"$f":"IF(貴校データ入力シート!L61=\"\",\"\",貴校データ入力シート!L61)","v":""},{"$f":"IF(貴校データ入力シート!M61=\"\",\"\",貴校データ入力シート!M61)","v":""},{"$f":"IF(貴校データ入力シート!N61=\"\",\"\",貴校データ入力シート!N61)","v":""},{"$f":"IF(貴校データ入力シート!O61=\"\",\"\",貴校データ入力シート!O61)","v":""},{"$f":"IF(貴校データ入力シート!P61=\"\",\"\",貴校データ入力シート!P61)","v":""},{"$f":"IF(貴校データ入力シート!Q61=\"\",\"\",貴校データ入力シート!Q61)","v":""},{"$f":"IF(貴校データ入力シート!R61=\"\",\"\",貴校データ入力シート!R61)","v":""},{"$f":"IF(貴校データ入力シート!S61=\"\",\"\",貴校データ入力シート!S61)","v":""},{"$f":"IF(貴校データ入力シート!T61=\"\",\"\",貴校データ入力シート!T61)","v":""},{"$f":"IF(貴校データ入力シート!U61=\"\",\"\",貴校データ入力シート!U61)","v":""},{"$f":"IF(貴校データ入力シート!V61=\"\",\"\",貴校データ入力シート!V61)","v":""},{"$f":"IF(貴校データ入力シート!W61=\"\",\"\",貴校データ入力シート!W61)","v":""},{"$f":"IF(貴校データ入力シート!X61=\"\",\"\",貴校データ入力シート!X61)","v":""},{"$f":"IF(貴校データ入力シート!Y61=\"\",\"\",貴校データ入力シート!Y61)","v":""},{"$f":"IF(貴校データ入力シート!Z61=\"\",\"\",貴校データ入力シート!Z61)","v":""},{"$f":"IF(貴校データ入力シート!AA61=\"\",\"\",貴校データ入力シート!AA61)","v":""},{"$f":"IF(貴校データ入力シート!AB61=\"\",\"\",貴校データ入力シート!AB61)","v":""},null,{"$f":"SUM(K58:L58)","v":0}]
[null,null,null,null,null,null,null,null,null,null,{"$f":"IF(貴校データ入力シート!G62=\"\",\"\",貴校データ入力シート!G62)","v":""},{"$f":"IF(貴校データ入力シート!H62=\"\",\"\",貴校データ入力シート!H62)","v":""},{"$f":"IF(貴校データ入力シート!I62=\"\",\"\",貴校データ入力シート!I62)","v":""},{"$f":"IF(貴校データ入力シート!J62=\"\",\"\",貴校データ入力シート!J62)","v":""},{"$f":"IF(貴校データ入力シート!K62=\"\",\"\",貴校データ入力シート!K62)","v":""},{"$f":"IF(貴校データ入力シート!L62=\"\",\"\",貴校データ入力シート!L62)","v":""},{"$f":"IF(貴校データ入力シート!M62=\"\",\"\",貴校データ入力シート!M62)","v":""},{"$f":"IF(貴校データ入力シート!N62=\"\",\"\",貴校データ入力シート!N62)","v":""},{"$f":"IF(貴校データ入力シート!O62=\"\",\"\",貴校データ入力シート!O62)","v":""},{"$f":"IF(貴校データ入力シート!P62=\"\",\"\",貴校データ入力シート!P62)","v":""},{"$f":"IF(貴校データ入力シート!Q62=\"\",\"\",貴校データ入力シート!Q62)","v":""},{"$f":"IF(貴校データ入力シート!R62=\"\",\"\",貴校データ入力シート!R62)","v":""},{"$f":"IF(貴校データ入力シート!S62=\"\",\"\",貴校データ入力シート!S62)","v":""},{"$f":"IF(貴校データ入力シート!T62=\"\",\"\",貴校データ入力シート!T62)","v":""},{"$f":"IF(貴校データ入力シート!U62=\"\",\"\",貴校データ入力シート!U62)","v":""},{"$f":"IF(貴校データ入力シート!V62=\"\",\"\",貴校データ入力シート!V62)","v":""},{"$f":"IF(貴校データ入力シート!W62=\"\",\"\",貴校データ入力シート!W62)","v":""},{"$f":"IF(貴校データ入力シート!X62=\"\",\"\",貴校データ入力シート!X62)","v":""},{"$f":"IF(貴校データ入力シート!Y62=\"\",\"\",貴校データ入力シート!Y62)","v":""},{"$f":"IF(貴校データ入力シート!Z62=\"\",\"\",貴校データ入力シート!Z62)","v":""},{"$f":"IF(貴校データ入力シート!AA62=\"\",\"\",貴校データ入力シート!AA62)","v":""},{"$f":"IF(貴校データ入力シート!AB62=\"\",\"\",貴校データ入力シート!AB62)","v":""},null,null,{"$f":"SUM(K59:L59)","v":0}]
[13,"（１３）",{"$f":"IF(貴校データ入力シート!C63=\"\",\"\",貴校データ入力シート!C63)","v":"困りごとや不安がある時に、先生や学校にいる大人にいつでも相談できますか"},null,null,null,null,null,null,null,{"$f":"IF(貴校データ入力シート!G63=\"\",\"\",貴校データ入力シート!G63)","v":""},{"$f":"IF(貴校データ入力シート!H63=\"\",\"\",貴校データ入力シート!H63)","v":""},{"$f":"IF(貴校データ入力シート!I63=\"\",\"\",貴校データ入力シート!I63)","v":""},{"$f":"IF(貴校データ入力シート!J63=\"\",\"\",貴校データ入力シート!J63)","v":""},{"$f":"IF(貴校データ入力シート!K63=\"\",\"\",貴校データ入力シート!K63)","v":""},{"$f":"IF(貴校データ入力シート!L63=\"\",\"\",貴校データ入力シート!L63)","v":""},{"$f":"IF(貴校データ入力シート!M63=\"\",\"\",貴校データ入力シート!M63)","v":""},{"$f":"IF(貴校データ入力シート!N63=\"\",\"\",貴校データ入力シート!N63)","v":""},{"$f":"IF(貴校データ入力シート!O63=\"\",\"\",貴校データ入力シート!O63)","v":""},{"$f":"IF(貴校データ入力シート!P63=\"\",\"\",貴校データ入力シート!P63)","v":""},{"$f":"IF(貴校データ入力シート!Q63=\"\",\"\",貴校データ入力シート!Q63)","v":""},{"$f":"IF(貴校データ入力シート!R63=\"\",\"\",貴校データ入力シート!R63)","v":""},{"$f":"IF(貴校データ入力シート!S63=\"\",\"\",貴校データ入力シート!S63)","v":""},{"$f":"IF(貴校データ入力シート!T63=\"\",\"\",貴校データ入力シート!T63)","v":""},{"$f":"IF(貴校データ入力シート!U63=\"\",\"\",貴校データ入力シート!U63)","v":""},{"$f":"IF(貴校データ入力シート!V63=\"\",\"\",貴校データ入力シート!V63)","v":""},{"$f":"IF(貴校データ入力シート!W63=\"\",\"\",貴校データ入力シート!W63)","v":""},{"$f":"IF(貴校データ入力シート!X63=\"\",\"\",貴校データ入力シート!X63)","v":""},{"$f":"IF(貴校データ入力シート!Y63=\"\",\"\",貴校データ入力シート!Y63)","v":""},{"$f":"IF(貴校データ入力シート!Z63=\"\",\"\",貴校データ入力シート!Z63)","v":""},{"$f":"IF(貴校データ入力シート!AA63=\"\",\"\",貴校データ入力シート!AA63)","v":""},{"$f":"IF(貴校データ入力シート!AB63=\"\",\"\",貴校データ入力シート!AB63)","v":""},null,null,null,{"$f":"AG61","v":0},{"$f":"AH62","v":0},{"$f":"AI63","v":0}]
[null,null,null,null,null,null,null,null,null,null,{"$f":"IF(貴校データ入力シート!G64=\"\",\"\",貴校データ入力シート!G64)","v":""},{"$f":"IF(貴校データ入力シート!H64=\"\",\"\",貴校データ入力シート!H64)","v":""},{"$f":"IF(貴校データ入力シート!I64=\"\",\"\",貴校データ入力シート!I64)","v":""},{"$f":"IF(貴校データ入力シート!J64=\"\",\"\",貴校データ入力シート!J64)","v":""},{"$f":"IF(貴校データ入力シート!K64=\"\",\"\",貴校データ入力シート!K64)","v":""},{"$f":"IF(貴校データ入力シート!L64=\"\",\"\",貴校データ入力シート!L64)","v":""},{"$f":"IF(貴校データ入力シート!M64=\"\",\"\",貴校データ入力シート!M64)","v":""},{"$f":"IF(貴校データ入力シート!N64=\"\",\"\",貴校データ入力シート!N64)","v":""},{"$f":"IF(貴校データ入力シート!O64=\"\",\"\",貴校データ入力シート!O64)","v":""},{"$f":"IF(貴校データ入力シート!P64=\"\",\"\",貴校データ入力シート!P64)","v":""},{"$f":"IF(貴校データ入力シート!Q64=\"\",\"\",貴校データ入力シート!Q64)","v":""},{"$f":"IF(貴校データ入力シート!R64=\"\",\"\",貴校データ入力シート!R64)","v":""},{"$f":"IF(貴校データ入力シート!S64=\"\",\"\",貴校データ入力シート!S64)","v":""},{"$f":"IF(貴校データ入力シート!T64=\"\",\"\",貴校データ入力シート!T64)","v":""},{"$f":"IF(貴校データ入力シート!U64=\"\",\"\",貴校データ入力シート!U64)","v":""},{"$f":"IF(貴校データ入力シート!V64=\"\",\"\",貴校データ入力シート!V64)","v":""},{"$f":"IF(貴校データ入力シート!W64=\"\",\"\",貴校データ入力シート!W64)","v":""},{"$f":"IF(貴校データ入力シート!X64=\"\",\"\",貴校データ入力シート!X64)","v":""},{"$f":"IF(貴校データ入力シート!Y64=\"\",\"\",貴校データ入力シート!Y64)","v":""},{"$f":"IF(貴校データ入力シート!Z64=\"\",\"\",貴校データ入力シート!Z64)","v":""},{"$f":"IF(貴校データ入力シート!AA64=\"\",\"\",貴校データ入力シート!AA64)","v":""},{"$f":"IF(貴校データ入力シート!AB64=\"\",\"\",貴校データ入力シート!AB64)","v":""},{"$f":"SUM(K61:L61)","v":0}]
[null,null,null,null,null,null,null,null,null,null,{"$f":"IF(貴校データ入力シート!G65=\"\",\"\",貴校データ入力シート!G65)","v":""},{"$f":"IF(貴校データ入力シート!H65=\"\",\"\",貴校データ入力シート!H65)","v":""},{"$f":"IF(貴校データ入力シート!I65=\"\",\"\",貴校データ入力シート!I65)","v":""},{"$f":"IF(貴校データ入力シート!J65=\"\",\"\",貴校データ入力シート!J65)","v":""},{"$f":"IF(貴校データ入力シート!K65=\"\",\"\",貴校データ入力シート!K65)","v":""},{"$f":"IF(貴校データ入力シート!L65=\"\",\"\",貴校データ入力シート!L65)","v":""},{"$f":"IF(貴校データ入力シート!M65=\"\",\"\",貴校データ入力シート!M65)","v":""},{"$f":"IF(貴校データ入力シート!N65=\"\",\"\",貴校データ入力シート!N65)","v":""},{"$f":"IF(貴校データ入力シート!O65=\"\",\"\",貴校データ入力シート!O65)","v":""},{"$f":"IF(貴校データ入力シート!P65=\"\",\"\",貴校データ入力シート!P65)","v":""},{"$f":"IF(貴校データ入力シート!Q65=\"\",\"\",貴校データ入力シート!Q65)","v":""},{"$f":"IF(貴校データ入力シート!R65=\"\",\"\",貴校データ入力シート!R65)","v":""},{"$f":"IF(貴校データ入力シート!S65=\"\",\"\",貴校データ入力シート!S65)","v":""},{"$f":"IF(貴校データ入力シート!T65=\"\",\"\",貴校データ入力シート!T65)","v":""},{"$f":"IF(貴校データ入力シート!U65=\"\",\"\",貴校データ入力シート!U65)","v":""},{"$f":"IF(貴校データ入力シート!V65=\"\",\"\",貴校データ入力シート!V65)","v":""},{"$f":"IF(貴校データ入力シート!W65=\"\",\"\",貴校データ入力シート!W65)","v":""},{"$f":"IF(貴校データ入力シート!X65=\"\",\"\",貴校データ入力シート!X65)","v":""},{"$f":"IF(貴校データ入力シート!Y65=\"\",\"\",貴校データ入力シート!Y65)","v":""},{"$f":"IF(貴校データ入力シート!Z65=\"\",\"\",貴校データ入力シート!Z65)","v":""},{"$f":"IF(貴校データ入力シート!AA65=\"\",\"\",貴校データ入力シート!AA65)","v":""},{"$f":"IF(貴校データ入力シート!AB65=\"\",\"\",貴校データ入力シート!AB65)","v":""},null,{"$f":"SUM(K62:L62)","v":0}]
[null,null,null,null,null,null,null,null,null,null,{"$f":"IF(貴校データ入力シート!G66=\"\",\"\",貴校データ入力シート!G66)","v":""},{"$f":"IF(貴校データ入力シート!H66=\"\",\"\",貴校データ入力シート!H66)","v":""},{"$f":"IF(貴校データ入力シート!I66=\"\",\"\",貴校データ入力シート!I66)","v":""},{"$f":"IF(貴校データ入力シート!J66=\"\",\"\",貴校データ入力シート!J66)","v":""},{"$f":"IF(貴校データ入力シート!K66=\"\",\"\",貴校データ入力シート!K66)","v":""},{"$f":"IF(貴校データ入力シート!L66=\"\",\"\",貴校データ入力シート!L66)","v":""},{"$f":"IF(貴校データ入力シート!M66=\"\",\"\",貴校データ入力シート!M66)","v":""},{"$f":"IF(貴校データ入力シート!N66=\"\",\"\",貴校データ入力シート!N66)","v":""},{"$f":"IF(貴校データ入力シート!O66=\"\",\"\",貴校データ入力シート!O66)","v":""},{"$f":"IF(貴校データ入力シート!P66=\"\",\"\",貴校データ入力シート!P66)","v":""},{"$f":"IF(貴校データ入力シート!Q66=\"\",\"\",貴校データ入力シート!Q66)","v":""},{"$f":"IF(貴校データ入力シート!R66=\"\",\"\",貴校データ入力シート!R66)","v":""},{"$f":"IF(貴校データ入力シート!S66=\"\",\"\",貴校データ入力シート!S66)","v":""},{"$f":"IF(貴校データ入力シート!T66=\"\",\"\",貴校データ入力シート!T66)","v":""},{"$f":"IF(貴校データ入力シート!U66=\"\",\"\",貴校データ入力シート!U66)","v":""},{"$f":"IF(貴校データ入力シート!V66=\"\",\"\",貴校データ入力シート!V66)","v":""},{"$f":"IF(貴校データ入力シート!W66=\"\",\"\",貴校データ入力シート!W66)","v":""},{"$f":"IF(貴校データ入力シート!X66=\"\",\"\",貴校データ入力シート!X66)","v":""},{"$f":"IF(貴校データ入力シート!Y66=\"\",\"\",貴校データ入力シート!Y66)","v":""},{"$f":"IF(貴校データ入力シート!Z66=\"\",\"\",貴校データ入力シート!Z66)","v":""},{"$f":"IF(貴校データ入力シート!AA66=\"\",\"\",貴校データ入力シート!AA66)","v":""},{"$f":"IF(貴校データ入力シート!AB66=\"\",\"\",貴校データ入力シート!AB66)","v":""},null,null,{"$f":"SUM(K63:L63)","v":0}]
[14,"（１４）",{"$f":"IF(貴校データ入力シート!C67=\"\",\"\",貴校データ入力シート!C67)","v":"人の役に立つ人間になりたいと思いますか"},null,null,null,null,null,null,null,{"$f":"IF(貴校データ入力シート!G67=\"\",\"\",貴校データ入力シート!G67)","v":""},{"$f":"IF(貴校データ入力シート!H67=\"\",\"\",貴校データ入力シート!H67)","v":""},{"$f":"IF(貴校データ入力シート!I67=\"\",\"\",貴校データ入力シート!I67)","v":""},{"$f":"IF(貴校データ入力シート!J67=\"\",\"\",貴校データ入力シート!J67)","v":""},{"$f":"IF(貴校データ入力シート!K67=\"\",\"\",貴校データ入力シート!K67)","v":""},{"$f":"IF(貴校データ入力シート!L67=\"\",\"\",貴校データ入力シート!L67)","v":""},{"$f":"IF(貴校データ入力シート!M67=\"\",\"\",貴校データ入力シート!M67)","v":""},{"$f":"IF(貴校データ入力シート!N67=\"\",\"\",貴校データ入力シート!N67)","v":""},{"$f":"IF(貴校データ入力シート!O67=\"\",\"\",貴校データ入力シート!O67)","v":""},{"$f":"IF(貴校データ入力シート!P67=\"\",\"\",貴校データ入力シート!P67)","v":""},{"$f":"IF(貴校データ入力シート!Q67=\"\",\"\",貴校データ入力シート!Q67)","v":""},{"$f":"IF(貴校データ入力シート!R67=\"\",\"\",貴校データ入力シート!R67)","v":""},{"$f":"IF(貴校データ入力シート!S67=\"\",\"\",貴校データ入力シート!S67)","v":""},{"$f":"IF(貴校データ入力シート!T67=\"\",\"\",貴校データ入力シート!T67)","v":""},{"$f":"IF(貴校データ入力シート!U67=\"\",\"\",貴校データ入力シート!U67)","v":""},{"$f":"IF(貴校データ入力シート!V67=\"\",\"\",貴校データ入力シート!V67)","v":""},{"$f":"IF(貴校データ入力シート!W67=\"\",\"\",貴校データ入力シート!W67)","v":""},{"$f":"IF(貴校データ入力シート!X67=\"\",\"\",貴校データ入力シート!X67)","v":""},{"$f":"IF(貴校データ入力シート!Y67=\"\",\"\",貴校データ入力シート!Y67)","v":""},{"$f":"IF(貴校データ入力シート!Z67=\"\",\"\",貴校データ入力シート!Z67)","v":""},{"$f":"IF(貴校データ入力シート!AA67=\"\",\"\",貴校データ入力シート!AA67)","v":""},{"$f":"IF(貴校データ入力シート!AB67=\"\",\"\",貴校データ入力シート!AB67)","v":""},null,null,null,{"$f":"AG65","v":0},{"$f":"AH66","v":0},{"$f":"AI67","v":0}]
[null,null,null,null,null,null,null,null,null,null,{"$f":"IF(貴校データ入力シート!G68=\"\",\"\",貴校データ入力シート!G68)","v":""},{"$f":"IF(貴校データ入力シート!H68=\"\",\"\",貴校データ入力シート!H68)","v":""},{"$f":"IF(貴校データ入力シート!I68=\"\",\"\",貴校データ入力シート!I68)","v":""},{"$f":"IF(貴校データ入力シート!J68=\"\",\"\",貴校データ入力シート!J68)","v":""},{"$f":"IF(貴校データ入力シート!K68=\"\",\"\",貴校データ入力シート!K68)","v":""},{"$f":"IF(貴校データ入力シート!L68=\"\",\"\",貴校データ入力シート!L68)","v":""},{"$f":"IF(貴校データ入力シート!M68=\"\",\"\",貴校データ入力シート!M68)","v":""},{"$f":"IF(貴校データ入力シート!N68=\"\",\"\",貴校データ入力シート!N68)","v":""},{"$f":"IF(貴校データ入力シート!O68=\"\",\"\",貴校データ入力シート!O68)","v":""},{"$f":"IF(貴校データ入力シート!P68=\"\",\"\",貴校データ入力シート!P68)","v":""},{"$f":"IF(貴校データ入力シート!Q68=\"\",\"\",貴校データ入力シート!Q68)","v":""},{"$f":"IF(貴校データ入力シート!R68=\"\",\"\",貴校データ入力シート!R68)","v":""},{"$f":"IF(貴校データ入力シート!S68=\"\",\"\",貴校データ入力シート!S68)","v":""},{"$f":"IF(貴校データ入力シート!T68=\"\",\"\",貴校データ入力シート!T68)","v":""},{"$f":"IF(貴校データ入力シート!U68=\"\",\"\",貴校データ入力シート!U68)","v":""},{"$f":"IF(貴校データ入力シート!V68=\"\",\"\",貴校データ入力シート!V68)","v":""},{"$f":"IF(貴校データ入力シート!W68=\"\",\"\",貴校データ入力シート!W68)","v":""},{"$f":"IF(貴校データ入力シート!X68=\"\",\"\",貴校データ入力シート!X68)","v":""},{"$f":"IF(貴校データ入力シート!Y68=\"\",\"\",貴校データ入力シート!Y68)","v":""},{"$f":"IF(貴校データ入力シート!Z68=\"\",\"\",貴校データ入力シート!Z68)","v":""},{"$f":"IF(貴校データ入力シート!AA68=\"\",\"\",貴校データ入力シート!AA68)","v":""},{"$f":"IF(貴校データ入力シート!AB68=\"\",\"\",貴校データ入力シート!AB68)","v":""},{"$f":"SUM(K65:L65)","v":0}]
[null,null,null,null,null,null,null,null,null,null,{"$f":"IF(貴校データ入力シート!G69=\"\",\"\",貴校データ入力シート!G69)","v":""},{"$f":"IF(貴校データ入力シート!H69=\"\",\"\",貴校データ入力シート!H69)","v":""},{"$f":"IF(貴校データ入力シート!I69=\"\",\"\",貴校データ入力シート!I69)","v":""},{"$f":"IF(貴校データ入力シート!J69=\"\",\"\",貴校データ入力シート!J69)","v":""},{"$f":"IF(貴校データ入力シート!K69=\"\",\"\",貴校データ入力シート!K69)","v":""},{"$f":"IF(貴校データ入力シート!L69=\"\",\"\",貴校データ入力シート!L69)","v":""},{"$f":"IF(貴校データ入力シート!M69=\"\",\"\",貴校データ入力シート!M69)","v":""},{"$f":"IF(貴校データ入力シート!N69=\"\",\"\",貴校データ入力シート!N69)","v":""},{"$f":"IF(貴校データ入力シート!O69=\"\",\"\",貴校データ入力シート!O69)","v":""},{"$f":"IF(貴校データ入力シート!P69=\"\",\"\",貴校データ入力シート!P69)","v":""},{"$f":"IF(貴校データ入力シート!Q69=\"\",\"\",貴校データ入力シート!Q69)","v":""},{"$f":"IF(貴校データ入力シート!R69=\"\",\"\",貴校データ入力シート!R69)","v":""},{"$f":"IF(貴校データ入力シート!S69=\"\",\"\",貴校データ入力シート!S69)","v":""},{"$f":"IF(貴校データ入力シート!T69=\"\",\"\",貴校データ入力シート!T69)","v":""},{"$f":"IF(貴校データ入力シート!U69=\"\",\"\",貴校データ入力シート!U69)","v":""},{"$f":"IF(貴校データ入力シート!V69=\"\",\"\",貴校データ入力シート!V69)","v":""},{"$f":"IF(貴校データ入力シート!W69=\"\",\"\",貴校データ入力シート!W69)","v":""},{"$f":"IF(貴校データ入力シート!X69=\"\",\"\",貴校データ入力シート!X69)","v":""},{"$f":"IF(貴校データ入力シート!Y69=\"\",\"\",貴校データ入力シート!Y69)","v":""},{"$f":"IF(貴校データ入力シート!Z69=\"\",\"\",貴校データ入力シート!Z69)","v":""},{"$f":"IF(貴校データ入力シート!AA69=\"\",\"\",貴校データ入力シート!AA69)","v":""},{"$f":"IF(貴校データ入力シート!AB69=\"\",\"\",貴校データ入力シート!AB69)","v":""},null,{"$f":"SUM(K66:L66)","v":0}]
[null,null,null,null,null,null,null,null,null,null,{"$f":"IF(貴校データ入力シート!G70=\"\",\"\",貴校データ入力シート!G70)","v":""},{"$f":"IF(貴校データ入力シート!H70=\"\",\"\",貴校データ入力シート!H70)","v":""},{"$f":"IF(貴校データ入力シート!I70=\"\",\"\",貴校データ入力シート!I70)","v":""},{"$f":"IF(貴校データ入力シート!J70=\"\",\"\",貴校データ入力シート!J70)","v":""},{"$f":"IF(貴校データ入力シート!K70=\"\",\"\",貴校データ入力シート!K70)","v":""},{"$f":"IF(貴校データ入力シート!L70=\"\",\"\",貴校データ入力シート!L70)","v":""},{"$f":"IF(貴校データ入力シート!M70=\"\",\"\",貴校データ入力シート!M70)","v":""},{"$f":"IF(貴校データ入力シート!N70=\"\",\"\",貴校データ入力シート!N70)","v":""},{"$f":"IF(貴校データ入力シート!O70=\"\",\"\",貴校データ入力シート!O70)","v":""},{"$f":"IF(貴校データ入力シート!P70=\"\",\"\",貴校データ入力シート!P70)","v":""},{"$f":"IF(貴校データ入力シート!Q70=\"\",\"\",貴校データ入力シート!Q70)","v":""},{"$f":"IF(貴校データ入力シート!R70=\"\",\"\",貴校データ入力シート!R70)","v":""},{"$f":"IF(貴校データ入力シート!S70=\"\",\"\",貴校データ入力シート!S70)","v":""},{"$f":"IF(貴校データ入力シート!T70=\"\",\"\",貴校データ入力シート!T70)","v":""},{"$f":"IF(貴校データ入力シート!U70=\"\",\"\",貴校データ入力シート!U70)","v":""},{"$f":"IF(貴校データ入力シート!V70=\"\",\"\",貴校データ入力シート!V70)","v":""},{"$f":"IF(貴校データ入力シート!W70=\"\",\"\",貴校データ入力シート!W70)","v":""},{"$f":"IF(貴校データ入力シート!X70=\"\",\"\",貴校データ入力シート!X70)","v":""},{"$f":"IF(貴校データ入力シート!Y70=\"\",\"\",貴校データ入力シート!Y70)","v":""},{"$f":"IF(貴校データ入力シート!Z70=\"\",\"\",貴校データ入力シート!Z70)","v":""},{"$f":"IF(貴校データ入力シート!AA70=\"\",\"\",貴校データ入力シート!AA70)","v":""},{"$f":"IF(貴校データ入力シート!AB70=\"\",\"\",貴校データ入力シート!AB70)","v":""},null,null,{"$f":"SUM(K67:L67)","v":0}]
[15,"（１５）",{"$f":"IF(貴校データ入力シート!C71=\"\",\"\",貴校データ入力シート!C71)","v":"学校に行くのは楽しいと思いますか"},null,null,null,null,null,null,null,{"$f":"IF(貴校データ入力シート!G71=\"\",\"\",貴校データ入力シート!G71)","v":""},{"$f":"IF(貴校データ入力シート!H71=\"\",\"\",貴校データ入力シート!H71)","v":""},{"$f":"IF(貴校データ入力シート!I71=\"\",\"\",貴校データ入力シート!I71)","v":""},{"$f":"IF(貴校データ入力シート!J71=\"\",\"\",貴校データ入力シート!J71)","v":""},{"$f":"IF(貴校データ入力シート!K71=\"\",\"\",貴校データ入力シート!K71)","v":""},{"$f":"IF(貴校データ入力シート!L71=\"\",\"\",貴校データ入力シート!L71)","v":""},{"$f":"IF(貴校データ入力シート!M71=\"\",\"\",貴校データ入力シート!M71)","v":""},{"$f":"IF(貴校データ入力シート!N71=\"\",\"\",貴校データ入力シート!N71)","v":""},{"$f":"IF(貴校データ入力シート!O71=\"\",\"\",貴校データ入力シート!O71)","v":""},{"$f":"IF(貴校データ入力シート!P71=\"\",\"\",貴校データ入力シート!P71)","v":""},{"$f":"IF(貴校データ入力シート!Q71=\"\",\"\",貴校データ入力シート!Q71)","v":""},{"$f":"IF(貴校データ入力シート!R71=\"\",\"\",貴校データ入力シート!R71)","v":""},{"$f":"IF(貴校データ入力シート!S71=\"\",\"\",貴校データ入力シート!S71)","v":""},{"$f":"IF(貴校データ入力シート!T71=\"\",\"\",貴校データ入力シート!T71)","v":""},{"$f":"IF(貴校データ入力シート!U71=\"\",\"\",貴校データ入力シート!U71)","v":""},{"$f":"IF(貴校データ入力シート!V71=\"\",\"\",貴校データ入力シート!V71)","v":""},{"$f":"IF(貴校データ入力シート!W71=\"\",\"\",貴校データ入力シート!W71)","v":""},{"$f":"IF(貴校データ入力シート!X71=\"\",\"\",貴校データ入力シート!X71)","v":""},{"$f":"IF(貴校データ入力シート!Y71=\"\",\"\",貴校データ入力シート!Y71)","v":""},{"$f":"IF(貴校データ入力シート!Z71=\"\",\"\",貴校データ入力シート!Z71)","v":""},{"$f":"IF(貴校データ入力シート!AA71=\"\",\"\",貴校データ入力シート!AA71)","v":""},{"$f":"IF(貴校データ入力シート!AB71=\"\",\"\",貴校データ入力シート!AB71)","v":""},null,null,null,{"$f":"AG69","v":0},{"$f":"AH70","v":0},{"$f":"AI71","v":0}]
[null,null,null,null,null,null,null,null,null,null,{"$f":"IF(貴校データ入力シート!G72=\"\",\"\",貴校データ入力シート!G72)","v":""},{"$f":"IF(貴校データ入力シート!H72=\"\",\"\",貴校データ入力シート!H72)","v":""},{"$f":"IF(貴校データ入力シート!I72=\"\",\"\",貴校データ入力シート!I72)","v":""},{"$f":"IF(貴校データ入力シート!J72=\"\",\"\",貴校データ入力シート!J72)","v":""},{"$f":"IF(貴校データ入力シート!K72=\"\",\"\",貴校データ入力シート!K72)","v":""},{"$f":"IF(貴校データ入力シート!L72=\"\",\"\",貴校データ入力シート!L72)","v":""},{"$f":"IF(貴校データ入力シート!M72=\"\",\"\",貴校データ入力シート!M72)","v":""},{"$f":"IF(貴校データ入力シート!N72=\"\",\"\",貴校データ入力シート!N72)","v":""},{"$f":"IF(貴校データ入力シート!O72=\"\",\"\",貴校データ入力シート!O72)","v":""},{"$f":"IF(貴校データ入力シート!P72=\"\",\"\",貴校データ入力シート!P72)","v":""},{"$f":"IF(貴校データ入力シート!Q72=\"\",\"\",貴校データ入力シート!Q72)","v":""},{"$f":"IF(貴校データ入力シート!R72=\"\",\"\",貴校データ入力シート!R72)","v":""},{"$f":"IF(貴校データ入力シート!S72=\"\",\"\",貴校データ入力シート!S72)","v":""},{"$f":"IF(貴校データ入力シート!T72=\"\",\"\",貴校データ入力シート!T72)","v":""},{"$f":"IF(貴校データ入力シート!U72=\"\",\"\",貴校データ入力シート!U72)","v":""},{"$f":"IF(貴校データ入力シート!V72=\"\",\"\",貴校データ入力シート!V72)","v":""},{"$f":"IF(貴校データ入力シート!W72=\"\",\"\",貴校データ入力シート!W72)","v":""},{"$f":"IF(貴校データ入力シート!X72=\"\",\"\",貴校データ入力シート!X72)","v":""},{"$f":"IF(貴校データ入力シート!Y72=\"\",\"\",貴校データ入力シート!Y72)","v":""},{"$f":"IF(貴校データ入力シート!Z72=\"\",\"\",貴校データ入力シート!Z72)","v":""},{"$f":"IF(貴校データ入力シート!AA72=\"\",\"\",貴校データ入力シート!AA72)","v":""},{"$f":"IF(貴校データ入力シート!AB72=\"\",\"\",貴校データ入力シート!AB72)","v":""},{"$f":"SUM(K69:L69)","v":0}]
[null,null,null,null,null,null,null,null,null,null,{"$f":"IF(貴校データ入力シート!G73=\"\",\"\",貴校データ入力シート!G73)","v":""},{"$f":"IF(貴校データ入力シート!H73=\"\",\"\",貴校データ入力シート!H73)","v":""},{"$f":"IF(貴校データ入力シート!I73=\"\",\"\",貴校データ入力シート!I73)","v":""},{"$f":"IF(貴校データ入力シート!J73=\"\",\"\",貴校データ入力シート!J73)","v":""},{"$f":"IF(貴校データ入力シート!K73=\"\",\"\",貴校データ入力シート!K73)","v":""},{"$f":"IF(貴校データ入力シート!L73=\"\",\"\",貴校データ入力シート!L73)","v":""},{"$f":"IF(貴校データ入力シート!M73=\"\",\"\",貴校データ入力シート!M73)","v":""},{"$f":"IF(貴校データ入力シート!N73=\"\",\"\",貴校データ入力シート!N73)","v":""},{"$f":"IF(貴校データ入力シート!O73=\"\",\"\",貴校データ入力シート!O73)","v":""},{"$f":"IF(貴校データ入力シート!P73=\"\",\"\",貴校データ入力シート!P73)","v":""},{"$f":"IF(貴校データ入力シート!Q73=\"\",\"\",貴校データ入力シート!Q73)","v":""},{"$f":"IF(貴校データ入力シート!R73=\"\",\"\",貴校データ入力シート!R73)","v":""},{"$f":"IF(貴校データ入力シート!S73=\"\",\"\",貴校データ入力シート!S73)","v":""},{"$f":"IF(貴校データ入力シート!T73=\"\",\"\",貴校データ入力シート!T73)","v":""},{"$f":"IF(貴校データ入力シート!U73=\"\",\"\",貴校データ入力シート!U73)","v":""},{"$f":"IF(貴校データ入力シート!V73=\"\",\"\",貴校データ入力シート!V73)","v":""},{"$f":"IF(貴校データ入力シート!W73=\"\",\"\",貴校データ入力シート!W73)","v":""},{"$f":"IF(貴校データ入力シート!X73=\"\",\"\",貴校データ入力シート!X73)","v":""},{"$f":"IF(貴校データ入力シート!Y73=\"\",\"\",貴校データ入力シート!Y73)","v":""},{"$f":"IF(貴校データ入力シート!Z73=\"\",\"\",貴校データ入力シート!Z73)","v":""},{"$f":"IF(貴校データ入力シート!AA73=\"\",\"\",貴校データ入力シート!AA73)","v":""},{"$f":"IF(貴校データ入力シート!AB73=\"\",\"\",貴校データ入力シート!AB73)","v":""},null,{"$f":"SUM(K70:L70)","v":0}]
[null,null,null,null,null,null,null,null,null,null,{"$f":"IF(貴校データ入力シート!G74=\"\",\"\",貴校データ入力シート!G74)","v":""},{"$f":"IF(貴校データ入力シート!H74=\"\",\"\",貴校データ入力シート!H74)","v":""},{"$f":"IF(貴校データ入力シート!I74=\"\",\"\",貴校データ入力シート!I74)","v":""},{"$f":"IF(貴校データ入力シート!J74=\"\",\"\",貴校データ入力シート!J74)","v":""},{"$f":"IF(貴校データ入力シート!K74=\"\",\"\",貴校データ入力シート!K74)","v":""},{"$f":"IF(貴校データ入力シート!L74=\"\",\"\",貴校データ入力シート!L74)","v":""},{"$f":"IF(貴校データ入力シート!M74=\"\",\"\",貴校データ入力シート!M74)","v":""},{"$f":"IF(貴校データ入力シート!N74=\"\",\"\",貴校データ入力シート!N74)","v":""},{"$f":"IF(貴校データ入力シート!O74=\"\",\"\",貴校データ入力シート!O74)","v":""},{"$f":"IF(貴校データ入力シート!P74=\"\",\"\",貴校データ入力シート!P74)","v":""},{"$f":"IF(貴校データ入力シート!Q74=\"\",\"\",貴校データ入力シート!Q74)","v":""},{"$f":"IF(貴校データ入力シート!R74=\"\",\"\",貴校データ入力シート!R74)","v":""},{"$f":"IF(貴校データ入力シート!S74=\"\",\"\",貴校データ入力シート!S74)","v":""},{"$f":"IF(貴校データ入力シート!T74=\"\",\"\",貴校データ入力シート!T74)","v":""},{"$f":"IF(貴校データ入力シート!U74=\"\",\"\",貴校データ入力シート!U74)","v":""},{"$f":"IF(貴校データ入力シート!V74=\"\",\"\",貴校データ入力シート!V74)","v":""},{"$f":"IF(貴校データ入力シート!W74=\"\",\"\",貴校データ入力シート!W74)","v":""},{"$f":"IF(貴校データ入力シート!X74=\"\",\"\",貴校データ入力シート!X74)","v":""},{"$f":"IF(貴校データ入力シート!Y74=\"\",\"\",貴校データ入力シート!Y74)","v":""},{"$f":"IF(貴校データ入力シート!Z74=\"\",\"\",貴校データ入力シート!Z74)","v":""},{"$f":"IF(貴校データ入力シート!AA74=\"\",\"\",貴校データ入力シート!AA74)","v":""},{"$f":"IF(貴校データ入力シート!AB74=\"\",\"\",貴校データ入力シート!AB74)","v":""},null,null,{"$f":"SUM(K71:L71)","v":0}]
[16,"（１６）",{"$f":"IF(貴校データ入力シート!C75=\"\",\"\",貴校データ入力シート!C75)","v":"自分と違う意見について考えるのは楽しいと思いますか"},null,null,null,null,null,null,null,{"$f":"IF(貴校データ入力シート!G75=\"\",\"\",貴校データ入力シート!G75)","v":""},{"$f":"IF(貴校データ入力シート!H75=\"\",\"\",貴校データ入力シート!H75)","v":""},{"$f":"IF(貴校データ入力シート!I75=\"\",\"\",貴校データ入力シート!I75)","v":""},{"$f":"IF(貴校データ入力シート!J75=\"\",\"\",貴校データ入力シート!J75)","v":""},{"$f":"IF(貴校データ入力シート!K75=\"\",\"\",貴校データ入力シート!K75)","v":""},{"$f":"IF(貴校データ入力シート!L75=\"\",\"\",貴校データ入力シート!L75)","v":""},{"$f":"IF(貴校データ入力シート!M75=\"\",\"\",貴校データ入力シート!M75)","v":""},{"$f":"IF(貴校データ入力シート!N75=\"\",\"\",貴校データ入力シート!N75)","v":""},{"$f":"IF(貴校データ入力シート!O75=\"\",\"\",貴校データ入力シート!O75)","v":""},{"$f":"IF(貴校データ入力シート!P75=\"\",\"\",貴校データ入力シート!P75)","v":""},{"$f":"IF(貴校データ入力シート!Q75=\"\",\"\",貴校データ入力シート!Q75)","v":""},{"$f":"IF(貴校データ入力シート!R75=\"\",\"\",貴校データ入力シート!R75)","v":""},{"$f":"IF(貴校データ入力シート!S75=\"\",\"\",貴校データ入力シート!S75)","v":""},{"$f":"IF(貴校データ入力シート!T75=\"\",\"\",貴校データ入力シート!T75)","v":""},{"$f":"IF(貴校データ入力シート!U75=\"\",\"\",貴校データ入力シート!U75)","v":""},{"$f":"IF(貴校データ入力シート!V75=\"\",\"\",貴校データ入力シート!V75)","v":""},{"$f":"IF(貴校データ入力シート!W75=\"\",\"\",貴校データ入力シート!W75)","v":""},{"$f":"IF(貴校データ入力シート!X75=\"\",\"\",貴校データ入力シート!X75)","v":""},{"$f":"IF(貴校データ入力シート!Y75=\"\",\"\",貴校データ入力シート!Y75)","v":""},{"$f":"IF(貴校データ入力シート!Z75=\"\",\"\",貴校データ入力シート!Z75)","v":""},{"$f":"IF(貴校データ入力シート!AA75=\"\",\"\",貴校データ入力シート!AA75)","v":""},{"$f":"IF(貴校データ入力シート!AB75=\"\",\"\",貴校データ入力シート!AB75)","v":""},null,null,null,{"$f":"AG73","v":0},{"$f":"AH74","v":0},{"$f":"AI75","v":0}]
[null,null,null,null,null,null,null,null,null,null,{"$f":"IF(貴校データ入力シート!G76=\"\",\"\",貴校データ入力シート!G76)","v":""},{"$f":"IF(貴校データ入力シート!H76=\"\",\"\",貴校データ入力シート!H76)","v":""},{"$f":"IF(貴校データ入力シート!I76=\"\",\"\",貴校データ入力シート!I76)","v":""},{"$f":"IF(貴校データ入力シート!J76=\"\",\"\",貴校データ入力シート!J76)","v":""},{"$f":"IF(貴校データ入力シート!K76=\"\",\"\",貴校データ入力シート!K76)","v":""},{"$f":"IF(貴校データ入力シート!L76=\"\",\"\",貴校データ入力シート!L76)","v":""},{"$f":"IF(貴校データ入力シート!M76=\"\",\"\",貴校データ入力シート!M76)","v":""},{"$f":"IF(貴校データ入力シート!N76=\"\",\"\",貴校データ入力シート!N76)","v":""},{"$f":"IF(貴校データ入力シート!O76=\"\",\"\",貴校データ入力シート!O76)","v":""},{"$f":"IF(貴校データ入力シート!P76=\"\",\"\",貴校データ入力シート!P76)","v":""},{"$f":"IF(貴校データ入力シート!Q76=\"\",\"\",貴校データ入力シート!Q76)","v":""},{"$f":"IF(貴校データ入力シート!R76=\"\",\"\",貴校データ入力シート!R76)","v":""},{"$f":"IF(貴校データ入力シート!S76=\"\",\"\",貴校データ入力シート!S76)","v":""},{"$f":"IF(貴校データ入力シート!T76=\"\",\"\",貴校データ入力シート!T76)","v":""},{"$f":"IF(貴校データ入力シート!U76=\"\",\"\",貴校データ入力シート!U76)","v":""},{"$f":"IF(貴校データ入力シート!V76=\"\",\"\",貴校データ入力シート!V76)","v":""},{"$f":"IF(貴校データ入力シート!W76=\"\",\"\",貴校データ入力シート!W76)","v":""},{"$f":"IF(貴校データ入力シート!X76=\"\",\"\",貴校データ入力シート!X76)","v":""},{"$f":"IF(貴校データ入力シート!Y76=\"\",\"\",貴校データ入力シート!Y76)","v":""},{"$f":"IF(貴校データ入力シート!Z76=\"\",\"\",貴校データ入力シート!Z76)","v":""},{"$f":"IF(貴校データ入力シート!AA76=\"\",\"\",貴校データ入力シート!AA76)","v":""},{"$f":"IF(貴校データ入力シート!AB76=\"\",\"\",貴校データ入力シート!AB76)","v":""},{"$f":"SUM(K73:L73)","v":0}]
[null,null,null,null,null,null,null,null,null,null,{"$f":"IF(貴校データ入力シート!G77=\"\",\"\",貴校データ入力シート!G77)","v":""},{"$f":"IF(貴校データ入力シート!H77=\"\",\"\",貴校データ入力シート!H77)","v":""},{"$f":"IF(貴校データ入力シート!I77=\"\",\"\",貴校データ入力シート!I77)","v":""},{"$f":"IF(貴校データ入力シート!J77=\"\",\"\",貴校データ入力シート!J77)","v":""},{"$f":"IF(貴校データ入力シート!K77=\"\",\"\",貴校データ入力シート!K77)","v":""},{"$f":"IF(貴校データ入力シート!L77=\"\",\"\",貴校データ入力シート!L77)","v":""},{"$f":"IF(貴校データ入力シート!M77=\"\",\"\",貴校データ入力シート!M77)","v":""},{"$f":"IF(貴校データ入力シート!N77=\"\",\"\",貴校データ入力シート!N77)","v":""},{"$f":"IF(貴校データ入力シート!O77=\"\",\"\",貴校データ入力シート!O77)","v":""},{"$f":"IF(貴校データ入力シート!P77=\"\",\"\",貴校データ入力シート!P77)","v":""},{"$f":"IF(貴校データ入力シート!Q77=\"\",\"\",貴校データ入力シート!Q77)","v":""},{"$f":"IF(貴校データ入力シート!R77=\"\",\"\",貴校データ入力シート!R77)","v":""},{"$f":"IF(貴校データ入力シート!S77=\"\",\"\",貴校データ入力シート!S77)","v":""},{"$f":"IF(貴校データ入力シート!T77=\"\",\"\",貴校データ入力シート!T77)","v":""},{"$f":"IF(貴校データ入力シート!U77=\"\",\"\",貴校データ入力シート!U77)","v":""},{"$f":"IF(貴校データ入力シート!V77=\"\",\"\",貴校データ入力シート!V77)","v":""},{"$f":"IF(貴校データ入力シート!W77=\"\",\"\",貴校データ入力シート!W77)","v":""},{"$f":"IF(貴校データ入力シート!X77=\"\",\"\",貴校データ入力シート!X77)","v":""},{"$f":"IF(貴校データ入力シート!Y77=\"\",\"\",貴校データ入力シート!Y77)","v":""},{"$f":"IF(貴校データ入力シート!Z77=\"\",\"\",貴校データ入力シート!Z77)","v":""},{"$f":"IF(貴校データ入力シート!AA77=\"\",\"\",貴校データ入力シート!AA77)","v":""},{"$f":"IF(貴校データ入力シート!AB77=\"\",\"\",貴校データ入力シート!AB77)","v":""},null,{"$f":"SUM(K74:L74)","v":0}]
[null,null,null,null,null,null,null,null,null,null,{"$f":"IF(貴校データ入力シート!G78=\"\",\"\",貴校データ入力シート!G78)","v":""},{"$f":"IF(貴校データ入力シート!H78=\"\",\"\",貴校データ入力シート!H78)","v":""},{"$f":"IF(貴校データ入力シート!I78=\"\",\"\",貴校データ入力シート!I78)","v":""},{"$f":"IF(貴校データ入力シート!J78=\"\",\"\",貴校データ入力シート!J78)","v":""},{"$f":"IF(貴校データ入力シート!K78=\"\",\"\",貴校データ入力シート!K78)","v":""},{"$f":"IF(貴校データ入力シート!L78=\"\",\"\",貴校データ入力シート!L78)","v":""},{"$f":"IF(貴校データ入力シート!M78=\"\",\"\",貴校データ入力シート!M78)","v":""},{"$f":"IF(貴校データ入力シート!N78=\"\",\"\",貴校データ入力シート!N78)","v":""},{"$f":"IF(貴校データ入力シート!O78=\"\",\"\",貴校データ入力シート!O78)","v":""},{"$f":"IF(貴校データ入力シート!P78=\"\",\"\",貴校データ入力シート!P78)","v":""},{"$f":"IF(貴校データ入力シート!Q78=\"\",\"\",貴校データ入力シート!Q78)","v":""},{"$f":"IF(貴校データ入力シート!R78=\"\",\"\",貴校データ入力シート!R78)","v":""},{"$f":"IF(貴校データ入力シート!S78=\"\",\"\",貴校データ入力シート!S78)","v":""},{"$f":"IF(貴校データ入力シート!T78=\"\",\"\",貴校データ入力シート!T78)","v":""},{"$f":"IF(貴校データ入力シート!U78=\"\",\"\",貴校データ入力シート!U78)","v":""},{"$f":"IF(貴校データ入力シート!V78=\"\",\"\",貴校データ入力シート!V78)","v":""},{"$f":"IF(貴校データ入力シート!W78=\"\",\"\",貴校データ入力シート!W78)","v":""},{"$f":"IF(貴校データ入力シート!X78=\"\",\"\",貴校データ入力シート!X78)","v":""},{"$f":"IF(貴校データ入力シート!Y78=\"\",\"\",貴校データ入力シート!Y78)","v":""},{"$f":"IF(貴校データ入力シート!Z78=\"\",\"\",貴校データ入力シート!Z78)","v":""},{"$f":"IF(貴校データ入力シート!AA78=\"\",\"\",貴校データ入力シート!AA78)","v":""},{"$f":"IF(貴校データ入力シート!AB78=\"\",\"\",貴校データ入力シート!AB78)","v":""},null,null,{"$f":"SUM(K75:L75)","v":0}]
[17,"（１７）",{"$f":"IF(貴校データ入力シート!C79=\"\",\"\",貴校データ入力シート!C79)","v":"友達関係に満足していますか"},null,null,null,null,null,null,null,{"$f":"IF(貴校データ入力シート!G79=\"\",\"\",貴校データ入力シート!G79)","v":""},{"$f":"IF(貴校データ入力シート!H79=\"\",\"\",貴校データ入力シート!H79)","v":""},{"$f":"IF(貴校データ入力シート!I79=\"\",\"\",貴校データ入力シート!I79)","v":""},{"$f":"IF(貴校データ入力シート!J79=\"\",\"\",貴校データ入力シート!J79)","v":""},{"$f":"IF(貴校データ入力シート!K79=\"\",\"\",貴校データ入力シート!K79)","v":""},{"$f":"IF(貴校データ入力シート!L79=\"\",\"\",貴校データ入力シート!L79)","v":""},{"$f":"IF(貴校データ入力シート!M79=\"\",\"\",貴校データ入力シート!M79)","v":""},{"$f":"IF(貴校データ入力シート!N79=\"\",\"\",貴校データ入力シート!N79)","v":""},{"$f":"IF(貴校データ入力シート!O79=\"\",\"\",貴校データ入力シート!O79)","v":""},{"$f":"IF(貴校データ入力シート!P79=\"\",\"\",貴校データ入力シート!P79)","v":""},{"$f":"IF(貴校データ入力シート!Q79=\"\",\"\",貴校データ入力シート!Q79)","v":""},{"$f":"IF(貴校データ入力シート!R79=\"\",\"\",貴校データ入力シート!R79)","v":""},{"$f":"IF(貴校データ入力シート!S79=\"\",\"\",貴校データ入力シート!S79)","v":""},{"$f":"IF(貴校データ入力シート!T79=\"\",\"\",貴校データ入力シート!T79)","v":""},{"$f":"IF(貴校データ入力シート!U79=\"\",\"\",貴校データ入力シート!U79)","v":""},{"$f":"IF(貴校データ入力シート!V79=\"\",\"\",貴校データ入力シート!V79)","v":""},{"$f":"IF(貴校データ入力シート!W79=\"\",\"\",貴校データ入力シート!W79)","v":""},{"$f":"IF(貴校データ入力シート!X79=\"\",\"\",貴校データ入力シート!X79)","v":""},{"$f":"IF(貴校データ入力シート!Y79=\"\",\"\",貴校データ入力シート!Y79)","v":""},{"$f":"IF(貴校データ入力シート!Z79=\"\",\"\",貴校データ入力シート!Z79)","v":""},{"$f":"IF(貴校データ入力シート!AA79=\"\",\"\",貴校データ入力シート!AA79)","v":""},{"$f":"IF(貴校データ入力シート!AB79=\"\",\"\",貴校データ入力シート!AB79)","v":""},null,null,null,{"$f":"AG77","v":0},{"$f":"AH78","v":0},{"$f":"AI79","v":0}]
[null,null,null,null,null,null,null,null,null,null,{"$f":"IF(貴校データ入力シート!G80=\"\",\"\",貴校データ入力シート!G80)","v":""},{"$f":"IF(貴校データ入力シート!H80=\"\",\"\",貴校データ入力シート!H80)","v":""},{"$f":"IF(貴校データ入力シート!I80=\"\",\"\",貴校データ入力シート!I80)","v":""},{"$f":"IF(貴校データ入力シート!J80=\"\",\"\",貴校データ入力シート!J80)","v":""},{"$f":"IF(貴校データ入力シート!K80=\"\",\"\",貴校データ入力シート!K80)","v":""},{"$f":"IF(貴校データ入力シート!L80=\"\",\"\",貴校データ入力シート!L80)","v":""},{"$f":"IF(貴校データ入力シート!M80=\"\",\"\",貴校データ入力シート!M80)","v":""},{"$f":"IF(貴校データ入力シート!N80=\"\",\"\",貴校データ入力シート!N80)","v":""},{"$f":"IF(貴校データ入力シート!O80=\"\",\"\",貴校データ入力シート!O80)","v":""},{"$f":"IF(貴校データ入力シート!P80=\"\",\"\",貴校データ入力シート!P80)","v":""},{"$f":"IF(貴校データ入力シート!Q80=\"\",\"\",貴校データ入力シート!Q80)","v":""},{"$f":"IF(貴校データ入力シート!R80=\"\",\"\",貴校データ入力シート!R80)","v":""},{"$f":"IF(貴校データ入力シート!S80=\"\",\"\",貴校データ入力シート!S80)","v":""},{"$f":"IF(貴校データ入力シート!T80=\"\",\"\",貴校データ入力シート!T80)","v":""},{"$f":"IF(貴校データ入力シート!U80=\"\",\"\",貴校データ入力シート!U80)","v":""},{"$f":"IF(貴校データ入力シート!V80=\"\",\"\",貴校データ入力シート!V80)","v":""},{"$f":"IF(貴校データ入力シート!W80=\"\",\"\",貴校データ入力シート!W80)","v":""},{"$f":"IF(貴校データ入力シート!X80=\"\",\"\",貴校データ入力シート!X80)","v":""},{"$f":"IF(貴校データ入力シート!Y80=\"\",\"\",貴校データ入力シート!Y80)","v":""},{"$f":"IF(貴校データ入力シート!Z80=\"\",\"\",貴校データ入力シート!Z80)","v":""},{"$f":"IF(貴校データ入力シート!AA80=\"\",\"\",貴校データ入力シート!AA80)","v":""},{"$f":"IF(貴校データ入力シート!AB80=\"\",\"\",貴校データ入力シート!AB80)","v":""},{"$f":"SUM(K77:L77)","v":0}]
[null,null,null,null,null,null,null,null,null,null,{"$f":"IF(貴校データ入力シート!G81=\"\",\"\",貴校データ入力シート!G81)","v":""},{"$f":"IF(貴校データ入力シート!H81=\"\",\"\",貴校データ入力シート!H81)","v":""},{"$f":"IF(貴校データ入力シート!I81=\"\",\"\",貴校データ入力シート!I81)","v":""},{"$f":"IF(貴校データ入力シート!J81=\"\",\"\",貴校データ入力シート!J81)","v":""},{"$f":"IF(貴校データ入力シート!K81=\"\",\"\",貴校データ入力シート!K81)","v":""},{"$f":"IF(貴校データ入力シート!L81=\"\",\"\",貴校データ入力シート!L81)","v":""},{"$f":"IF(貴校データ入力シート!M81=\"\",\"\",貴校データ入力シート!M81)","v":""},{"$f":"IF(貴校データ入力シート!N81=\"\",\"\",貴校データ入力シート!N81)","v":""},{"$f":"IF(貴校データ入力シート!O81=\"\",\"\",貴校データ入力シート!O81)","v":""},{"$f":"IF(貴校データ入力シート!P81=\"\",\"\",貴校データ入力シート!P81)","v":""},{"$f":"IF(貴校データ入力シート!Q81=\"\",\"\",貴校データ入力シート!Q81)","v":""},{"$f":"IF(貴校データ入力シート!R81=\"\",\"\",貴校データ入力シート!R81)","v":""},{"$f":"IF(貴校データ入力シート!S81=\"\",\"\",貴校データ入力シート!S81)","v":""},{"$f":"IF(貴校データ入力シート!T81=\"\",\"\",貴校データ入力シート!T81)","v":""},{"$f":"IF(貴校データ入力シート!U81=\"\",\"\",貴校データ入力シート!U81)","v":""},{"$f":"IF(貴校データ入力シート!V81=\"\",\"\",貴校データ入力シート!V81)","v":""},{"$f":"IF(貴校データ入力シート!W81=\"\",\"\",貴校データ入力シート!W81)","v":""},{"$f":"IF(貴校データ入力シート!X81=\"\",\"\",貴校データ入力シート!X81)","v":""},{"$f":"IF(貴校データ入力シート!Y81=\"\",\"\",貴校データ入力シート!Y81)","v":""},{"$f":"IF(貴校データ入力シート!Z81=\"\",\"\",貴校データ入力シート!Z81)","v":""},{"$f":"IF(貴校データ入力シート!AA81=\"\",\"\",貴校データ入力シート!AA81)","v":""},{"$f":"IF(貴校データ入力シート!AB81=\"\",\"\",貴校データ入力シート!AB81)","v":""},null,{"$f":"SUM(K78:L78)","v":0}]
[null,null,null,null,null,null,null,null,null,null,{"$f":"IF(貴校データ入力シート!G82=\"\",\"\",貴校データ入力シート!G82)","v":""},{"$f":"IF(貴校データ入力シート!H82=\"\",\"\",貴校データ入力シート!H82)","v":""},{"$f":"IF(貴校データ入力シート!I82=\"\",\"\",貴校データ入力シート!I82)","v":""},{"$f":"IF(貴校データ入力シート!J82=\"\",\"\",貴校データ入力シート!J82)","v":""},{"$f":"IF(貴校データ入力シート!K82=\"\",\"\",貴校データ入力シート!K82)","v":""},{"$f":"IF(貴校データ入力シート!L82=\"\",\"\",貴校データ入力シート!L82)","v":""},{"$f":"IF(貴校データ入力シート!M82=\"\",\"\",貴校データ入力シート!M82)","v":""},{"$f":"IF(貴校データ入力シート!N82=\"\",\"\",貴校データ入力シート!N82)","v":""},{"$f":"IF(貴校データ入力シート!O82=\"\",\"\",貴校データ入力シート!O82)","v":""},{"$f":"IF(貴校データ入力シート!P82=\"\",\"\",貴校データ入力シート!P82)","v":""},{"$f":"IF(貴校データ入力シート!Q82=\"\",\"\",貴校データ入力シート!Q82)","v":""},{"$f":"IF(貴校データ入力シート!R82=\"\",\"\",貴校データ入力シート!R82)","v":""},{"$f":"IF(貴校データ入力シート!S82=\"\",\"\",貴校データ入力シート!S82)","v":""},{"$f":"IF(貴校データ入力シート!T82=\"\",\"\",貴校データ入力シート!T82)","v":""},{"$f":"IF(貴校データ入力シート!U82=\"\",\"\",貴校データ入力シート!U82)","v":""},{"$f":"IF(貴校データ入力シート!V82=\"\",\"\",貴校データ入力シート!V82)","v":""},{"$f":"IF(貴校データ入力シート!W82=\"\",\"\",貴校データ入力シート!W82)","v":""},{"$f":"IF(貴校データ入力シート!X82=\"\",\"\",貴校データ入力シート!X82)","v":""},{"$f":"IF(貴校データ入力シート!Y82=\"\",\"\",貴校データ入力シート!Y82)","v":""},{"$f":"IF(貴校データ入力シート!Z82=\"\",\"\",貴校データ入力シート!Z82)","v":""},{"$f":"IF(貴校データ入力シート!AA82=\"\",\"\",貴校データ入力シート!AA82)","v":""},{"$f":"IF(貴校データ入力シート!AB82=\"\",\"\",貴校データ入力シート!AB82)","v":""},null,null,{"$f":"SUM(K79:L79)","v":0}]
[24,"（２０）",{"$f":"IF(貴校データ入力シート!C83=\"\",\"\",貴校データ入力シート!C83)","v":"あなたの学級では、人と違う意見を言っても否定されないと思いますか"},null,null,null,null,null,null,null,{"$f":"IF(貴校データ入力シート!G83=\"\",\"\",貴校データ入力シート!G83)","v":""},{"$f":"IF(貴校データ入力シート!H83=\"\",\"\",貴校データ入力シート!H83)","v":""},{"$f":"IF(貴校データ入力シート!I83=\"\",\"\",貴校データ入力シート!I83)","v":""},{"$f":"IF(貴校データ入力シート!J83=\"\",\"\",貴校データ入力シート!J83)","v":""},{"$f":"IF(貴校データ入力シート!K83=\"\",\"\",貴校データ入力シート!K83)","v":""},{"$f":"IF(貴校データ入力シート!L83=\"\",\"\",貴校データ入力シート!L83)","v":""},{"$f":"IF(貴校データ入力シート!M83=\"\",\"\",貴校データ入力シート!M83)","v":""},{"$f":"IF(貴校データ入力シート!N83=\"\",\"\",貴校データ入力シート!N83)","v":""},{"$f":"IF(貴校データ入力シート!O83=\"\",\"\",貴校データ入力シート!O83)","v":""},{"$f":"IF(貴校データ入力シート!P83=\"\",\"\",貴校データ入力シート!P83)","v":""},{"$f":"IF(貴校データ入力シート!Q83=\"\",\"\",貴校データ入力シート!Q83)","v":""},{"$f":"IF(貴校データ入力シート!R83=\"\",\"\",貴校データ入力シート!R83)","v":""},{"$f":"IF(貴校データ入力シート!S83=\"\",\"\",貴校データ入力シート!S83)","v":""},{"$f":"IF(貴校データ入力シート!T83=\"\",\"\",貴校データ入力シート!T83)","v":""},{"$f":"IF(貴校データ入力シート!U83=\"\",\"\",貴校データ入力シート!U83)","v":""},{"$f":"IF(貴校データ入力シート!V83=\"\",\"\",貴校データ入力シート!V83)","v":""},{"$f":"IF(貴校データ入力シート!W83=\"\",\"\",貴校データ入力シート!W83)","v":""},{"$f":"IF(貴校データ入力シート!X83=\"\",\"\",貴校データ入力シート!X83)","v":""},{"$f":"IF(貴校データ入力シート!Y83=\"\",\"\",貴校データ入力シート!Y83)","v":""},{"$f":"IF(貴校データ入力シート!Z83=\"\",\"\",貴校データ入力シート!Z83)","v":""},{"$f":"IF(貴校データ入力シート!AA83=\"\",\"\",貴校データ入力シート!AA83)","v":""},{"$f":"IF(貴校データ入力シート!AB83=\"\",\"\",貴校データ入力シート!AB83)","v":""},null,null,null,{"$f":"AG81","v":0},{"$f":"AH82","v":0},{"$f":"AI83","v":0},1]
[null,null,null,null,null,null,null,null,null,null,{"$f":"IF(貴校データ入力シート!G84=\"\",\"\",貴校データ入力シート!G84)","v":""},{"$f":"IF(貴校データ入力シート!H84=\"\",\"\",貴校データ入力シート!H84)","v":""},{"$f":"IF(貴校データ入力シート!I84=\"\",\"\",貴校データ入力シート!I84)","v":""},{"$f":"IF(貴校データ入力シート!J84=\"\",\"\",貴校データ入力シート!J84)","v":""},{"$f":"IF(貴校データ入力シート!K84=\"\",\"\",貴校データ入力シート!K84)","v":""},{"$f":"IF(貴校データ入力シート!L84=\"\",\"\",貴校データ入力シート!L84)","v":""},{"$f":"IF(貴校データ入力シート!M84=\"\",\"\",貴校データ入力シート!M84)","v":""},{"$f":"IF(貴校データ入力シート!N84=\"\",\"\",貴校データ入力シート!N84)","v":""},{"$f":"IF(貴校データ入力シート!O84=\"\",\"\",貴校データ入力シート!O84)","v":""},{"$f":"IF(貴校データ入力シート!P84=\"\",\"\",貴校データ入力シート!P84)","v":""},{"$f":"IF(貴校データ入力シート!Q84=\"\",\"\",貴校データ入力シート!Q84)","v":""},{"$f":"IF(貴校データ入力シート!R84=\"\",\"\",貴校データ入力シート!R84)","v":""},{"$f":"IF(貴校データ入力シート!S84=\"\",\"\",貴校データ入力シート!S84)","v":""},{"$f":"IF(貴校データ入力シート!T84=\"\",\"\",貴校データ入力シート!T84)","v":""},{"$f":"IF(貴校データ入力シート!U84=\"\",\"\",貴校データ入力シート!U84)","v":""},{"$f":"IF(貴校データ入力シート!V84=\"\",\"\",貴校データ入力シート!V84)","v":""},{"$f":"IF(貴校データ入力シート!W84=\"\",\"\",貴校データ入力シート!W84)","v":""},{"$f":"IF(貴校データ入力シート!X84=\"\",\"\",貴校データ入力シート!X84)","v":""},{"$f":"IF(貴校データ入力シート!Y84=\"\",\"\",貴校データ入力シート!Y84)","v":""},{"$f":"IF(貴校データ入力シート!Z84=\"\",\"\",貴校データ入力シート!Z84)","v":""},{"$f":"IF(貴校データ入力シート!AA84=\"\",\"\",貴校データ入力シート!AA84)","v":""},{"$f":"IF(貴校データ入力シート!AB84=\"\",\"\",貴校データ入力シート!AB84)","v":""},{"$f":"SUM(K81:L81)","v":0}]
[null,null,null,null,null,null,null,null,null,null,{"$f":"IF(貴校データ入力シート!G85=\"\",\"\",貴校データ入力シート!G85)","v":""},{"$f":"IF(貴校データ入力シート!H85=\"\",\"\",貴校データ入力シート!H85)","v":""},{"$f":"IF(貴校データ入力シート!I85=\"\",\"\",貴校データ入力シート!I85)","v":""},{"$f":"IF(貴校データ入力シート!J85=\"\",\"\",貴校データ入力シート!J85)","v":""},{"$f":"IF(貴校データ入力シート!K85=\"\",\"\",貴校データ入力シート!K85)","v":""},{"$f":"IF(貴校データ入力シート!L85=\"\",\"\",貴校データ入力シート!L85)","v":""},{"$f":"IF(貴校データ入力シート!M85=\"\",\"\",貴校データ入力シート!M85)","v":""},{"$f":"IF(貴校データ入力シート!N85=\"\",\"\",貴校データ入力シート!N85)","v":""},{"$f":"IF(貴校データ入力シート!O85=\"\",\"\",貴校データ入力シート!O85)","v":""},{"$f":"IF(貴校データ入力シート!P85=\"\",\"\",貴校データ入力シート!P85)","v":""},{"$f":"IF(貴校データ入力シート!Q85=\"\",\"\",貴校データ入力シート!Q85)","v":""},{"$f":"IF(貴校データ入力シート!R85=\"\",\"\",貴校データ入力シート!R85)","v":""},{"$f":"IF(貴校データ入力シート!S85=\"\",\"\",貴校データ入力シート!S85)","v":""},{"$f":"IF(貴校データ入力シート!T85=\"\",\"\",貴校データ入力シート!T85)","v":""},{"$f":"IF(貴校データ入力シート!U85=\"\",\"\",貴校データ入力シート!U85)","v":""},{"$f":"IF(貴校データ入力シート!V85=\"\",\"\",貴校データ入力シート!V85)","v":""},{"$f":"IF(貴校データ入力シート!W85=\"\",\"\",貴校データ入力シート!W85)","v":""},{"$f":"IF(貴校データ入力シート!X85=\"\",\"\",貴校データ入力シート!X85)","v":""},{"$f":"IF(貴校データ入力シート!Y85=\"\",\"\",貴校データ入力シート!Y85)","v":""},{"$f":"IF(貴校データ入力シート!Z85=\"\",\"\",貴校データ入力シート!Z85)","v":""},{"$f":"IF(貴校データ入力シート!AA85=\"\",\"\",貴校データ入力シート!AA85)","v":""},{"$f":"IF(貴校データ入力シート!AB85=\"\",\"\",貴校データ入力シート!AB85)","v":""},null,{"$f":"SUM(K82:L82)","v":0}]
[null,null,null,null,null,null,null,null,null,null,{"$f":"IF(貴校データ入力シート!G86=\"\",\"\",貴校データ入力シート!G86)","v":""},{"$f":"IF(貴校データ入力シート!H86=\"\",\"\",貴校データ入力シート!H86)","v":""},{"$f":"IF(貴校データ入力シート!I86=\"\",\"\",貴校データ入力シート!I86)","v":""},{"$f":"IF(貴校データ入力シート!J86=\"\",\"\",貴校データ入力シート!J86)","v":""},{"$f":"IF(貴校データ入力シート!K86=\"\",\"\",貴校データ入力シート!K86)","v":""},{"$f":"IF(貴校データ入力シート!L86=\"\",\"\",貴校データ入力シート!L86)","v":""},{"$f":"IF(貴校データ入力シート!M86=\"\",\"\",貴校データ入力シート!M86)","v":""},{"$f":"IF(貴校データ入力シート!N86=\"\",\"\",貴校データ入力シート!N86)","v":""},{"$f":"IF(貴校データ入力シート!O86=\"\",\"\",貴校データ入力シート!O86)","v":""},{"$f":"IF(貴校データ入力シート!P86=\"\",\"\",貴校データ入力シート!P86)","v":""},{"$f":"IF(貴校データ入力シート!Q86=\"\",\"\",貴校データ入力シート!Q86)","v":""},{"$f":"IF(貴校データ入力シート!R86=\"\",\"\",貴校データ入力シート!R86)","v":""},{"$f":"IF(貴校データ入力シート!S86=\"\",\"\",貴校データ入力シート!S86)","v":""},{"$f":"IF(貴校データ入力シート!T86=\"\",\"\",貴校データ入力シート!T86)","v":""},{"$f":"IF(貴校データ入力シート!U86=\"\",\"\",貴校データ入力シート!U86)","v":""},{"$f":"IF(貴校データ入力シート!V86=\"\",\"\",貴校データ入力シート!V86)","v":""},{"$f":"IF(貴校データ入力シート!W86=\"\",\"\",貴校データ入力シート!W86)","v":""},{"$f":"IF(貴校データ入力シート!X86=\"\",\"\",貴校データ入力シート!X86)","v":""},{"$f":"IF(貴校データ入力シート!Y86=\"\",\"\",貴校データ入力シート!Y86)","v":""},{"$f":"IF(貴校データ入力シート!Z86=\"\",\"\",貴校データ入力シート!Z86)","v":""},{"$f":"IF(貴校データ入力シート!AA86=\"\",\"\",貴校データ入力シート!AA86)","v":""},{"$f":"IF(貴校データ入力シート!AB86=\"\",\"\",貴校データ入力シート!AB86)","v":""},null,null,{"$f":"SUM(K83:L83)","v":0}]
[25,"（２１）",{"$f":"IF(貴校データ入力シート!C87=\"\",\"\",貴校データ入力シート!C87)","v":"普段の生活の中で、幸せな気持ちになることはどれくらいありますか"},null,null,null,null,null,null,null,{"$f":"IF(貴校データ入力シート!G87=\"\",\"\",貴校データ入力シート!G87)","v":""},{"$f":"IF(貴校データ入力シート!H87=\"\",\"\",貴校データ入力シート!H87)","v":""},{"$f":"IF(貴校データ入力シート!I87=\"\",\"\",貴校データ入力シート!I87)","v":""},{"$f":"IF(貴校データ入力シート!J87=\"\",\"\",貴校データ入力シート!J87)","v":""},{"$f":"IF(貴校データ入力シート!K87=\"\",\"\",貴校データ入力シート!K87)","v":""},{"$f":"IF(貴校データ入力シート!L87=\"\",\"\",貴校データ入力シート!L87)","v":""},{"$f":"IF(貴校データ入力シート!M87=\"\",\"\",貴校データ入力シート!M87)","v":""},{"$f":"IF(貴校データ入力シート!N87=\"\",\"\",貴校データ入力シート!N87)","v":""},{"$f":"IF(貴校データ入力シート!O87=\"\",\"\",貴校データ入力シート!O87)","v":""},{"$f":"IF(貴校データ入力シート!P87=\"\",\"\",貴校データ入力シート!P87)","v":""},{"$f":"IF(貴校データ入力シート!Q87=\"\",\"\",貴校データ入力シート!Q87)","v":""},{"$f":"IF(貴校データ入力シート!R87=\"\",\"\",貴校データ入力シート!R87)","v":""},{"$f":"IF(貴校データ入力シート!S87=\"\",\"\",貴校データ入力シート!S87)","v":""},{"$f":"IF(貴校データ入力シート!T87=\"\",\"\",貴校データ入力シート!T87)","v":""},{"$f":"IF(貴校データ入力シート!U87=\"\",\"\",貴校データ入力シート!U87)","v":""},{"$f":"IF(貴校データ入力シート!V87=\"\",\"\",貴校データ入力シート!V87)","v":""},{"$f":"IF(貴校データ入力シート!W87=\"\",\"\",貴校データ入力シート!W87)","v":""},{"$f":"IF(貴校データ入力シート!X87=\"\",\"\",貴校データ入力シート!X87)","v":""},{"$f":"IF(貴校データ入力シート!Y87=\"\",\"\",貴校データ入力シート!Y87)","v":""},{"$f":"IF(貴校データ入力シート!Z87=\"\",\"\",貴校データ入力シート!Z87)","v":""},{"$f":"IF(貴校データ入力シート!AA87=\"\",\"\",貴校データ入力シート!AA87)","v":""},{"$f":"IF(貴校データ入力シート!AB87=\"\",\"\",貴校データ入力シート!AB87)","v":""},null,null,null,{"$f":"AG85","v":0},{"$f":"AH86","v":0},{"$f":"AI87","v":0}]
[null,null,null,null,null,null,null,null,null,null,{"$f":"IF(貴校データ入力シート!G88=\"\",\"\",貴校データ入力シート!G88)","v":""},{"$f":"IF(貴校データ入力シート!H88=\"\",\"\",貴校データ入力シート!H88)","v":""},{"$f":"IF(貴校データ入力シート!I88=\"\",\"\",貴校データ入力シート!I88)","v":""},{"$f":"IF(貴校データ入力シート!J88=\"\",\"\",貴校データ入力シート!J88)","v":""},{"$f":"IF(貴校データ入力シート!K88=\"\",\"\",貴校データ入力シート!K88)","v":""},{"$f":"IF(貴校データ入力シート!L88=\"\",\"\",貴校データ入力シート!L88)","v":""},{"$f":"IF(貴校データ入力シート!M88=\"\",\"\",貴校データ入力シート!M88)","v":""},{"$f":"IF(貴校データ入力シート!N88=\"\",\"\",貴校データ入力シート!N88)","v":""},{"$f":"IF(貴校データ入力シート!O88=\"\",\"\",貴校データ入力シート!O88)","v":""},{"$f":"IF(貴校データ入力シート!P88=\"\",\"\",貴校データ入力シート!P88)","v":""},{"$f":"IF(貴校データ入力シート!Q88=\"\",\"\",貴校データ入力シート!Q88)","v":""},{"$f":"IF(貴校データ入力シート!R88=\"\",\"\",貴校データ入力シート!R88)","v":""},{"$f":"IF(貴校データ入力シート!S88=\"\",\"\",貴校データ入力シート!S88)","v":""},{"$f":"IF(貴校データ入力シート!T88=\"\",\"\",貴校データ入力シート!T88)","v":""},{"$f":"IF(貴校データ入力シート!U88=\"\",\"\",貴校データ入力シート!U88)","v":""},{"$f":"IF(貴校データ入力シート!V88=\"\",\"\",貴校データ入力シート!V88)","v":""},{"$f":"IF(貴校データ入力シート!W88=\"\",\"\",貴校データ入力シート!W88)","v":""},{"$f":"IF(貴校データ入力シート!X88=\"\",\"\",貴校データ入力シート!X88)","v":""},{"$f":"IF(貴校データ入力シート!Y88=\"\",\"\",貴校データ入力シート!Y88)","v":""},{"$f":"IF(貴校データ入力シート!Z88=\"\",\"\",貴校データ入力シート!Z88)","v":""},{"$f":"IF(貴校データ入力シート!AA88=\"\",\"\",貴校データ入力シート!AA88)","v":""},{"$f":"IF(貴校データ入力シート!AB88=\"\",\"\",貴校データ入力シート!AB88)","v":""},{"$f":"SUM(K85:L85)","v":0}]
[null,null,null,null,null,null,null,null,null,null,{"$f":"IF(貴校データ入力シート!G89=\"\",\"\",貴校データ入力シート!G89)","v":""},{"$f":"IF(貴校データ入力シート!H89=\"\",\"\",貴校データ入力シート!H89)","v":""},{"$f":"IF(貴校データ入力シート!I89=\"\",\"\",貴校データ入力シート!I89)","v":""},{"$f":"IF(貴校データ入力シート!J89=\"\",\"\",貴校データ入力シート!J89)","v":""},{"$f":"IF(貴校データ入力シート!K89=\"\",\"\",貴校データ入力シート!K89)","v":""},{"$f":"IF(貴校データ入力シート!L89=\"\",\"\",貴校データ入力シート!L89)","v":""},{"$f":"IF(貴校データ入力シート!M89=\"\",\"\",貴校データ入力シート!M89)","v":""},{"$f":"IF(貴校データ入力シート!N89=\"\",\"\",貴校データ入力シート!N89)","v":""},{"$f":"IF(貴校データ入力シート!O89=\"\",\"\",貴校データ入力シート!O89)","v":""},{"$f":"IF(貴校データ入力シート!P89=\"\",\"\",貴校データ入力シート!P89)","v":""},{"$f":"IF(貴校データ入力シート!Q89=\"\",\"\",貴校データ入力シート!Q89)","v":""},{"$f":"IF(貴校データ入力シート!R89=\"\",\"\",貴校データ入力シート!R89)","v":""},{"$f":"IF(貴校データ入力シート!S89=\"\",\"\",貴校データ入力シート!S89)","v":""},{"$f":"IF(貴校データ入力シート!T89=\"\",\"\",貴校データ入力シート!T89)","v":""},{"$f":"IF(貴校データ入力シート!U89=\"\",\"\",貴校データ入力シート!U89)","v":""},{"$f":"IF(貴校データ入力シート!V89=\"\",\"\",貴校データ入力シート!V89)","v":""},{"$f":"IF(貴校データ入力シート!W89=\"\",\"\",貴校データ入力シート!W89)","v":""},{"$f":"IF(貴校データ入力シート!X89=\"\",\"\",貴校データ入力シート!X89)","v":""},{"$f":"IF(貴校データ入力シート!Y89=\"\",\"\",貴校データ入力シート!Y89)","v":""},{"$f":"IF(貴校データ入力シート!Z89=\"\",\"\",貴校データ入力シート!Z89)","v":""},{"$f":"IF(貴校データ入力シート!AA89=\"\",\"\",貴校データ入力シート!AA89)","v":""},{"$f":"IF(貴校データ入力シート!AB89=\"\",\"\",貴校データ入力シート!AB89)","v":""},null,{"$f":"SUM(K86:L86)","v":0}]
[null,null,null,null,null,null,null,null,null,null,{"$f":"IF(貴校データ入力シート!G90=\"\",\"\",貴校データ入力シート!G90)","v":""},{"$f":"IF(貴校データ入力シート!H90=\"\",\"\",貴校データ入力シート!H90)","v":""},{"$f":"IF(貴校データ入力シート!I90=\"\",\"\",貴校データ入力シート!I90)","v":""},{"$f":"IF(貴校データ入力シート!J90=\"\",\"\",貴校データ入力シート!J90)","v":""},{"$f":"IF(貴校データ入力シート!K90=\"\",\"\",貴校データ入力シート!K90)","v":""},{"$f":"IF(貴校データ入力シート!L90=\"\",\"\",貴校データ入力シート!L90)","v":""},{"$f":"IF(貴校データ入力シート!M90=\"\",\"\",貴校データ入力シート!M90)","v":""},{"$f":"IF(貴校データ入力シート!N90=\"\",\"\",貴校データ入力シート!N90)","v":""},{"$f":"IF(貴校データ入力シート!O90=\"\",\"\",貴校データ入力シート!O90)","v":""},{"$f":"IF(貴校データ入力シート!P90=\"\",\"\",貴校データ入力シート!P90)","v":""},{"$f":"IF(貴校データ入力シート!Q90=\"\",\"\",貴校データ入力シート!Q90)","v":""},{"$f":"IF(貴校データ入力シート!R90=\"\",\"\",貴校データ入力シート!R90)","v":""},{"$f":"IF(貴校データ入力シート!S90=\"\",\"\",貴校データ入力シート!S90)","v":""},{"$f":"IF(貴校データ入力シート!T90=\"\",\"\",貴校データ入力シート!T90)","v":""},{"$f":"IF(貴校データ入力シート!U90=\"\",\"\",貴校データ入力シート!U90)","v":""},{"$f":"IF(貴校データ入力シート!V90=\"\",\"\",貴校データ入力シート!V90)","v":""},{"$f":"IF(貴校データ入力シート!W90=\"\",\"\",貴校データ入力シート!W90)","v":""},{"$f":"IF(貴校データ入力シート!X90=\"\",\"\",貴校データ入力シート!X90)","v":""},{"$f":"IF(貴校データ入力シート!Y90=\"\",\"\",貴校データ入力シート!Y90)","v":""},{"$f":"IF(貴校データ入力シート!Z90=\"\",\"\",貴校データ入力シート!Z90)","v":""},{"$f":"IF(貴校データ入力シート!AA90=\"\",\"\",貴校データ入力シート!AA90)","v":""},{"$f":"IF(貴校データ入力シート!AB90=\"\",\"\",貴校データ入力シート!AB90)","v":""},null,null,{"$f":"SUM(K87:L87)","v":0}]
[26,"（２２）",{"$f":"IF(貴校データ入力シート!C91=\"\",\"\",貴校データ入力シート!C91)","v":"分からないことやくわしく知りたいことがあったときに、自分で学び方を考え、工夫することはできていますか"},null,null,null,null,null,null,null,{"$f":"IF(貴校データ入力シート!G91=\"\",\"\",貴校データ入力シート!G91)","v":""},{"$f":"IF(貴校データ入力シート!H91=\"\",\"\",貴校データ入力シート!H91)","v":""},{"$f":"IF(貴校データ入力シート!I91=\"\",\"\",貴校データ入力シート!I91)","v":""},{"$f":"IF(貴校データ入力シート!J91=\"\",\"\",貴校データ入力シート!J91)","v":""},{"$f":"IF(貴校データ入力シート!K91=\"\",\"\",貴校データ入力シート!K91)","v":""},{"$f":"IF(貴校データ入力シート!L91=\"\",\"\",貴校データ入力シート!L91)","v":""},{"$f":"IF(貴校データ入力シート!M91=\"\",\"\",貴校データ入力シート!M91)","v":""},{"$f":"IF(貴校データ入力シート!N91=\"\",\"\",貴校データ入力シート!N91)","v":""},{"$f":"IF(貴校データ入力シート!O91=\"\",\"\",貴校データ入力シート!O91)","v":""},{"$f":"IF(貴校データ入力シート!P91=\"\",\"\",貴校データ入力シート!P91)","v":""},{"$f":"IF(貴校データ入力シート!Q91=\"\",\"\",貴校データ入力シート!Q91)","v":""},{"$f":"IF(貴校データ入力シート!R91=\"\",\"\",貴校データ入力シート!R91)","v":""},{"$f":"IF(貴校データ入力シート!S91=\"\",\"\",貴校データ入力シート!S91)","v":""},{"$f":"IF(貴校データ入力シート!T91=\"\",\"\",貴校データ入力シート!T91)","v":""},{"$f":"IF(貴校データ入力シート!U91=\"\",\"\",貴校データ入力シート!U91)","v":""},{"$f":"IF(貴校データ入力シート!V91=\"\",\"\",貴校データ入力シート!V91)","v":""},{"$f":"IF(貴校データ入力シート!W91=\"\",\"\",貴校データ入力シート!W91)","v":""},{"$f":"IF(貴校データ入力シート!X91=\"\",\"\",貴校データ入力シート!X91)","v":""},{"$f":"IF(貴校データ入力シート!Y91=\"\",\"\",貴校データ入力シート!Y91)","v":""},{"$f":"IF(貴校データ入力シート!Z91=\"\",\"\",貴校データ入力シート!Z91)","v":""},{"$f":"IF(貴校データ入力シート!AA91=\"\",\"\",貴校データ入力シート!AA91)","v":""},{"$f":"IF(貴校データ入力シート!AB91=\"\",\"\",貴校データ入力シート!AB91)","v":""},null,null,null,{"$f":"AG89","v":0},{"$f":"AH90","v":0},{"$f":"AI91","v":0}]
[null,null,null,null,null,null,null,null,null,null,{"$f":"IF(貴校データ入力シート!G92=\"\",\"\",貴校データ入力シート!G92)","v":""},{"$f":"IF(貴校データ入力シート!H92=\"\",\"\",貴校データ入力シート!H92)","v":""},{"$f":"IF(貴校データ入力シート!I92=\"\",\"\",貴校データ入力シート!I92)","v":""},{"$f":"IF(貴校データ入力シート!J92=\"\",\"\",貴校データ入力シート!J92)","v":""},{"$f":"IF(貴校データ入力シート!K92=\"\",\"\",貴校データ入力シート!K92)","v":""},{"$f":"IF(貴校データ入力シート!L92=\"\",\"\",貴校データ入力シート!L92)","v":""},{"$f":"IF(貴校データ入力シート!M92=\"\",\"\",貴校データ入力シート!M92)","v":""},{"$f":"IF(貴校データ入力シート!N92=\"\",\"\",貴校データ入力シート!N92)","v":""},{"$f":"IF(貴校データ入力シート!O92=\"\",\"\",貴校データ入力シート!O92)","v":""},{"$f":"IF(貴校データ入力シート!P92=\"\",\"\",貴校データ入力シート!P92)","v":""},{"$f":"IF(貴校データ入力シート!Q92=\"\",\"\",貴校データ入力シート!Q92)","v":""},{"$f":"IF(貴校データ入力シート!R92=\"\",\"\",貴校データ入力シート!R92)","v":""},{"$f":"IF(貴校データ入力シート!S92=\"\",\"\",貴校データ入力シート!S92)","v":""},{"$f":"IF(貴校データ入力シート!T92=\"\",\"\",貴校データ入力シート!T92)","v":""},{"$f":"IF(貴校データ入力シート!U92=\"\",\"\",貴校データ入力シート!U92)","v":""},{"$f":"IF(貴校データ入力シート!V92=\"\",\"\",貴校データ入力シート!V92)","v":""},{"$f":"IF(貴校データ入力シート!W92=\"\",\"\",貴校データ入力シート!W92)","v":""},{"$f":"IF(貴校データ入力シート!X92=\"\",\"\",貴校データ入力シート!X92)","v":""},{"$f":"IF(貴校データ入力シート!Y92=\"\",\"\",貴校データ入力シート!Y92)","v":""},{"$f":"IF(貴校データ入力シート!Z92=\"\",\"\",貴校データ入力シート!Z92)","v":""},{"$f":"IF(貴校データ入力シート!AA92=\"\",\"\",貴校データ入力シート!AA92)","v":""},{"$f":"IF(貴校データ入力シート!AB92=\"\",\"\",貴校データ入力シート!AB92)","v":""},{"$f":"SUM(K89:L89)","v":0}]
[null,null,null,null,null,null,null,null,null,null,{"$f":"IF(貴校データ入力シート!G93=\"\",\"\",貴校データ入力シート!G93)","v":""},{"$f":"IF(貴校データ入力シート!H93=\"\",\"\",貴校データ入力シート!H93)","v":""},{"$f":"IF(貴校データ入力シート!I93=\"\",\"\",貴校データ入力シート!I93)","v":""},{"$f":"IF(貴校データ入力シート!J93=\"\",\"\",貴校データ入力シート!J93)","v":""},{"$f":"IF(貴校データ入力シート!K93=\"\",\"\",貴校データ入力シート!K93)","v":""},{"$f":"IF(貴校データ入力シート!L93=\"\",\"\",貴校データ入力シート!L93)","v":""},{"$f":"IF(貴校データ入力シート!M93=\"\",\"\",貴校データ入力シート!M93)","v":""},{"$f":"IF(貴校データ入力シート!N93=\"\",\"\",貴校データ入力シート!N93)","v":""},{"$f":"IF(貴校データ入力シート!O93=\"\",\"\",貴校データ入力シート!O93)","v":""},{"$f":"IF(貴校データ入力シート!P93=\"\",\"\",貴校データ入力シート!P93)","v":""},{"$f":"IF(貴校データ入力シート!Q93=\"\",\"\",貴校データ入力シート!Q93)","v":""},{"$f":"IF(貴校データ入力シート!R93=\"\",\"\",貴校データ入力シート!R93)","v":""},{"$f":"IF(貴校データ入力シート!S93=\"\",\"\",貴校データ入力シート!S93)","v":""},{"$f":"IF(貴校データ入力シート!T93=\"\",\"\",貴校データ入力シート!T93)","v":""},{"$f":"IF(貴校データ入力シート!U93=\"\",\"\",貴校データ入力シート!U93)","v":""},{"$f":"IF(貴校データ入力シート!V93=\"\",\"\",貴校データ入力シート!V93)","v":""},{"$f":"IF(貴校データ入力シート!W93=\"\",\"\",貴校データ入力シート!W93)","v":""},{"$f":"IF(貴校データ入力シート!X93=\"\",\"\",貴校データ入力シート!X93)","v":""},{"$f":"IF(貴校データ入力シート!Y93=\"\",\"\",貴校データ入力シート!Y93)","v":""},{"$f":"IF(貴校データ入力シート!Z93=\"\",\"\",貴校データ入力シート!Z93)","v":""},{"$f":"IF(貴校データ入力シート!AA93=\"\",\"\",貴校データ入力シート!AA93)","v":""},{"$f":"IF(貴校データ入力シート!AB93=\"\",\"\",貴校データ入力シート!AB93)","v":""},null,{"$f":"SUM(K90:L90)","v":0}]
[null,null,null,null,null,null,null,null,null,null,{"$f":"IF(貴校データ入力シート!G94=\"\",\"\",貴校データ入力シート!G94)","v":""},{"$f":"IF(貴校データ入力シート!H94=\"\",\"\",貴校データ入力シート!H94)","v":""},{"$f":"IF(貴校データ入力シート!I94=\"\",\"\",貴校データ入力シート!I94)","v":""},{"$f":"IF(貴校データ入力シート!J94=\"\",\"\",貴校データ入力シート!J94)","v":""},{"$f":"IF(貴校データ入力シート!K94=\"\",\"\",貴校データ入力シート!K94)","v":""},{"$f":"IF(貴校データ入力シート!L94=\"\",\"\",貴校データ入力シート!L94)","v":""},{"$f":"IF(貴校データ入力シート!M94=\"\",\"\",貴校データ入力シート!M94)","v":""},{"$f":"IF(貴校データ入力シート!N94=\"\",\"\",貴校データ入力シート!N94)","v":""},{"$f":"IF(貴校データ入力シート!O94=\"\",\"\",貴校データ入力シート!O94)","v":""},{"$f":"IF(貴校データ入力シート!P94=\"\",\"\",貴校データ入力シート!P94)","v":""},{"$f":"IF(貴校データ入力シート!Q94=\"\",\"\",貴校データ入力シート!Q94)","v":""},{"$f":"IF(貴校データ入力シート!R94=\"\",\"\",貴校データ入力シート!R94)","v":""},{"$f":"IF(貴校データ入力シート!S94=\"\",\"\",貴校データ入力シート!S94)","v":""},{"$f":"IF(貴校データ入力シート!T94=\"\",\"\",貴校データ入力シート!T94)","v":""},{"$f":"IF(貴校データ入力シート!U94=\"\",\"\",貴校データ入力シート!U94)","v":""},{"$f":"IF(貴校データ入力シート!V94=\"\",\"\",貴校データ入力シート!V94)","v":""},{"$f":"IF(貴校データ入力シート!W94=\"\",\"\",貴校データ入力シート!W94)","v":""},{"$f":"IF(貴校データ入力シート!X94=\"\",\"\",貴校データ入力シート!X94)","v":""},{"$f":"IF(貴校データ入力シート!Y94=\"\",\"\",貴校データ入力シート!Y94)","v":""},{"$f":"IF(貴校データ入力シート!Z94=\"\",\"\",貴校データ入力シート!Z94)","v":""},{"$f":"IF(貴校データ入力シート!AA94=\"\",\"\",貴校データ入力シート!AA94)","v":""},{"$f":"IF(貴校データ入力シート!AB94=\"\",\"\",貴校データ入力シート!AB94)","v":""},null,null,{"$f":"SUM(K91:L91)","v":0}]
[27,"（２３）",{"$f":"IF(貴校データ入力シート!C95=\"\",\"\",貴校データ入力シート!C95)","v":"学校の授業時間以外に、普段（月曜日から金曜日）、１日当たりどれくらいの時間、勉強をしますか（学習塾で勉強している時間や家庭教師の先生に教わっている時間、インターネットを活用して学ぶ時間も含む）"},null,null,null,null,null,null,null,{"$f":"IF(貴校データ入力シート!G95=\"\",\"\",貴校データ入力シート!G95)","v":""},{"$f":"IF(貴校データ入力シート!H95=\"\",\"\",貴校データ入力シート!H95)","v":""},{"$f":"IF(貴校データ入力シート!I95=\"\",\"\",貴校データ入力シート!I95)","v":""},{"$f":"IF(貴校データ入力シート!J95=\"\",\"\",貴校データ入力シート!J95)","v":""},{"$f":"IF(貴校データ入力シート!K95=\"\",\"\",貴校データ入力シート!K95)","v":""},{"$f":"IF(貴校データ入力シート!L95=\"\",\"\",貴校データ入力シート!L95)","v":""},{"$f":"IF(貴校データ入力シート!M95=\"\",\"\",貴校データ入力シート!M95)","v":""},{"$f":"IF(貴校データ入力シート!N95=\"\",\"\",貴校データ入力シート!N95)","v":""},{"$f":"IF(貴校データ入力シート!O95=\"\",\"\",貴校データ入力シート!O95)","v":""},{"$f":"IF(貴校データ入力シート!P95=\"\",\"\",貴校データ入力シート!P95)","v":""},{"$f":"IF(貴校データ入力シート!Q95=\"\",\"\",貴校データ入力シート!Q95)","v":""},{"$f":"IF(貴校データ入力シート!R95=\"\",\"\",貴校データ入力シート!R95)","v":""},{"$f":"IF(貴校データ入力シート!S95=\"\",\"\",貴校データ入力シート!S95)","v":""},{"$f":"IF(貴校データ入力シート!T95=\"\",\"\",貴校データ入力シート!T95)","v":""},{"$f":"IF(貴校データ入力シート!U95=\"\",\"\",貴校データ入力シート!U95)","v":""},{"$f":"IF(貴校データ入力シート!V95=\"\",\"\",貴校データ入力シート!V95)","v":""},{"$f":"IF(貴校データ入力シート!W95=\"\",\"\",貴校データ入力シート!W95)","v":""},{"$f":"IF(貴校データ入力シート!X95=\"\",\"\",貴校データ入力シート!X95)","v":""},{"$f":"IF(貴校データ入力シート!Y95=\"\",\"\",貴校データ入力シート!Y95)","v":""},{"$f":"IF(貴校データ入力シート!Z95=\"\",\"\",貴校データ入力シート!Z95)","v":""},{"$f":"IF(貴校データ入力シート!AA95=\"\",\"\",貴校データ入力シート!AA95)","v":""},{"$f":"IF(貴校データ入力シート!AB95=\"\",\"\",貴校データ入力シート!AB95)","v":""},null,null,null,{"$f":"AG93","v":0},{"$f":"AH94","v":0},{"$f":"AI95","v":0},1]
[null,null,null,null,null,null,null,null,null,null,{"$f":"IF(貴校データ入力シート!G96=\"\",\"\",貴校データ入力シート!G96)","v":""},{"$f":"IF(貴校データ入力シート!H96=\"\",\"\",貴校データ入力シート!H96)","v":""},{"$f":"IF(貴校データ入力シート!I96=\"\",\"\",貴校データ入力シート!I96)","v":""},{"$f":"IF(貴校データ入力シート!J96=\"\",\"\",貴校データ入力シート!J96)","v":""},{"$f":"IF(貴校データ入力シート!K96=\"\",\"\",貴校データ入力シート!K96)","v":""},{"$f":"IF(貴校データ入力シート!L96=\"\",\"\",貴校データ入力シート!L96)","v":""},{"$f":"IF(貴校データ入力シート!M96=\"\",\"\",貴校データ入力シート!M96)","v":""},{"$f":"IF(貴校データ入力シート!N96=\"\",\"\",貴校データ入力シート!N96)","v":""},{"$f":"IF(貴校データ入力シート!O96=\"\",\"\",貴校データ入力シート!O96)","v":""},{"$f":"IF(貴校データ入力シート!P96=\"\",\"\",貴校データ入力シート!P96)","v":""},{"$f":"IF(貴校データ入力シート!Q96=\"\",\"\",貴校データ入力シート!Q96)","v":""},{"$f":"IF(貴校データ入力シート!R96=\"\",\"\",貴校データ入力シート!R96)","v":""},{"$f":"IF(貴校データ入力シート!S96=\"\",\"\",貴校データ入力シート!S96)","v":""},{"$f":"IF(貴校データ入力シート!T96=\"\",\"\",貴校データ入力シート!T96)","v":""},{"$f":"IF(貴校データ入力シート!U96=\"\",\"\",貴校データ入力シート!U96)","v":""},{"$f":"IF(貴校データ入力シート!V96=\"\",\"\",貴校データ入力シート!V96)","v":""},{"$f":"IF(貴校データ入力シート!W96=\"\",\"\",貴校データ入力シート!W96)","v":""},{"$f":"IF(貴校データ入力シート!X96=\"\",\"\",貴校データ入力シート!X96)","v":""},{"$f":"IF(貴校データ入力シート!Y96=\"\",\"\",貴校データ入力シート!Y96)","v":""},{"$f":"IF(貴校データ入力シート!Z96=\"\",\"\",貴校データ入力シート!Z96)","v":""},{"$f":"IF(貴校データ入力シート!AA96=\"\",\"\",貴校データ入力シート!AA96)","v":""},{"$f":"IF(貴校データ入力シート!AB96=\"\",\"\",貴校データ入力シート!AB96)","v":""},{"$f":"SUM(K93:L93)","v":0}]
[null,null,null,null,null,null,null,null,null,null,{"$f":"IF(貴校データ入力シート!G97=\"\",\"\",貴校データ入力シート!G97)","v":""},{"$f":"IF(貴校データ入力シート!H97=\"\",\"\",貴校データ入力シート!H97)","v":""},{"$f":"IF(貴校データ入力シート!I97=\"\",\"\",貴校データ入力シート!I97)","v":""},{"$f":"IF(貴校データ入力シート!J97=\"\",\"\",貴校データ入力シート!J97)","v":""},{"$f":"IF(貴校データ入力シート!K97=\"\",\"\",貴校データ入力シート!K97)","v":""},{"$f":"IF(貴校データ入力シート!L97=\"\",\"\",貴校データ入力シート!L97)","v":""},{"$f":"IF(貴校データ入力シート!M97=\"\",\"\",貴校データ入力シート!M97)","v":""},{"$f":"IF(貴校データ入力シート!N97=\"\",\"\",貴校データ入力シート!N97)","v":""},{"$f":"IF(貴校データ入力シート!O97=\"\",\"\",貴校データ入力シート!O97)","v":""},{"$f":"IF(貴校データ入力シート!P97=\"\",\"\",貴校データ入力シート!P97)","v":""},{"$f":"IF(貴校データ入力シート!Q97=\"\",\"\",貴校データ入力シート!Q97)","v":""},{"$f":"IF(貴校データ入力シート!R97=\"\",\"\",貴校データ入力シート!R97)","v":""},{"$f":"IF(貴校データ入力シート!S97=\"\",\"\",貴校データ入力シート!S97)","v":""},{"$f":"IF(貴校データ入力シート!T97=\"\",\"\",貴校データ入力シート!T97)","v":""},{"$f":"IF(貴校データ入力シート!U97=\"\",\"\",貴校データ入力シート!U97)","v":""},{"$f":"IF(貴校データ入力シート!V97=\"\",\"\",貴校データ入力シート!V97)","v":""},{"$f":"IF(貴校データ入力シート!W97=\"\",\"\",貴校データ入力シート!W97)","v":""},{"$f":"IF(貴校データ入力シート!X97=\"\",\"\",貴校データ入力シート!X97)","v":""},{"$f":"IF(貴校データ入力シート!Y97=\"\",\"\",貴校データ入力シート!Y97)","v":""},{"$f":"IF(貴校データ入力シート!Z97=\"\",\"\",貴校データ入力シート!Z97)","v":""},{"$f":"IF(貴校データ入力シート!AA97=\"\",\"\",貴校データ入力シート!AA97)","v":""},{"$f":"IF(貴校データ入力シート!AB97=\"\",\"\",貴校データ入力シート!AB97)","v":""},null,{"$f":"SUM(K94:L94)","v":0}]
[null,null,null,null,null,null,null,null,null,null,{"$f":"IF(貴校データ入力シート!G98=\"\",\"\",貴校データ入力シート!G98)","v":""},{"$f":"IF(貴校データ入力シート!H98=\"\",\"\",貴校データ入力シート!H98)","v":""},{"$f":"IF(貴校データ入力シート!I98=\"\",\"\",貴校データ入力シート!I98)","v":""},{"$f":"IF(貴校データ入力シート!J98=\"\",\"\",貴校データ入力シート!J98)","v":""},{"$f":"IF(貴校データ入力シート!K98=\"\",\"\",貴校データ入力シート!K98)","v":""},{"$f":"IF(貴校データ入力シート!L98=\"\",\"\",貴校データ入力シート!L98)","v":""},{"$f":"IF(貴校データ入力シート!M98=\"\",\"\",貴校データ入力シート!M98)","v":""},{"$f":"IF(貴校データ入力シート!N98=\"\",\"\",貴校データ入力シート!N98)","v":""},{"$f":"IF(貴校データ入力シート!O98=\"\",\"\",貴校データ入力シート!O98)","v":""},{"$f":"IF(貴校データ入力シート!P98=\"\",\"\",貴校データ入力シート!P98)","v":""},{"$f":"IF(貴校データ入力シート!Q98=\"\",\"\",貴校データ入力シート!Q98)","v":""},{"$f":"IF(貴校データ入力シート!R98=\"\",\"\",貴校データ入力シート!R98)","v":""},{"$f":"IF(貴校データ入力シート!S98=\"\",\"\",貴校データ入力シート!S98)","v":""},{"$f":"IF(貴校データ入力シート!T98=\"\",\"\",貴校データ入力シート!T98)","v":""},{"$f":"IF(貴校データ入力シート!U98=\"\",\"\",貴校データ入力シート!U98)","v":""},{"$f":"IF(貴校データ入力シート!V98=\"\",\"\",貴校データ入力シート!V98)","v":""},{"$f":"IF(貴校データ入力シート!W98=\"\",\"\",貴校データ入力シート!W98)","v":""},{"$f":"IF(貴校データ入力シート!X98=\"\",\"\",貴校データ入力シート!X98)","v":""},{"$f":"IF(貴校データ入力シート!Y98=\"\",\"\",貴校データ入力シート!Y98)","v":""},{"$f":"IF(貴校データ入力シート!Z98=\"\",\"\",貴校データ入力シート!Z98)","v":""},{"$f":"IF(貴校データ入力シート!AA98=\"\",\"\",貴校データ入力シート!AA98)","v":""},{"$f":"IF(貴校データ入力シート!AB98=\"\",\"\",貴校データ入力シート!AB98)","v":""},null,null,{"$f":"SUM(K95:L95)","v":0}]
[28,"（２４）",{"$f":"IF(貴校データ入力シート!C99=\"\",\"\",貴校データ入力シート!C99)","v":"学校の授業時間以外に、普段（月曜日から金曜日）、１日当たりどれくらいの時間、PC・タブレットなどのICT機器を、勉強のために使っていますか（遊びなどの目的に使う時間は除く）"},null,null,null,null,null,null,null,{"$f":"IF(貴校データ入力シート!G99=\"\",\"\",貴校データ入力シート!G99)","v":""},{"$f":"IF(貴校データ入力シート!H99=\"\",\"\",貴校データ入力シート!H99)","v":""},{"$f":"IF(貴校データ入力シート!I99=\"\",\"\",貴校データ入力シート!I99)","v":""},{"$f":"IF(貴校データ入力シート!J99=\"\",\"\",貴校データ入力シート!J99)","v":""},{"$f":"IF(貴校データ入力シート!K99=\"\",\"\",貴校データ入力シート!K99)","v":""},{"$f":"IF(貴校データ入力シート!L99=\"\",\"\",貴校データ入力シート!L99)","v":""},{"$f":"IF(貴校データ入力シート!M99=\"\",\"\",貴校データ入力シート!M99)","v":""},{"$f":"IF(貴校データ入力シート!N99=\"\",\"\",貴校データ入力シート!N99)","v":""},{"$f":"IF(貴校データ入力シート!O99=\"\",\"\",貴校データ入力シート!O99)","v":""},{"$f":"IF(貴校データ入力シート!P99=\"\",\"\",貴校データ入力シート!P99)","v":""},{"$f":"IF(貴校データ入力シート!Q99=\"\",\"\",貴校データ入力シート!Q99)","v":""},{"$f":"IF(貴校データ入力シート!R99=\"\",\"\",貴校データ入力シート!R99)","v":""},{"$f":"IF(貴校データ入力シート!S99=\"\",\"\",貴校データ入力シート!S99)","v":""},{"$f":"IF(貴校データ入力シート!T99=\"\",\"\",貴校データ入力シート!T99)","v":""},{"$f":"IF(貴校データ入力シート!U99=\"\",\"\",貴校データ入力シート!U99)","v":""},{"$f":"IF(貴校データ入力シート!V99=\"\",\"\",貴校データ入力シート!V99)","v":""},{"$f":"IF(貴校データ入力シート!W99=\"\",\"\",貴校データ入力シート!W99)","v":""},{"$f":"IF(貴校データ入力シート!X99=\"\",\"\",貴校データ入力シート!X99)","v":""},{"$f":"IF(貴校データ入力シート!Y99=\"\",\"\",貴校データ入力シート!Y99)","v":""},{"$f":"IF(貴校データ入力シート!Z99=\"\",\"\",貴校データ入力シート!Z99)","v":""},{"$f":"IF(貴校データ入力シート!AA99=\"\",\"\",貴校データ入力シート!AA99)","v":""},{"$f":"IF(貴校データ入力シート!AB99=\"\",\"\",貴校データ入力シート!AB99)","v":""},null,null,null,{"$f":"AG97","v":0},{"$f":"AH98","v":0},{"$f":"AI99","v":0},1]
[null,null,null,null,null,null,null,null,null,null,{"$f":"IF(貴校データ入力シート!G100=\"\",\"\",貴校データ入力シート!G100)","v":""},{"$f":"IF(貴校データ入力シート!H100=\"\",\"\",貴校データ入力シート!H100)","v":""},{"$f":"IF(貴校データ入力シート!I100=\"\",\"\",貴校データ入力シート!I100)","v":""},{"$f":"IF(貴校データ入力シート!J100=\"\",\"\",貴校データ入力シート!J100)","v":""},{"$f":"IF(貴校データ入力シート!K100=\"\",\"\",貴校データ入力シート!K100)","v":""},{"$f":"IF(貴校データ入力シート!L100=\"\",\"\",貴校データ入力シート!L100)","v":""},{"$f":"IF(貴校データ入力シート!M100=\"\",\"\",貴校データ入力シート!M100)","v":""},{"$f":"IF(貴校データ入力シート!N100=\"\",\"\",貴校データ入力シート!N100)","v":""},{"$f":"IF(貴校データ入力シート!O100=\"\",\"\",貴校データ入力シート!O100)","v":""},{"$f":"IF(貴校データ入力シート!P100=\"\",\"\",貴校データ入力シート!P100)","v":""},{"$f":"IF(貴校データ入力シート!Q100=\"\",\"\",貴校データ入力シート!Q100)","v":""},{"$f":"IF(貴校データ入力シート!R100=\"\",\"\",貴校データ入力シート!R100)","v":""},{"$f":"IF(貴校データ入力シート!S100=\"\",\"\",貴校データ入力シート!S100)","v":""},{"$f":"IF(貴校データ入力シート!T100=\"\",\"\",貴校データ入力シート!T100)","v":""},{"$f":"IF(貴校データ入力シート!U100=\"\",\"\",貴校データ入力シート!U100)","v":""},{"$f":"IF(貴校データ入力シート!V100=\"\",\"\",貴校データ入力シート!V100)","v":""},{"$f":"IF(貴校データ入力シート!W100=\"\",\"\",貴校データ入力シート!W100)","v":""},{"$f":"IF(貴校データ入力シート!X100=\"\",\"\",貴校データ入力シート!X100)","v":""},{"$f":"IF(貴校データ入力シート!Y100=\"\",\"\",貴校データ入力シート!Y100)","v":""},{"$f":"IF(貴校データ入力シート!Z100=\"\",\"\",貴校データ入力シート!Z100)","v":""},{"$f":"IF(貴校データ入力シート!AA100=\"\",\"\",貴校データ入力シート!AA100)","v":""},{"$f":"IF(貴校データ入力シート!AB100=\"\",\"\",貴校データ入力シート!AB100)","v":""},{"$f":"SUM(K97:L97)","v":0}]
[null,null,null,null,null,null,null,null,null,null,{"$f":"IF(貴校データ入力シート!G101=\"\",\"\",貴校データ入力シート!G101)","v":""},{"$f":"IF(貴校データ入力シート!H101=\"\",\"\",貴校データ入力シート!H101)","v":""},{"$f":"IF(貴校データ入力シート!I101=\"\",\"\",貴校データ入力シート!I101)","v":""},{"$f":"IF(貴校データ入力シート!J101=\"\",\"\",貴校データ入力シート!J101)","v":""},{"$f":"IF(貴校データ入力シート!K101=\"\",\"\",貴校データ入力シート!K101)","v":""},{"$f":"IF(貴校データ入力シート!L101=\"\",\"\",貴校データ入力シート!L101)","v":""},{"$f":"IF(貴校データ入力シート!M101=\"\",\"\",貴校データ入力シート!M101)","v":""},{"$f":"IF(貴校データ入力シート!N101=\"\",\"\",貴校データ入力シート!N101)","v":""},{"$f":"IF(貴校データ入力シート!O101=\"\",\"\",貴校データ入力シート!O101)","v":""},{"$f":"IF(貴校データ入力シート!P101=\"\",\"\",貴校データ入力シート!P101)","v":""},{"$f":"IF(貴校データ入力シート!Q101=\"\",\"\",貴校データ入力シート!Q101)","v":""},{"$f":"IF(貴校データ入力シート!R101=\"\",\"\",貴校データ入力シート!R101)","v":""},{"$f":"IF(貴校データ入力シート!S101=\"\",\"\",貴校データ入力シート!S101)","v":""},{"$f":"IF(貴校データ入力シート!T101=\"\",\"\",貴校データ入力シート!T101)","v":""},{"$f":"IF(貴校データ入力シート!U101=\"\",\"\",貴校データ入力シート!U101)","v":""},{"$f":"IF(貴校データ入力シート!V101=\"\",\"\",貴校データ入力シート!V101)","v":""},{"$f":"IF(貴校データ入力シート!W101=\"\",\"\",貴校データ入力シート!W101)","v":""},{"$f":"IF(貴校データ入力シート!X101=\"\",\"\",貴校データ入力シート!X101)","v":""},{"$f":"IF(貴校データ入力シート!Y101=\"\",\"\",貴校データ入力シート!Y101)","v":""},{"$f":"IF(貴校データ入力シート!Z101=\"\",\"\",貴校データ入力シート!Z101)","v":""},{"$f":"IF(貴校データ入力シート!AA101=\"\",\"\",貴校データ入力シート!AA101)","v":""},{"$f":"IF(貴校データ入力シート!AB101=\"\",\"\",貴校データ入力シート!AB101)","v":""},null,{"$f":"SUM(K98:L98)","v":0}]
[null,null,null,null,null,null,null,null,null,null,{"$f":"IF(貴校データ入力シート!G102=\"\",\"\",貴校データ入力シート!G102)","v":""},{"$f":"IF(貴校データ入力シート!H102=\"\",\"\",貴校データ入力シート!H102)","v":""},{"$f":"IF(貴校データ入力シート!I102=\"\",\"\",貴校データ入力シート!I102)","v":""},{"$f":"IF(貴校データ入力シート!J102=\"\",\"\",貴校データ入力シート!J102)","v":""},{"$f":"IF(貴校データ入力シート!K102=\"\",\"\",貴校データ入力シート!K102)","v":""},{"$f":"IF(貴校データ入力シート!L102=\"\",\"\",貴校データ入力シート!L102)","v":""},{"$f":"IF(貴校データ入力シート!M102=\"\",\"\",貴校データ入力シート!M102)","v":""},{"$f":"IF(貴校データ入力シート!N102=\"\",\"\",貴校データ入力シート!N102)","v":""},{"$f":"IF(貴校データ入力シート!O102=\"\",\"\",貴校データ入力シート!O102)","v":""},{"$f":"IF(貴校データ入力シート!P102=\"\",\"\",貴校データ入力シート!P102)","v":""},{"$f":"IF(貴校データ入力シート!Q102=\"\",\"\",貴校データ入力シート!Q102)","v":""},{"$f":"IF(貴校データ入力シート!R102=\"\",\"\",貴校データ入力シート!R102)","v":""},{"$f":"IF(貴校データ入力シート!S102=\"\",\"\",貴校データ入力シート!S102)","v":""},{"$f":"IF(貴校データ入力シート!T102=\"\",\"\",貴校データ入力シート!T102)","v":""},{"$f":"IF(貴校データ入力シート!U102=\"\",\"\",貴校データ入力シート!U102)","v":""},{"$f":"IF(貴校データ入力シート!V102=\"\",\"\",貴校データ入力シート!V102)","v":""},{"$f":"IF(貴校データ入力シート!W102=\"\",\"\",貴校データ入力シート!W102)","v":""},{"$f":"IF(貴校データ入力シート!X102=\"\",\"\",貴校データ入力シート!X102)","v":""},{"$f":"IF(貴校データ入力シート!Y102=\"\",\"\",貴校データ入力シート!Y102)","v":""},{"$f":"IF(貴校データ入力シート!Z102=\"\",\"\",貴校データ入力シート!Z102)","v":""},{"$f":"IF(貴校データ入力シート!AA102=\"\",\"\",貴校データ入力シート!AA102)","v":""},{"$f":"IF(貴校データ入力シート!AB102=\"\",\"\",貴校データ入力シート!AB102)","v":""},null,null,{"$f":"SUM(K99:L99)","v":0}]
[29,"（２５）",{"$f":"IF(貴校データ入力シート!C103=\"\",\"\",貴校データ入力シート!C103)","v":"土曜日や日曜日など学校が休みの日に、１日当たりどれくらいの時間、勉強をしますか（学習塾で勉強している時間や家庭教師の先生に教わっている時間、インターネットを活用して学ぶ時間も含む）"},null,null,null,null,null,null,null,{"$f":"IF(貴校データ入力シート!G103=\"\",\"\",貴校データ入力シート!G103)","v":""},{"$f":"IF(貴校データ入力シート!H103=\"\",\"\",貴校データ入力シート!H103)","v":""},{"$f":"IF(貴校データ入力シート!I103=\"\",\"\",貴校データ入力シート!I103)","v":""},{"$f":"IF(貴校データ入力シート!J103=\"\",\"\",貴校データ入力シート!J103)","v":""},{"$f":"IF(貴校データ入力シート!K103=\"\",\"\",貴校データ入力シート!K103)","v":""},{"$f":"IF(貴校データ入力シート!L103=\"\",\"\",貴校データ入力シート!L103)","v":""},{"$f":"IF(貴校データ入力シート!M103=\"\",\"\",貴校データ入力シート!M103)","v":""},{"$f":"IF(貴校データ入力シート!N103=\"\",\"\",貴校データ入力シート!N103)","v":""},{"$f":"IF(貴校データ入力シート!O103=\"\",\"\",貴校データ入力シート!O103)","v":""},{"$f":"IF(貴校データ入力シート!P103=\"\",\"\",貴校データ入力シート!P103)","v":""},{"$f":"IF(貴校データ入力シート!Q103=\"\",\"\",貴校データ入力シート!Q103)","v":""},{"$f":"IF(貴校データ入力シート!R103=\"\",\"\",貴校データ入力シート!R103)","v":""},{"$f":"IF(貴校データ入力シート!S103=\"\",\"\",貴校データ入力シート!S103)","v":""},{"$f":"IF(貴校データ入力シート!T103=\"\",\"\",貴校データ入力シート!T103)","v":""},{"$f":"IF(貴校データ入力シート!U103=\"\",\"\",貴校データ入力シート!U103)","v":""},{"$f":"IF(貴校データ入力シート!V103=\"\",\"\",貴校データ入力シート!V103)","v":""},{"$f":"IF(貴校データ入力シート!W103=\"\",\"\",貴校データ入力シート!W103)","v":""},{"$f":"IF(貴校データ入力シート!X103=\"\",\"\",貴校データ入力シート!X103)","v":""},{"$f":"IF(貴校データ入力シート!Y103=\"\",\"\",貴校データ入力シート!Y103)","v":""},{"$f":"IF(貴校データ入力シート!Z103=\"\",\"\",貴校データ入力シート!Z103)","v":""},{"$f":"IF(貴校データ入力シート!AA103=\"\",\"\",貴校データ入力シート!AA103)","v":""},{"$f":"IF(貴校データ入力シート!AB103=\"\",\"\",貴校データ入力シート!AB103)","v":""},null,null,null,{"$f":"AG101","v":0},{"$f":"AH102","v":0},{"$f":"AI103","v":0},1]
[null,null,null,null,null,null,null,null,null,null,{"$f":"IF(貴校データ入力シート!G104=\"\",\"\",貴校データ入力シート!G104)","v":""},{"$f":"IF(貴校データ入力シート!H104=\"\",\"\",貴校データ入力シート!H104)","v":""},{"$f":"IF(貴校データ入力シート!I104=\"\",\"\",貴校データ入力シート!I104)","v":""},{"$f":"IF(貴校データ入力シート!J104=\"\",\"\",貴校データ入力シート!J104)","v":""},{"$f":"IF(貴校データ入力シート!K104=\"\",\"\",貴校データ入力シート!K104)","v":""},{"$f":"IF(貴校データ入力シート!L104=\"\",\"\",貴校データ入力シート!L104)","v":""},{"$f":"IF(貴校データ入力シート!M104=\"\",\"\",貴校データ入力シート!M104)","v":""},{"$f":"IF(貴校データ入力シート!N104=\"\",\"\",貴校データ入力シート!N104)","v":""},{"$f":"IF(貴校データ入力シート!O104=\"\",\"\",貴校データ入力シート!O104)","v":""},{"$f":"IF(貴校データ入力シート!P104=\"\",\"\",貴校データ入力シート!P104)","v":""},{"$f":"IF(貴校データ入力シート!Q104=\"\",\"\",貴校データ入力シート!Q104)","v":""},{"$f":"IF(貴校データ入力シート!R104=\"\",\"\",貴校データ入力シート!R104)","v":""},{"$f":"IF(貴校データ入力シート!S104=\"\",\"\",貴校データ入力シート!S104)","v":""},{"$f":"IF(貴校データ入力シート!T104=\"\",\"\",貴校データ入力シート!T104)","v":""},{"$f":"IF(貴校データ入力シート!U104=\"\",\"\",貴校データ入力シート!U104)","v":""},{"$f":"IF(貴校データ入力シート!V104=\"\",\"\",貴校データ入力シート!V104)","v":""},{"$f":"IF(貴校データ入力シート!W104=\"\",\"\",貴校データ入力シート!W104)","v":""},{"$f":"IF(貴校データ入力シート!X104=\"\",\"\",貴校データ入力シート!X104)","v":""},{"$f":"IF(貴校データ入力シート!Y104=\"\",\"\",貴校データ入力シート!Y104)","v":""},{"$f":"IF(貴校データ入力シート!Z104=\"\",\"\",貴校データ入力シート!Z104)","v":""},{"$f":"IF(貴校データ入力シート!AA104=\"\",\"\",貴校データ入力シート!AA104)","v":""},{"$f":"IF(貴校データ入力シート!AB104=\"\",\"\",貴校データ入力シート!AB104)","v":""},{"$f":"SUM(K101:L101)","v":0}]
[null,null,null,null,null,null,null,null,null,null,{"$f":"IF(貴校データ入力シート!G105=\"\",\"\",貴校データ入力シート!G105)","v":""},{"$f":"IF(貴校データ入力シート!H105=\"\",\"\",貴校データ入力シート!H105)","v":""},{"$f":"IF(貴校データ入力シート!I105=\"\",\"\",貴校データ入力シート!I105)","v":""},{"$f":"IF(貴校データ入力シート!J105=\"\",\"\",貴校データ入力シート!J105)","v":""},{"$f":"IF(貴校データ入力シート!K105=\"\",\"\",貴校データ入力シート!K105)","v":""},{"$f":"IF(貴校データ入力シート!L105=\"\",\"\",貴校データ入力シート!L105)","v":""},{"$f":"IF(貴校データ入力シート!M105=\"\",\"\",貴校データ入力シート!M105)","v":""},{"$f":"IF(貴校データ入力シート!N105=\"\",\"\",貴校データ入力シート!N105)","v":""},{"$f":"IF(貴校データ入力シート!O105=\"\",\"\",貴校データ入力シート!O105)","v":""},{"$f":"IF(貴校データ入力シート!P105=\"\",\"\",貴校データ入力シート!P105)","v":""},{"$f":"IF(貴校データ入力シート!Q105=\"\",\"\",貴校データ入力シート!Q105)","v":""},{"$f":"IF(貴校データ入力シート!R105=\"\",\"\",貴校データ入力シート!R105)","v":""},{"$f":"IF(貴校データ入力シート!S105=\"\",\"\",貴校データ入力シート!S105)","v":""},{"$f":"IF(貴校データ入力シート!T105=\"\",\"\",貴校データ入力シート!T105)","v":""},{"$f":"IF(貴校データ入力シート!U105=\"\",\"\",貴校データ入力シート!U105)","v":""},{"$f":"IF(貴校データ入力シート!V105=\"\",\"\",貴校データ入力シート!V105)","v":""},{"$f":"IF(貴校データ入力シート!W105=\"\",\"\",貴校データ入力シート!W105)","v":""},{"$f":"IF(貴校データ入力シート!X105=\"\",\"\",貴校データ入力シート!X105)","v":""},{"$f":"IF(貴校データ入力シート!Y105=\"\",\"\",貴校データ入力シート!Y105)","v":""},{"$f":"IF(貴校データ入力シート!Z105=\"\",\"\",貴校データ入力シート!Z105)","v":""},{"$f":"IF(貴校データ入力シート!AA105=\"\",\"\",貴校データ入力シート!AA105)","v":""},{"$f":"IF(貴校データ入力シート!AB105=\"\",\"\",貴校データ入力シート!AB105)","v":""},null,{"$f":"SUM(K102:L102)","v":0}]
[null,null,null,null,null,null,null,null,null,null,{"$f":"IF(貴校データ入力シート!G106=\"\",\"\",貴校データ入力シート!G106)","v":""},{"$f":"IF(貴校データ入力シート!H106=\"\",\"\",貴校データ入力シート!H106)","v":""},{"$f":"IF(貴校データ入力シート!I106=\"\",\"\",貴校データ入力シート!I106)","v":""},{"$f":"IF(貴校データ入力シート!J106=\"\",\"\",貴校データ入力シート!J106)","v":""},{"$f":"IF(貴校データ入力シート!K106=\"\",\"\",貴校データ入力シート!K106)","v":""},{"$f":"IF(貴校データ入力シート!L106=\"\",\"\",貴校データ入力シート!L106)","v":""},{"$f":"IF(貴校データ入力シート!M106=\"\",\"\",貴校データ入力シート!M106)","v":""},{"$f":"IF(貴校データ入力シート!N106=\"\",\"\",貴校データ入力シート!N106)","v":""},{"$f":"IF(貴校データ入力シート!O106=\"\",\"\",貴校データ入力シート!O106)","v":""},{"$f":"IF(貴校データ入力シート!P106=\"\",\"\",貴校データ入力シート!P106)","v":""},{"$f":"IF(貴校データ入力シート!Q106=\"\",\"\",貴校データ入力シート!Q106)","v":""},{"$f":"IF(貴校データ入力シート!R106=\"\",\"\",貴校データ入力シート!R106)","v":""},{"$f":"IF(貴校データ入力シート!S106=\"\",\"\",貴校データ入力シート!S106)","v":""},{"$f":"IF(貴校データ入力シート!T106=\"\",\"\",貴校データ入力シート!T106)","v":""},{"$f":"IF(貴校データ入力シート!U106=\"\",\"\",貴校データ入力シート!U106)","v":""},{"$f":"IF(貴校データ入力シート!V106=\"\",\"\",貴校データ入力シート!V106)","v":""},{"$f":"IF(貴校データ入力シート!W106=\"\",\"\",貴校データ入力シート!W106)","v":""},{"$f":"IF(貴校データ入力シート!X106=\"\",\"\",貴校データ入力シート!X106)","v":""},{"$f":"IF(貴校データ入力シート!Y106=\"\",\"\",貴校データ入力シート!Y106)","v":""},{"$f":"IF(貴校データ入力シート!Z106=\"\",\"\",貴校データ入力シート!Z106)","v":""},{"$f":"IF(貴校データ入力シート!AA106=\"\",\"\",貴校データ入力シート!AA106)","v":""},{"$f":"IF(貴校データ入力シート!AB106=\"\",\"\",貴校データ入力シート!AB106)","v":""},null,null,{"$f":"SUM(K103:L103)","v":0}]
[30,"（２６）",{"$f":"IF(貴校データ入力シート!C107=\"\",\"\",貴校データ入力シート!C107)","v":"学校の授業時間以外に、普段、１日当たりどれくらいの時間、読書をしますか（電子書籍の読書も含む。教科書や参考書、漫画や雑誌は除く）"},null,null,null,null,null,null,null,{"$f":"IF(貴校データ入力シート!G107=\"\",\"\",貴校データ入力シート!G107)","v":""},{"$f":"IF(貴校データ入力シート!H107=\"\",\"\",貴校データ入力シート!H107)","v":""},{"$f":"IF(貴校データ入力シート!I107=\"\",\"\",貴校データ入力シート!I107)","v":""},{"$f":"IF(貴校データ入力シート!J107=\"\",\"\",貴校データ入力シート!J107)","v":""},{"$f":"IF(貴校データ入力シート!K107=\"\",\"\",貴校データ入力シート!K107)","v":""},{"$f":"IF(貴校データ入力シート!L107=\"\",\"\",貴校データ入力シート!L107)","v":""},{"$f":"IF(貴校データ入力シート!M107=\"\",\"\",貴校データ入力シート!M107)","v":""},{"$f":"IF(貴校データ入力シート!N107=\"\",\"\",貴校データ入力シート!N107)","v":""},{"$f":"IF(貴校データ入力シート!O107=\"\",\"\",貴校データ入力シート!O107)","v":""},{"$f":"IF(貴校データ入力シート!P107=\"\",\"\",貴校データ入力シート!P107)","v":""},{"$f":"IF(貴校データ入力シート!Q107=\"\",\"\",貴校データ入力シート!Q107)","v":""},{"$f":"IF(貴校データ入力シート!R107=\"\",\"\",貴校データ入力シート!R107)","v":""},{"$f":"IF(貴校データ入力シート!S107=\"\",\"\",貴校データ入力シート!S107)","v":""},{"$f":"IF(貴校データ入力シート!T107=\"\",\"\",貴校データ入力シート!T107)","v":""},{"$f":"IF(貴校データ入力シート!U107=\"\",\"\",貴校データ入力シート!U107)","v":""},{"$f":"IF(貴校データ入力シート!V107=\"\",\"\",貴校データ入力シート!V107)","v":""},{"$f":"IF(貴校データ入力シート!W107=\"\",\"\",貴校データ入力シート!W107)","v":""},{"$f":"IF(貴校データ入力シート!X107=\"\",\"\",貴校データ入力シート!X107)","v":""},{"$f":"IF(貴校データ入力シート!Y107=\"\",\"\",貴校データ入力シート!Y107)","v":""},{"$f":"IF(貴校データ入力シート!Z107=\"\",\"\",貴校データ入力シート!Z107)","v":""},{"$f":"IF(貴校データ入力シート!AA107=\"\",\"\",貴校データ入力シート!AA107)","v":""},{"$f":"IF(貴校データ入力シート!AB107=\"\",\"\",貴校データ入力シート!AB107)","v":""},null,null,null,{"$f":"AG105","v":0},{"$f":"AH106","v":0},{"$f":"AI107","v":0},1]
[null,null,null,null,null,null,null,null,null,null,{"$f":"IF(貴校データ入力シート!G108=\"\",\"\",貴校データ入力シート!G108)","v":""},{"$f":"IF(貴校データ入力シート!H108=\"\",\"\",貴校データ入力シート!H108)","v":""},{"$f":"IF(貴校データ入力シート!I108=\"\",\"\",貴校データ入力シート!I108)","v":""},{"$f":"IF(貴校データ入力シート!J108=\"\",\"\",貴校データ入力シート!J108)","v":""},{"$f":"IF(貴校データ入力シート!K108=\"\",\"\",貴校データ入力シート!K108)","v":""},{"$f":"IF(貴校データ入力シート!L108=\"\",\"\",貴校データ入力シート!L108)","v":""},{"$f":"IF(貴校データ入力シート!M108=\"\",\"\",貴校データ入力シート!M108)","v":""},{"$f":"IF(貴校データ入力シート!N108=\"\",\"\",貴校データ入力シート!N108)","v":""},{"$f":"IF(貴校データ入力シート!O108=\"\",\"\",貴校データ入力シート!O108)","v":""},{"$f":"IF(貴校データ入力シート!P108=\"\",\"\",貴校データ入力シート!P108)","v":""},{"$f":"IF(貴校データ入力シート!Q108=\"\",\"\",貴校データ入力シート!Q108)","v":""},{"$f":"IF(貴校データ入力シート!R108=\"\",\"\",貴校データ入力シート!R108)","v":""},{"$f":"IF(貴校データ入力シート!S108=\"\",\"\",貴校データ入力シート!S108)","v":""},{"$f":"IF(貴校データ入力シート!T108=\"\",\"\",貴校データ入力シート!T108)","v":""},{"$f":"IF(貴校データ入力シート!U108=\"\",\"\",貴校データ入力シート!U108)","v":""},{"$f":"IF(貴校データ入力シート!V108=\"\",\"\",貴校データ入力シート!V108)","v":""},{"$f":"IF(貴校データ入力シート!W108=\"\",\"\",貴校データ入力シート!W108)","v":""},{"$f":"IF(貴校データ入力シート!X108=\"\",\"\",貴校データ入力シート!X108)","v":""},{"$f":"IF(貴校データ入力シート!Y108=\"\",\"\",貴校データ入力シート!Y108)","v":""},{"$f":"IF(貴校データ入力シート!Z108=\"\",\"\",貴校データ入力シート!Z108)","v":""},{"$f":"IF(貴校データ入力シート!AA108=\"\",\"\",貴校データ入力シート!AA108)","v":""},{"$f":"IF(貴校データ入力シート!AB108=\"\",\"\",貴校データ入力シート!AB108)","v":""},{"$f":"SUM(K105:L105)","v":0}]
[null,null,null,null,null,null,null,null,null,null,{"$f":"IF(貴校データ入力シート!G109=\"\",\"\",貴校データ入力シート!G109)","v":""},{"$f":"IF(貴校データ入力シート!H109=\"\",\"\",貴校データ入力シート!H109)","v":""},{"$f":"IF(貴校データ入力シート!I109=\"\",\"\",貴校データ入力シート!I109)","v":""},{"$f":"IF(貴校データ入力シート!J109=\"\",\"\",貴校データ入力シート!J109)","v":""},{"$f":"IF(貴校データ入力シート!K109=\"\",\"\",貴校データ入力シート!K109)","v":""},{"$f":"IF(貴校データ入力シート!L109=\"\",\"\",貴校データ入力シート!L109)","v":""},{"$f":"IF(貴校データ入力シート!M109=\"\",\"\",貴校データ入力シート!M109)","v":""},{"$f":"IF(貴校データ入力シート!N109=\"\",\"\",貴校データ入力シート!N109)","v":""},{"$f":"IF(貴校データ入力シート!O109=\"\",\"\",貴校データ入力シート!O109)","v":""},{"$f":"IF(貴校データ入力シート!P109=\"\",\"\",貴校データ入力シート!P109)","v":""},{"$f":"IF(貴校データ入力シート!Q109=\"\",\"\",貴校データ入力シート!Q109)","v":""},{"$f":"IF(貴校データ入力シート!R109=\"\",\"\",貴校データ入力シート!R109)","v":""},{"$f":"IF(貴校データ入力シート!S109=\"\",\"\",貴校データ入力シート!S109)","v":""},{"$f":"IF(貴校データ入力シート!T109=\"\",\"\",貴校データ入力シート!T109)","v":""},{"$f":"IF(貴校データ入力シート!U109=\"\",\"\",貴校データ入力シート!U109)","v":""},{"$f":"IF(貴校データ入力シート!V109=\"\",\"\",貴校データ入力シート!V109)","v":""},{"$f":"IF(貴校データ入力シート!W109=\"\",\"\",貴校データ入力シート!W109)","v":""},{"$f":"IF(貴校データ入力シート!X109=\"\",\"\",貴校データ入力シート!X109)","v":""},{"$f":"IF(貴校データ入力シート!Y109=\"\",\"\",貴校データ入力シート!Y109)","v":""},{"$f":"IF(貴校データ入力シート!Z109=\"\",\"\",貴校データ入力シート!Z109)","v":""},{"$f":"IF(貴校データ入力シート!AA109=\"\",\"\",貴校データ入力シート!AA109)","v":""},{"$f":"IF(貴校データ入力シート!AB109=\"\",\"\",貴校データ入力シート!AB109)","v":""},null,{"$f":"SUM(K106:L106)","v":0}]
[null,null,null,null,null,null,null,null,null,null,{"$f":"IF(貴校データ入力シート!G110=\"\",\"\",貴校データ入力シート!G110)","v":""},{"$f":"IF(貴校データ入力シート!H110=\"\",\"\",貴校データ入力シート!H110)","v":""},{"$f":"IF(貴校データ入力シート!I110=\"\",\"\",貴校データ入力シート!I110)","v":""},{"$f":"IF(貴校データ入力シート!J110=\"\",\"\",貴校データ入力シート!J110)","v":""},{"$f":"IF(貴校データ入力シート!K110=\"\",\"\",貴校データ入力シート!K110)","v":""},{"$f":"IF(貴校データ入力シート!L110=\"\",\"\",貴校データ入力シート!L110)","v":""},{"$f":"IF(貴校データ入力シート!M110=\"\",\"\",貴校データ入力シート!M110)","v":""},{"$f":"IF(貴校データ入力シート!N110=\"\",\"\",貴校データ入力シート!N110)","v":""},{"$f":"IF(貴校データ入力シート!O110=\"\",\"\",貴校データ入力シート!O110)","v":""},{"$f":"IF(貴校データ入力シート!P110=\"\",\"\",貴校データ入力シート!P110)","v":""},{"$f":"IF(貴校データ入力シート!Q110=\"\",\"\",貴校データ入力シート!Q110)","v":""},{"$f":"IF(貴校データ入力シート!R110=\"\",\"\",貴校データ入力シート!R110)","v":""},{"$f":"IF(貴校データ入力シート!S110=\"\",\"\",貴校データ入力シート!S110)","v":""},{"$f":"IF(貴校データ入力シート!T110=\"\",\"\",貴校データ入力シート!T110)","v":""},{"$f":"IF(貴校データ入力シート!U110=\"\",\"\",貴校データ入力シート!U110)","v":""},{"$f":"IF(貴校データ入力シート!V110=\"\",\"\",貴校データ入力シート!V110)","v":""},{"$f":"IF(貴校データ入力シート!W110=\"\",\"\",貴校データ入力シート!W110)","v":""},{"$f":"IF(貴校データ入力シート!X110=\"\",\"\",貴校データ入力シート!X110)","v":""},{"$f":"IF(貴校データ入力シート!Y110=\"\",\"\",貴校データ入力シート!Y110)","v":""},{"$f":"IF(貴校データ入力シート!Z110=\"\",\"\",貴校データ入力シート!Z110)","v":""},{"$f":"IF(貴校データ入力シート!AA110=\"\",\"\",貴校データ入力シート!AA110)","v":""},{"$f":"IF(貴校データ入力シート!AB110=\"\",\"\",貴校データ入力シート!AB110)","v":""},null,null,{"$f":"SUM(K107:L107)","v":0}]
[31,"（２７）",{"$f":"IF(貴校データ入力シート!C111=\"\",\"\",貴校データ入力シート!C111)","v":"昼休みや放課後に、本（教科書や参考書、漫画や雑誌は除く）を読んだり、借りたりするために、学校図書館・学校図書室（電子図書館を含む）にどれくらい行きますか"},null,null,null,null,null,null,null,{"$f":"IF(貴校データ入力シート!G111=\"\",\"\",貴校データ入力シート!G111)","v":""},{"$f":"IF(貴校データ入力シート!H111=\"\",\"\",貴校データ入力シート!H111)","v":""},{"$f":"IF(貴校データ入力シート!I111=\"\",\"\",貴校データ入力シート!I111)","v":""},{"$f":"IF(貴校データ入力シート!J111=\"\",\"\",貴校データ入力シート!J111)","v":""},{"$f":"IF(貴校データ入力シート!K111=\"\",\"\",貴校データ入力シート!K111)","v":""},{"$f":"IF(貴校データ入力シート!L111=\"\",\"\",貴校データ入力シート!L111)","v":""},{"$f":"IF(貴校データ入力シート!M111=\"\",\"\",貴校データ入力シート!M111)","v":""},{"$f":"IF(貴校データ入力シート!N111=\"\",\"\",貴校データ入力シート!N111)","v":""},{"$f":"IF(貴校データ入力シート!O111=\"\",\"\",貴校データ入力シート!O111)","v":""},{"$f":"IF(貴校データ入力シート!P111=\"\",\"\",貴校データ入力シート!P111)","v":""},{"$f":"IF(貴校データ入力シート!Q111=\"\",\"\",貴校データ入力シート!Q111)","v":""},{"$f":"IF(貴校データ入力シート!R111=\"\",\"\",貴校データ入力シート!R111)","v":""},{"$f":"IF(貴校データ入力シート!S111=\"\",\"\",貴校データ入力シート!S111)","v":""},{"$f":"IF(貴校データ入力シート!T111=\"\",\"\",貴校データ入力シート!T111)","v":""},{"$f":"IF(貴校データ入力シート!U111=\"\",\"\",貴校データ入力シート!U111)","v":""},{"$f":"IF(貴校データ入力シート!V111=\"\",\"\",貴校データ入力シート!V111)","v":""},{"$f":"IF(貴校データ入力シート!W111=\"\",\"\",貴校データ入力シート!W111)","v":""},{"$f":"IF(貴校データ入力シート!X111=\"\",\"\",貴校データ入力シート!X111)","v":""},{"$f":"IF(貴校データ入力シート!Y111=\"\",\"\",貴校データ入力シート!Y111)","v":""},{"$f":"IF(貴校データ入力シート!Z111=\"\",\"\",貴校データ入力シート!Z111)","v":""},{"$f":"IF(貴校データ入力シート!AA111=\"\",\"\",貴校データ入力シート!AA111)","v":""},{"$f":"IF(貴校データ入力シート!AB111=\"\",\"\",貴校データ入力シート!AB111)","v":""},null,null,null,{"$f":"AG109","v":0},{"$f":"AH110","v":0},{"$f":"AI111","v":0},1]
[null,null,null,null,null,null,null,null,null,null,{"$f":"IF(貴校データ入力シート!G112=\"\",\"\",貴校データ入力シート!G112)","v":""},{"$f":"IF(貴校データ入力シート!H112=\"\",\"\",貴校データ入力シート!H112)","v":""},{"$f":"IF(貴校データ入力シート!I112=\"\",\"\",貴校データ入力シート!I112)","v":""},{"$f":"IF(貴校データ入力シート!J112=\"\",\"\",貴校データ入力シート!J112)","v":""},{"$f":"IF(貴校データ入力シート!K112=\"\",\"\",貴校データ入力シート!K112)","v":""},{"$f":"IF(貴校データ入力シート!L112=\"\",\"\",貴校データ入力シート!L112)","v":""},{"$f":"IF(貴校データ入力シート!M112=\"\",\"\",貴校データ入力シート!M112)","v":""},{"$f":"IF(貴校データ入力シート!N112=\"\",\"\",貴校データ入力シート!N112)","v":""},{"$f":"IF(貴校データ入力シート!O112=\"\",\"\",貴校データ入力シート!O112)","v":""},{"$f":"IF(貴校データ入力シート!P112=\"\",\"\",貴校データ入力シート!P112)","v":""},{"$f":"IF(貴校データ入力シート!Q112=\"\",\"\",貴校データ入力シート!Q112)","v":""},{"$f":"IF(貴校データ入力シート!R112=\"\",\"\",貴校データ入力シート!R112)","v":""},{"$f":"IF(貴校データ入力シート!S112=\"\",\"\",貴校データ入力シート!S112)","v":""},{"$f":"IF(貴校データ入力シート!T112=\"\",\"\",貴校データ入力シート!T112)","v":""},{"$f":"IF(貴校データ入力シート!U112=\"\",\"\",貴校データ入力シート!U112)","v":""},{"$f":"IF(貴校データ入力シート!V112=\"\",\"\",貴校データ入力シート!V112)","v":""},{"$f":"IF(貴校データ入力シート!W112=\"\",\"\",貴校データ入力シート!W112)","v":""},{"$f":"IF(貴校データ入力シート!X112=\"\",\"\",貴校データ入力シート!X112)","v":""},{"$f":"IF(貴校データ入力シート!Y112=\"\",\"\",貴校データ入力シート!Y112)","v":""},{"$f":"IF(貴校データ入力シート!Z112=\"\",\"\",貴校データ入力シート!Z112)","v":""},{"$f":"IF(貴校データ入力シート!AA112=\"\",\"\",貴校データ入力シート!AA112)","v":""},{"$f":"IF(貴校データ入力シート!AB112=\"\",\"\",貴校データ入力シート!AB112)","v":""},{"$f":"SUM(K109:L109)","v":0}]
[null,null,null,null,null,null,null,null,null,null,{"$f":"IF(貴校データ入力シート!G113=\"\",\"\",貴校データ入力シート!G113)","v":""},{"$f":"IF(貴校データ入力シート!H113=\"\",\"\",貴校データ入力シート!H113)","v":""},{"$f":"IF(貴校データ入力シート!I113=\"\",\"\",貴校データ入力シート!I113)","v":""},{"$f":"IF(貴校データ入力シート!J113=\"\",\"\",貴校データ入力シート!J113)","v":""},{"$f":"IF(貴校データ入力シート!K113=\"\",\"\",貴校データ入力シート!K113)","v":""},{"$f":"IF(貴校データ入力シート!L113=\"\",\"\",貴校データ入力シート!L113)","v":""},{"$f":"IF(貴校データ入力シート!M113=\"\",\"\",貴校データ入力シート!M113)","v":""},{"$f":"IF(貴校データ入力シート!N113=\"\",\"\",貴校データ入力シート!N113)","v":""},{"$f":"IF(貴校データ入力シート!O113=\"\",\"\",貴校データ入力シート!O113)","v":""},{"$f":"IF(貴校データ入力シート!P113=\"\",\"\",貴校データ入力シート!P113)","v":""},{"$f":"IF(貴校データ入力シート!Q113=\"\",\"\",貴校データ入力シート!Q113)","v":""},{"$f":"IF(貴校データ入力シート!R113=\"\",\"\",貴校データ入力シート!R113)","v":""},{"$f":"IF(貴校データ入力シート!S113=\"\",\"\",貴校データ入力シート!S113)","v":""},{"$f":"IF(貴校データ入力シート!T113=\"\",\"\",貴校データ入力シート!T113)","v":""},{"$f":"IF(貴校データ入力シート!U113=\"\",\"\",貴校データ入力シート!U113)","v":""},{"$f":"IF(貴校データ入力シート!V113=\"\",\"\",貴校データ入力シート!V113)","v":""},{"$f":"IF(貴校データ入力シート!W113=\"\",\"\",貴校データ入力シート!W113)","v":""},{"$f":"IF(貴校データ入力シート!X113=\"\",\"\",貴校データ入力シート!X113)","v":""},{"$f":"IF(貴校データ入力シート!Y113=\"\",\"\",貴校データ入力シート!Y113)","v":""},{"$f":"IF(貴校データ入力シート!Z113=\"\",\"\",貴校データ入力シート!Z113)","v":""},{"$f":"IF(貴校データ入力シート!AA113=\"\",\"\",貴校データ入力シート!AA113)","v":""},{"$f":"IF(貴校データ入力シート!AB113=\"\",\"\",貴校データ入力シート!AB113)","v":""},null,{"$f":"SUM(K110:L110)","v":0}]
[null,null,null,null,null,null,null,null,null,null,{"$f":"IF(貴校データ入力シート!G114=\"\",\"\",貴校データ入力シート!G114)","v":""},{"$f":"IF(貴校データ入力シート!H114=\"\",\"\",貴校データ入力シート!H114)","v":""},{"$f":"IF(貴校データ入力シート!I114=\"\",\"\",貴校データ入力シート!I114)","v":""},{"$f":"IF(貴校データ入力シート!J114=\"\",\"\",貴校データ入力シート!J114)","v":""},{"$f":"IF(貴校データ入力シート!K114=\"\",\"\",貴校データ入力シート!K114)","v":""},{"$f":"IF(貴校データ入力シート!L114=\"\",\"\",貴校データ入力シート!L114)","v":""},{"$f":"IF(貴校データ入力シート!M114=\"\",\"\",貴校データ入力シート!M114)","v":""},{"$f":"IF(貴校データ入力シート!N114=\"\",\"\",貴校データ入力シート!N114)","v":""},{"$f":"IF(貴校データ入力シート!O114=\"\",\"\",貴校データ入力シート!O114)","v":""},{"$f":"IF(貴校データ入力シート!P114=\"\",\"\",貴校データ入力シート!P114)","v":""},{"$f":"IF(貴校データ入力シート!Q114=\"\",\"\",貴校データ入力シート!Q114)","v":""},{"$f":"IF(貴校データ入力シート!R114=\"\",\"\",貴校データ入力シート!R114)","v":""},{"$f":"IF(貴校データ入力シート!S114=\"\",\"\",貴校データ入力シート!S114)","v":""},{"$f":"IF(貴校データ入力シート!T114=\"\",\"\",貴校データ入力シート!T114)","v":""},{"$f":"IF(貴校データ入力シート!U114=\"\",\"\",貴校データ入力シート!U114)","v":""},{"$f":"IF(貴校データ入力シート!V114=\"\",\"\",貴校データ入力シート!V114)","v":""},{"$f":"IF(貴校データ入力シート!W114=\"\",\"\",貴校データ入力シート!W114)","v":""},{"$f":"IF(貴校データ入力シート!X114=\"\",\"\",貴校データ入力シート!X114)","v":""},{"$f":"IF(貴校データ入力シート!Y114=\"\",\"\",貴校データ入力シート!Y114)","v":""},{"$f":"IF(貴校データ入力シート!Z114=\"\",\"\",貴校データ入力シート!Z114)","v":""},{"$f":"IF(貴校データ入力シート!AA114=\"\",\"\",貴校データ入力シート!AA114)","v":""},{"$f":"IF(貴校データ入力シート!AB114=\"\",\"\",貴校データ入力シート!AB114)","v":""},null,null,{"$f":"SUM(K111:L111)","v":0}]
[32,"（２８）",{"$f":"IF(貴校データ入力シート!C115=\"\",\"\",貴校データ入力シート!C115)","v":"放課後や学校が休みの日に、本（教科書や参考書、漫画や雑誌は除く）を読んだり、借りたりするために、地域の図書館（電子図書館を含む）にどれくらい行きますか"},null,null,null,null,null,null,null,{"$f":"IF(貴校データ入力シート!G115=\"\",\"\",貴校データ入力シート!G115)","v":""},{"$f":"IF(貴校データ入力シート!H115=\"\",\"\",貴校データ入力シート!H115)","v":""},{"$f":"IF(貴校データ入力シート!I115=\"\",\"\",貴校データ入力シート!I115)","v":""},{"$f":"IF(貴校データ入力シート!J115=\"\",\"\",貴校データ入力シート!J115)","v":""},{"$f":"IF(貴校データ入力シート!K115=\"\",\"\",貴校データ入力シート!K115)","v":""},{"$f":"IF(貴校データ入力シート!L115=\"\",\"\",貴校データ入力シート!L115)","v":""},{"$f":"IF(貴校データ入力シート!M115=\"\",\"\",貴校データ入力シート!M115)","v":""},{"$f":"IF(貴校データ入力シート!N115=\"\",\"\",貴校データ入力シート!N115)","v":""},{"$f":"IF(貴校データ入力シート!O115=\"\",\"\",貴校データ入力シート!O115)","v":""},{"$f":"IF(貴校データ入力シート!P115=\"\",\"\",貴校データ入力シート!P115)","v":""},{"$f":"IF(貴校データ入力シート!Q115=\"\",\"\",貴校データ入力シート!Q115)","v":""},{"$f":"IF(貴校データ入力シート!R115=\"\",\"\",貴校データ入力シート!R115)","v":""},{"$f":"IF(貴校データ入力シート!S115=\"\",\"\",貴校データ入力シート!S115)","v":""},{"$f":"IF(貴校データ入力シート!T115=\"\",\"\",貴校データ入力シート!T115)","v":""},{"$f":"IF(貴校データ入力シート!U115=\"\",\"\",貴校データ入力シート!U115)","v":""},{"$f":"IF(貴校データ入力シート!V115=\"\",\"\",貴校データ入力シート!V115)","v":""},{"$f":"IF(貴校データ入力シート!W115=\"\",\"\",貴校データ入力シート!W115)","v":""},{"$f":"IF(貴校データ入力シート!X115=\"\",\"\",貴校データ入力シート!X115)","v":""},{"$f":"IF(貴校データ入力シート!Y115=\"\",\"\",貴校データ入力シート!Y115)","v":""},{"$f":"IF(貴校データ入力シート!Z115=\"\",\"\",貴校データ入力シート!Z115)","v":""},{"$f":"IF(貴校データ入力シート!AA115=\"\",\"\",貴校データ入力シート!AA115)","v":""},{"$f":"IF(貴校データ入力シート!AB115=\"\",\"\",貴校データ入力シート!AB115)","v":""},null,null,null,{"$f":"AG113","v":0},{"$f":"AH114","v":0},{"$f":"AI115","v":0},1]
[null,null,null,null,null,null,null,null,null,null,{"$f":"IF(貴校データ入力シート!G116=\"\",\"\",貴校データ入力シート!G116)","v":""},{"$f":"IF(貴校データ入力シート!H116=\"\",\"\",貴校データ入力シート!H116)","v":""},{"$f":"IF(貴校データ入力シート!I116=\"\",\"\",貴校データ入力シート!I116)","v":""},{"$f":"IF(貴校データ入力シート!J116=\"\",\"\",貴校データ入力シート!J116)","v":""},{"$f":"IF(貴校データ入力シート!K116=\"\",\"\",貴校データ入力シート!K116)","v":""},{"$f":"IF(貴校データ入力シート!L116=\"\",\"\",貴校データ入力シート!L116)","v":""},{"$f":"IF(貴校データ入力シート!M116=\"\",\"\",貴校データ入力シート!M116)","v":""},{"$f":"IF(貴校データ入力シート!N116=\"\",\"\",貴校データ入力シート!N116)","v":""},{"$f":"IF(貴校データ入力シート!O116=\"\",\"\",貴校データ入力シート!O116)","v":""},{"$f":"IF(貴校データ入力シート!P116=\"\",\"\",貴校データ入力シート!P116)","v":""},{"$f":"IF(貴校データ入力シート!Q116=\"\",\"\",貴校データ入力シート!Q116)","v":""},{"$f":"IF(貴校データ入力シート!R116=\"\",\"\",貴校データ入力シート!R116)","v":""},{"$f":"IF(貴校データ入力シート!S116=\"\",\"\",貴校データ入力シート!S116)","v":""},{"$f":"IF(貴校データ入力シート!T116=\"\",\"\",貴校データ入力シート!T116)","v":""},{"$f":"IF(貴校データ入力シート!U116=\"\",\"\",貴校データ入力シート!U116)","v":""},{"$f":"IF(貴校データ入力シート!V116=\"\",\"\",貴校データ入力シート!V116)","v":""},{"$f":"IF(貴校データ入力シート!W116=\"\",\"\",貴校データ入力シート!W116)","v":""},{"$f":"IF(貴校データ入力シート!X116=\"\",\"\",貴校データ入力シート!X116)","v":""},{"$f":"IF(貴校データ入力シート!Y116=\"\",\"\",貴校データ入力シート!Y116)","v":""},{"$f":"IF(貴校データ入力シート!Z116=\"\",\"\",貴校データ入力シート!Z116)","v":""},{"$f":"IF(貴校データ入力シート!AA116=\"\",\"\",貴校データ入力シート!AA116)","v":""},{"$f":"IF(貴校データ入力シート!AB116=\"\",\"\",貴校データ入力シート!AB116)","v":""},{"$f":"SUM(K113:L113)","v":0}]
[null,null,null,null,null,null,null,null,null,null,{"$f":"IF(貴校データ入力シート!G117=\"\",\"\",貴校データ入力シート!G117)","v":""},{"$f":"IF(貴校データ入力シート!H117=\"\",\"\",貴校データ入力シート!H117)","v":""},{"$f":"IF(貴校データ入力シート!I117=\"\",\"\",貴校データ入力シート!I117)","v":""},{"$f":"IF(貴校データ入力シート!J117=\"\",\"\",貴校データ入力シート!J117)","v":""},{"$f":"IF(貴校データ入力シート!K117=\"\",\"\",貴校データ入力シート!K117)","v":""},{"$f":"IF(貴校データ入力シート!L117=\"\",\"\",貴校データ入力シート!L117)","v":""},{"$f":"IF(貴校データ入力シート!M117=\"\",\"\",貴校データ入力シート!M117)","v":""},{"$f":"IF(貴校データ入力シート!N117=\"\",\"\",貴校データ入力シート!N117)","v":""},{"$f":"IF(貴校データ入力シート!O117=\"\",\"\",貴校データ入力シート!O117)","v":""},{"$f":"IF(貴校データ入力シート!P117=\"\",\"\",貴校データ入力シート!P117)","v":""},{"$f":"IF(貴校データ入力シート!Q117=\"\",\"\",貴校データ入力シート!Q117)","v":""},{"$f":"IF(貴校データ入力シート!R117=\"\",\"\",貴校データ入力シート!R117)","v":""},{"$f":"IF(貴校データ入力シート!S117=\"\",\"\",貴校データ入力シート!S117)","v":""},{"$f":"IF(貴校データ入力シート!T117=\"\",\"\",貴校データ入力シート!T117)","v":""},{"$f":"IF(貴校データ入力シート!U117=\"\",\"\",貴校データ入力シート!U117)","v":""},{"$f":"IF(貴校データ入力シート!V117=\"\",\"\",貴校データ入力シート!V117)","v":""},{"$f":"IF(貴校データ入力シート!W117=\"\",\"\",貴校データ入力シート!W117)","v":""},{"$f":"IF(貴校データ入力シート!X117=\"\",\"\",貴校データ入力シート!X117)","v":""},{"$f":"IF(貴校データ入力シート!Y117=\"\",\"\",貴校データ入力シート!Y117)","v":""},{"$f":"IF(貴校データ入力シート!Z117=\"\",\"\",貴校データ入力シート!Z117)","v":""},{"$f":"IF(貴校データ入力シート!AA117=\"\",\"\",貴校データ入力シート!AA117)","v":""},{"$f":"IF(貴校データ入力シート!AB117=\"\",\"\",貴校データ入力シート!AB117)","v":""},null,{"$f":"SUM(K114:L114)","v":0}]
[null,null,null,null,null,null,null,null,null,null,{"$f":"IF(貴校データ入力シート!G118=\"\",\"\",貴校データ入力シート!G118)","v":""},{"$f":"IF(貴校データ入力シート!H118=\"\",\"\",貴校データ入力シート!H118)","v":""},{"$f":"IF(貴校データ入力シート!I118=\"\",\"\",貴校データ入力シート!I118)","v":""},{"$f":"IF(貴校データ入力シート!J118=\"\",\"\",貴校データ入力シート!J118)","v":""},{"$f":"IF(貴校データ入力シート!K118=\"\",\"\",貴校データ入力シート!K118)","v":""},{"$f":"IF(貴校データ入力シート!L118=\"\",\"\",貴校データ入力シート!L118)","v":""},{"$f":"IF(貴校データ入力シート!M118=\"\",\"\",貴校データ入力シート!M118)","v":""},{"$f":"IF(貴校データ入力シート!N118=\"\",\"\",貴校データ入力シート!N118)","v":""},{"$f":"IF(貴校データ入力シート!O118=\"\",\"\",貴校データ入力シート!O118)","v":""},{"$f":"IF(貴校データ入力シート!P118=\"\",\"\",貴校データ入力シート!P118)","v":""},{"$f":"IF(貴校データ入力シート!Q118=\"\",\"\",貴校データ入力シート!Q118)","v":""},{"$f":"IF(貴校データ入力シート!R118=\"\",\"\",貴校データ入力シート!R118)","v":""},{"$f":"IF(貴校データ入力シート!S118=\"\",\"\",貴校データ入力シート!S118)","v":""},{"$f":"IF(貴校データ入力シート!T118=\"\",\"\",貴校データ入力シート!T118)","v":""},{"$f":"IF(貴校データ入力シート!U118=\"\",\"\",貴校データ入力シート!U118)","v":""},{"$f":"IF(貴校データ入力シート!V118=\"\",\"\",貴校データ入力シート!V118)","v":""},{"$f":"IF(貴校データ入力シート!W118=\"\",\"\",貴校データ入力シート!W118)","v":""},{"$f":"IF(貴校データ入力シート!X118=\"\",\"\",貴校データ入力シート!X118)","v":""},{"$f":"IF(貴校データ入力シート!Y118=\"\",\"\",貴校データ入力シート!Y118)","v":""},{"$f":"IF(貴校データ入力シート!Z118=\"\",\"\",貴校データ入力シート!Z118)","v":""},{"$f":"IF(貴校データ入力シート!AA118=\"\",\"\",貴校データ入力シート!AA118)","v":""},{"$f":"IF(貴校データ入力シート!AB118=\"\",\"\",貴校データ入力シート!AB118)","v":""},null,null,{"$f":"SUM(K115:L115)","v":0}]
[33,"（２９）",{"$f":"IF(貴校データ入力シート!C119=\"\",\"\",貴校データ入力シート!C119)","v":"あなたの家には、およそどれくらいの本がありますか（雑誌、新聞、教科書は除く）"},null,null,null,null,null,null,null,{"$f":"IF(貴校データ入力シート!G119=\"\",\"\",貴校データ入力シート!G119)","v":""},{"$f":"IF(貴校データ入力シート!H119=\"\",\"\",貴校データ入力シート!H119)","v":""},{"$f":"IF(貴校データ入力シート!I119=\"\",\"\",貴校データ入力シート!I119)","v":""},{"$f":"IF(貴校データ入力シート!J119=\"\",\"\",貴校データ入力シート!J119)","v":""},{"$f":"IF(貴校データ入力シート!K119=\"\",\"\",貴校データ入力シート!K119)","v":""},{"$f":"IF(貴校データ入力シート!L119=\"\",\"\",貴校データ入力シート!L119)","v":""},{"$f":"IF(貴校データ入力シート!M119=\"\",\"\",貴校データ入力シート!M119)","v":""},{"$f":"IF(貴校データ入力シート!N119=\"\",\"\",貴校データ入力シート!N119)","v":""},{"$f":"IF(貴校データ入力シート!O119=\"\",\"\",貴校データ入力シート!O119)","v":""},{"$f":"IF(貴校データ入力シート!P119=\"\",\"\",貴校データ入力シート!P119)","v":""},{"$f":"IF(貴校データ入力シート!Q119=\"\",\"\",貴校データ入力シート!Q119)","v":""},{"$f":"IF(貴校データ入力シート!R119=\"\",\"\",貴校データ入力シート!R119)","v":""},{"$f":"IF(貴校データ入力シート!S119=\"\",\"\",貴校データ入力シート!S119)","v":""},{"$f":"IF(貴校データ入力シート!T119=\"\",\"\",貴校データ入力シート!T119)","v":""},{"$f":"IF(貴校データ入力シート!U119=\"\",\"\",貴校データ入力シート!U119)","v":""},{"$f":"IF(貴校データ入力シート!V119=\"\",\"\",貴校データ入力シート!V119)","v":""},{"$f":"IF(貴校データ入力シート!W119=\"\",\"\",貴校データ入力シート!W119)","v":""},{"$f":"IF(貴校データ入力シート!X119=\"\",\"\",貴校データ入力シート!X119)","v":""},{"$f":"IF(貴校データ入力シート!Y119=\"\",\"\",貴校データ入力シート!Y119)","v":""},{"$f":"IF(貴校データ入力シート!Z119=\"\",\"\",貴校データ入力シート!Z119)","v":""},{"$f":"IF(貴校データ入力シート!AA119=\"\",\"\",貴校データ入力シート!AA119)","v":""},{"$f":"IF(貴校データ入力シート!AB119=\"\",\"\",貴校データ入力シート!AB119)","v":""},null,null,null,{"$f":"AG117","v":0},{"$f":"AH118","v":0},{"$f":"AI119","v":0},1]
[null,null,null,null,null,null,null,null,null,null,{"$f":"IF(貴校データ入力シート!G120=\"\",\"\",貴校データ入力シート!G120)","v":""},{"$f":"IF(貴校データ入力シート!H120=\"\",\"\",貴校データ入力シート!H120)","v":""},{"$f":"IF(貴校データ入力シート!I120=\"\",\"\",貴校データ入力シート!I120)","v":""},{"$f":"IF(貴校データ入力シート!J120=\"\",\"\",貴校データ入力シート!J120)","v":""},{"$f":"IF(貴校データ入力シート!K120=\"\",\"\",貴校データ入力シート!K120)","v":""},{"$f":"IF(貴校データ入力シート!L120=\"\",\"\",貴校データ入力シート!L120)","v":""},{"$f":"IF(貴校データ入力シート!M120=\"\",\"\",貴校データ入力シート!M120)","v":""},{"$f":"IF(貴校データ入力シート!N120=\"\",\"\",貴校データ入力シート!N120)","v":""},{"$f":"IF(貴校データ入力シート!O120=\"\",\"\",貴校データ入力シート!O120)","v":""},{"$f":"IF(貴校データ入力シート!P120=\"\",\"\",貴校データ入力シート!P120)","v":""},{"$f":"IF(貴校データ入力シート!Q120=\"\",\"\",貴校データ入力シート!Q120)","v":""},{"$f":"IF(貴校データ入力シート!R120=\"\",\"\",貴校データ入力シート!R120)","v":""},{"$f":"IF(貴校データ入力シート!S120=\"\",\"\",貴校データ入力シート!S120)","v":""},{"$f":"IF(貴校データ入力シート!T120=\"\",\"\",貴校データ入力シート!T120)","v":""},{"$f":"IF(貴校データ入力シート!U120=\"\",\"\",貴校データ入力シート!U120)","v":""},{"$f":"IF(貴校データ入力シート!V120=\"\",\"\",貴校データ入力シート!V120)","v":""},{"$f":"IF(貴校データ入力シート!W120=\"\",\"\",貴校データ入力シート!W120)","v":""},{"$f":"IF(貴校データ入力シート!X120=\"\",\"\",貴校データ入力シート!X120)","v":""},{"$f":"IF(貴校データ入力シート!Y120=\"\",\"\",貴校データ入力シート!Y120)","v":""},{"$f":"IF(貴校データ入力シート!Z120=\"\",\"\",貴校データ入力シート!Z120)","v":""},{"$f":"IF(貴校データ入力シート!AA120=\"\",\"\",貴校データ入力シート!AA120)","v":""},{"$f":"IF(貴校データ入力シート!AB120=\"\",\"\",貴校データ入力シート!AB120)","v":""},{"$f":"SUM(K117:L117)","v":0}]
[null,null,null,null,null,null,null,null,null,null,{"$f":"IF(貴校データ入力シート!G121=\"\",\"\",貴校データ入力シート!G121)","v":""},{"$f":"IF(貴校データ入力シート!H121=\"\",\"\",貴校データ入力シート!H121)","v":""},{"$f":"IF(貴校データ入力シート!I121=\"\",\"\",貴校データ入力シート!I121)","v":""},{"$f":"IF(貴校データ入力シート!J121=\"\",\"\",貴校データ入力シート!J121)","v":""},{"$f":"IF(貴校データ入力シート!K121=\"\",\"\",貴校データ入力シート!K121)","v":""},{"$f":"IF(貴校データ入力シート!L121=\"\",\"\",貴校データ入力シート!L121)","v":""},{"$f":"IF(貴校データ入力シート!M121=\"\",\"\",貴校データ入力シート!M121)","v":""},{"$f":"IF(貴校データ入力シート!N121=\"\",\"\",貴校データ入力シート!N121)","v":""},{"$f":"IF(貴校データ入力シート!O121=\"\",\"\",貴校データ入力シート!O121)","v":""},{"$f":"IF(貴校データ入力シート!P121=\"\",\"\",貴校データ入力シート!P121)","v":""},{"$f":"IF(貴校データ入力シート!Q121=\"\",\"\",貴校データ入力シート!Q121)","v":""},{"$f":"IF(貴校データ入力シート!R121=\"\",\"\",貴校データ入力シート!R121)","v":""},{"$f":"IF(貴校データ入力シート!S121=\"\",\"\",貴校データ入力シート!S121)","v":""},{"$f":"IF(貴校データ入力シート!T121=\"\",\"\",貴校データ入力シート!T121)","v":""},{"$f":"IF(貴校データ入力シート!U121=\"\",\"\",貴校データ入力シート!U121)","v":""},{"$f":"IF(貴校データ入力シート!V121=\"\",\"\",貴校データ入力シート!V121)","v":""},{"$f":"IF(貴校データ入力シート!W121=\"\",\"\",貴校データ入力シート!W121)","v":""},{"$f":"IF(貴校データ入力シート!X121=\"\",\"\",貴校データ入力シート!X121)","v":""},{"$f":"IF(貴校データ入力シート!Y121=\"\",\"\",貴校データ入力シート!Y121)","v":""},{"$f":"IF(貴校データ入力シート!Z121=\"\",\"\",貴校データ入力シート!Z121)","v":""},{"$f":"IF(貴校データ入力シート!AA121=\"\",\"\",貴校データ入力シート!AA121)","v":""},{"$f":"IF(貴校データ入力シート!AB121=\"\",\"\",貴校データ入力シート!AB121)","v":""},null,{"$f":"SUM(K118:L118)","v":0}]
[null,null,null,null,null,null,null,null,null,null,{"$f":"IF(貴校データ入力シート!G122=\"\",\"\",貴校データ入力シート!G122)","v":""},{"$f":"IF(貴校データ入力シート!H122=\"\",\"\",貴校データ入力シート!H122)","v":""},{"$f":"IF(貴校データ入力シート!I122=\"\",\"\",貴校データ入力シート!I122)","v":""},{"$f":"IF(貴校データ入力シート!J122=\"\",\"\",貴校データ入力シート!J122)","v":""},{"$f":"IF(貴校データ入力シート!K122=\"\",\"\",貴校データ入力シート!K122)","v":""},{"$f":"IF(貴校データ入力シート!L122=\"\",\"\",貴校データ入力シート!L122)","v":""},{"$f":"IF(貴校データ入力シート!M122=\"\",\"\",貴校データ入力シート!M122)","v":""},{"$f":"IF(貴校データ入力シート!N122=\"\",\"\",貴校データ入力シート!N122)","v":""},{"$f":"IF(貴校データ入力シート!O122=\"\",\"\",貴校データ入力シート!O122)","v":""},{"$f":"IF(貴校データ入力シート!P122=\"\",\"\",貴校データ入力シート!P122)","v":""},{"$f":"IF(貴校データ入力シート!Q122=\"\",\"\",貴校データ入力シート!Q122)","v":""},{"$f":"IF(貴校データ入力シート!R122=\"\",\"\",貴校データ入力シート!R122)","v":""},{"$f":"IF(貴校データ入力シート!S122=\"\",\"\",貴校データ入力シート!S122)","v":""},{"$f":"IF(貴校データ入力シート!T122=\"\",\"\",貴校データ入力シート!T122)","v":""},{"$f":"IF(貴校データ入力シート!U122=\"\",\"\",貴校データ入力シート!U122)","v":""},{"$f":"IF(貴校データ入力シート!V122=\"\",\"\",貴校データ入力シート!V122)","v":""},{"$f":"IF(貴校データ入力シート!W122=\"\",\"\",貴校データ入力シート!W122)","v":""},{"$f":"IF(貴校データ入力シート!X122=\"\",\"\",貴校データ入力シート!X122)","v":""},{"$f":"IF(貴校データ入力シート!Y122=\"\",\"\",貴校データ入力シート!Y122)","v":""},{"$f":"IF(貴校データ入力シート!Z122=\"\",\"\",貴校データ入力シート!Z122)","v":""},{"$f":"IF(貴校データ入力シート!AA122=\"\",\"\",貴校データ入力シート!AA122)","v":""},{"$f":"IF(貴校データ入力シート!AB122=\"\",\"\",貴校データ入力シート!AB122)","v":""},null,null,{"$f":"SUM(K119:L119)","v":0}]
[34,"（３０）",{"$f":"IF(貴校データ入力シート!C123=\"\",\"\",貴校データ入力シート!C123)","v":"新聞をどれくらい読んでいますか"},null,null,null,null,null,null,null,{"$f":"IF(貴校データ入力シート!G123=\"\",\"\",貴校データ入力シート!G123)","v":""},{"$f":"IF(貴校データ入力シート!H123=\"\",\"\",貴校データ入力シート!H123)","v":""},{"$f":"IF(貴校データ入力シート!I123=\"\",\"\",貴校データ入力シート!I123)","v":""},{"$f":"IF(貴校データ入力シート!J123=\"\",\"\",貴校データ入力シート!J123)","v":""},{"$f":"IF(貴校データ入力シート!K123=\"\",\"\",貴校データ入力シート!K123)","v":""},{"$f":"IF(貴校データ入力シート!L123=\"\",\"\",貴校データ入力シート!L123)","v":""},{"$f":"IF(貴校データ入力シート!M123=\"\",\"\",貴校データ入力シート!M123)","v":""},{"$f":"IF(貴校データ入力シート!N123=\"\",\"\",貴校データ入力シート!N123)","v":""},{"$f":"IF(貴校データ入力シート!O123=\"\",\"\",貴校データ入力シート!O123)","v":""},{"$f":"IF(貴校データ入力シート!P123=\"\",\"\",貴校データ入力シート!P123)","v":""},{"$f":"IF(貴校データ入力シート!Q123=\"\",\"\",貴校データ入力シート!Q123)","v":""},{"$f":"IF(貴校データ入力シート!R123=\"\",\"\",貴校データ入力シート!R123)","v":""},{"$f":"IF(貴校データ入力シート!S123=\"\",\"\",貴校データ入力シート!S123)","v":""},{"$f":"IF(貴校データ入力シート!T123=\"\",\"\",貴校データ入力シート!T123)","v":""},{"$f":"IF(貴校データ入力シート!U123=\"\",\"\",貴校データ入力シート!U123)","v":""},{"$f":"IF(貴校データ入力シート!V123=\"\",\"\",貴校データ入力シート!V123)","v":""},{"$f":"IF(貴校データ入力シート!W123=\"\",\"\",貴校データ入力シート!W123)","v":""},{"$f":"IF(貴校データ入力シート!X123=\"\",\"\",貴校データ入力シート!X123)","v":""},{"$f":"IF(貴校データ入力シート!Y123=\"\",\"\",貴校データ入力シート!Y123)","v":""},{"$f":"IF(貴校データ入力シート!Z123=\"\",\"\",貴校データ入力シート!Z123)","v":""},{"$f":"IF(貴校データ入力シート!AA123=\"\",\"\",貴校データ入力シート!AA123)","v":""},{"$f":"IF(貴校データ入力シート!AB123=\"\",\"\",貴校データ入力シート!AB123)","v":""},null,null,null,{"$f":"AG121","v":0},{"$f":"AH122","v":0},{"$f":"AI123","v":0}]
[null,null,null,null,null,null,null,null,null,null,{"$f":"IF(貴校データ入力シート!G124=\"\",\"\",貴校データ入力シート!G124)","v":""},{"$f":"IF(貴校データ入力シート!H124=\"\",\"\",貴校データ入力シート!H124)","v":""},{"$f":"IF(貴校データ入力シート!I124=\"\",\"\",貴校データ入力シート!I124)","v":""},{"$f":"IF(貴校データ入力シート!J124=\"\",\"\",貴校データ入力シート!J124)","v":""},{"$f":"IF(貴校データ入力シート!K124=\"\",\"\",貴校データ入力シート!K124)","v":""},{"$f":"IF(貴校データ入力シート!L124=\"\",\"\",貴校データ入力シート!L124)","v":""},{"$f":"IF(貴校データ入力シート!M124=\"\",\"\",貴校データ入力シート!M124)","v":""},{"$f":"IF(貴校データ入力シート!N124=\"\",\"\",貴校データ入力シート!N124)","v":""},{"$f":"IF(貴校データ入力シート!O124=\"\",\"\",貴校データ入力シート!O124)","v":""},{"$f":"IF(貴校データ入力シート!P124=\"\",\"\",貴校データ入力シート!P124)","v":""},{"$f":"IF(貴校データ入力シート!Q124=\"\",\"\",貴校データ入力シート!Q124)","v":""},{"$f":"IF(貴校データ入力シート!R124=\"\",\"\",貴校データ入力シート!R124)","v":""},{"$f":"IF(貴校データ入力シート!S124=\"\",\"\",貴校データ入力シート!S124)","v":""},{"$f":"IF(貴校データ入力シート!T124=\"\",\"\",貴校データ入力シート!T124)","v":""},{"$f":"IF(貴校データ入力シート!U124=\"\",\"\",貴校データ入力シート!U124)","v":""},{"$f":"IF(貴校データ入力シート!V124=\"\",\"\",貴校データ入力シート!V124)","v":""},{"$f":"IF(貴校データ入力シート!W124=\"\",\"\",貴校データ入力シート!W124)","v":""},{"$f":"IF(貴校データ入力シート!X124=\"\",\"\",貴校データ入力シート!X124)","v":""},{"$f":"IF(貴校データ入力シート!Y124=\"\",\"\",貴校データ入力シート!Y124)","v":""},{"$f":"IF(貴校データ入力シート!Z124=\"\",\"\",貴校データ入力シート!Z124)","v":""},{"$f":"IF(貴校データ入力シート!AA124=\"\",\"\",貴校データ入力シート!AA124)","v":""},{"$f":"IF(貴校データ入力シート!AB124=\"\",\"\",貴校データ入力シート!AB124)","v":""},{"$f":"SUM(K121:L121)","v":0}]
[null,null,null,null,null,null,null,null,null,null,{"$f":"IF(貴校データ入力シート!G125=\"\",\"\",貴校データ入力シート!G125)","v":""},{"$f":"IF(貴校データ入力シート!H125=\"\",\"\",貴校データ入力シート!H125)","v":""},{"$f":"IF(貴校データ入力シート!I125=\"\",\"\",貴校データ入力シート!I125)","v":""},{"$f":"IF(貴校データ入力シート!J125=\"\",\"\",貴校データ入力シート!J125)","v":""},{"$f":"IF(貴校データ入力シート!K125=\"\",\"\",貴校データ入力シート!K125)","v":""},{"$f":"IF(貴校データ入力シート!L125=\"\",\"\",貴校データ入力シート!L125)","v":""},{"$f":"IF(貴校データ入力シート!M125=\"\",\"\",貴校データ入力シート!M125)","v":""},{"$f":"IF(貴校データ入力シート!N125=\"\",\"\",貴校データ入力シート!N125)","v":""},{"$f":"IF(貴校データ入力シート!O125=\"\",\"\",貴校データ入力シート!O125)","v":""},{"$f":"IF(貴校データ入力シート!P125=\"\",\"\",貴校データ入力シート!P125)","v":""},{"$f":"IF(貴校データ入力シート!Q125=\"\",\"\",貴校データ入力シート!Q125)","v":""},{"$f":"IF(貴校データ入力シート!R125=\"\",\"\",貴校データ入力シート!R125)","v":""},{"$f":"IF(貴校データ入力シート!S125=\"\",\"\",貴校データ入力シート!S125)","v":""},{"$f":"IF(貴校データ入力シート!T125=\"\",\"\",貴校データ入力シート!T125)","v":""},{"$f":"IF(貴校データ入力シート!U125=\"\",\"\",貴校データ入力シート!U125)","v":""},{"$f":"IF(貴校データ入力シート!V125=\"\",\"\",貴校データ入力シート!V125)","v":""},{"$f":"IF(貴校データ入力シート!W125=\"\",\"\",貴校データ入力シート!W125)","v":""},{"$f":"IF(貴校データ入力シート!X125=\"\",\"\",貴校データ入力シート!X125)","v":""},{"$f":"IF(貴校データ入力シート!Y125=\"\",\"\",貴校データ入力シート!Y125)","v":""},{"$f":"IF(貴校データ入力シート!Z125=\"\",\"\",貴校データ入力シート!Z125)","v":""},{"$f":"IF(貴校データ入力シート!AA125=\"\",\"\",貴校データ入力シート!AA125)","v":""},{"$f":"IF(貴校データ入力シート!AB125=\"\",\"\",貴校データ入力シート!AB125)","v":""},null,{"$f":"SUM(K122:L122)","v":0}]
[null,null,null,null,null,null,null,null,null,null,{"$f":"IF(貴校データ入力シート!G126=\"\",\"\",貴校データ入力シート!G126)","v":""},{"$f":"IF(貴校データ入力シート!H126=\"\",\"\",貴校データ入力シート!H126)","v":""},{"$f":"IF(貴校データ入力シート!I126=\"\",\"\",貴校データ入力シート!I126)","v":""},{"$f":"IF(貴校データ入力シート!J126=\"\",\"\",貴校データ入力シート!J126)","v":""},{"$f":"IF(貴校データ入力シート!K126=\"\",\"\",貴校データ入力シート!K126)","v":""},{"$f":"IF(貴校データ入力シート!L126=\"\",\"\",貴校データ入力シート!L126)","v":""},{"$f":"IF(貴校データ入力シート!M126=\"\",\"\",貴校データ入力シート!M126)","v":""},{"$f":"IF(貴校データ入力シート!N126=\"\",\"\",貴校データ入力シート!N126)","v":""},{"$f":"IF(貴校データ入力シート!O126=\"\",\"\",貴校データ入力シート!O126)","v":""},{"$f":"IF(貴校データ入力シート!P126=\"\",\"\",貴校データ入力シート!P126)","v":""},{"$f":"IF(貴校データ入力シート!Q126=\"\",\"\",貴校データ入力シート!Q126)","v":""},{"$f":"IF(貴校データ入力シート!R126=\"\",\"\",貴校データ入力シート!R126)","v":""},{"$f":"IF(貴校データ入力シート!S126=\"\",\"\",貴校データ入力シート!S126)","v":""},{"$f":"IF(貴校データ入力シート!T126=\"\",\"\",貴校データ入力シート!T126)","v":""},{"$f":"IF(貴校データ入力シート!U126=\"\",\"\",貴校データ入力シート!U126)","v":""},{"$f":"IF(貴校データ入力シート!V126=\"\",\"\",貴校データ入力シート!V126)","v":""},{"$f":"IF(貴校データ入力シート!W126=\"\",\"\",貴校データ入力シート!W126)","v":""},{"$f":"IF(貴校データ入力シート!X126=\"\",\"\",貴校データ入力シート!X126)","v":""},{"$f":"IF(貴校データ入力シート!Y126=\"\",\"\",貴校データ入力シート!Y126)","v":""},{"$f":"IF(貴校データ入力シート!Z126=\"\",\"\",貴校データ入力シート!Z126)","v":""},{"$f":"IF(貴校データ入力シート!AA126=\"\",\"\",貴校データ入力シート!AA126)","v":""},{"$f":"IF(貴校データ入力シート!AB126=\"\",\"\",貴校データ入力シート!AB126)","v":""},null,null,{"$f":"SUM(K123:L123)","v":0}]
[41,"（３３）",{"$f":"IF(貴校データ入力シート!C127=\"\",\"\",貴校データ入力シート!C127)","v":"地域や社会をよくするために何かしてみたいと思いますか"},null,null,null,null,null,null,null,{"$f":"IF(貴校データ入力シート!G127=\"\",\"\",貴校データ入力シート!G127)","v":""},{"$f":"IF(貴校データ入力シート!H127=\"\",\"\",貴校データ入力シート!H127)","v":""},{"$f":"IF(貴校データ入力シート!I127=\"\",\"\",貴校データ入力シート!I127)","v":""},{"$f":"IF(貴校データ入力シート!J127=\"\",\"\",貴校データ入力シート!J127)","v":""},{"$f":"IF(貴校データ入力シート!K127=\"\",\"\",貴校データ入力シート!K127)","v":""},{"$f":"IF(貴校データ入力シート!L127=\"\",\"\",貴校データ入力シート!L127)","v":""},{"$f":"IF(貴校データ入力シート!M127=\"\",\"\",貴校データ入力シート!M127)","v":""},{"$f":"IF(貴校データ入力シート!N127=\"\",\"\",貴校データ入力シート!N127)","v":""},{"$f":"IF(貴校データ入力シート!O127=\"\",\"\",貴校データ入力シート!O127)","v":""},{"$f":"IF(貴校データ入力シート!P127=\"\",\"\",貴校データ入力シート!P127)","v":""},{"$f":"IF(貴校データ入力シート!Q127=\"\",\"\",貴校データ入力シート!Q127)","v":""},{"$f":"IF(貴校データ入力シート!R127=\"\",\"\",貴校データ入力シート!R127)","v":""},{"$f":"IF(貴校データ入力シート!S127=\"\",\"\",貴校データ入力シート!S127)","v":""},{"$f":"IF(貴校データ入力シート!T127=\"\",\"\",貴校データ入力シート!T127)","v":""},{"$f":"IF(貴校データ入力シート!U127=\"\",\"\",貴校データ入力シート!U127)","v":""},{"$f":"IF(貴校データ入力シート!V127=\"\",\"\",貴校データ入力シート!V127)","v":""},{"$f":"IF(貴校データ入力シート!W127=\"\",\"\",貴校データ入力シート!W127)","v":""},{"$f":"IF(貴校データ入力シート!X127=\"\",\"\",貴校データ入力シート!X127)","v":""},{"$f":"IF(貴校データ入力シート!Y127=\"\",\"\",貴校データ入力シート!Y127)","v":""},{"$f":"IF(貴校データ入力シート!Z127=\"\",\"\",貴校データ入力シート!Z127)","v":""},{"$f":"IF(貴校データ入力シート!AA127=\"\",\"\",貴校データ入力シート!AA127)","v":""},{"$f":"IF(貴校データ入力シート!AB127=\"\",\"\",貴校データ入力シート!AB127)","v":""},null,null,null,{"$f":"AG125","v":0},{"$f":"AH126","v":0},{"$f":"AI127","v":0}]
[null,null,null,null,null,null,null,null,null,null,{"$f":"IF(貴校データ入力シート!G128=\"\",\"\",貴校データ入力シート!G128)","v":""},{"$f":"IF(貴校データ入力シート!H128=\"\",\"\",貴校データ入力シート!H128)","v":""},{"$f":"IF(貴校データ入力シート!I128=\"\",\"\",貴校データ入力シート!I128)","v":""},{"$f":"IF(貴校データ入力シート!J128=\"\",\"\",貴校データ入力シート!J128)","v":""},{"$f":"IF(貴校データ入力シート!K128=\"\",\"\",貴校データ入力シート!K128)","v":""},{"$f":"IF(貴校データ入力シート!L128=\"\",\"\",貴校データ入力シート!L128)","v":""},{"$f":"IF(貴校データ入力シート!M128=\"\",\"\",貴校データ入力シート!M128)","v":""},{"$f":"IF(貴校データ入力シート!N128=\"\",\"\",貴校データ入力シート!N128)","v":""},{"$f":"IF(貴校データ入力シート!O128=\"\",\"\",貴校データ入力シート!O128)","v":""},{"$f":"IF(貴校データ入力シート!P128=\"\",\"\",貴校データ入力シート!P128)","v":""},{"$f":"IF(貴校データ入力シート!Q128=\"\",\"\",貴校データ入力シート!Q128)","v":""},{"$f":"IF(貴校データ入力シート!R128=\"\",\"\",貴校データ入力シート!R128)","v":""},{"$f":"IF(貴校データ入力シート!S128=\"\",\"\",貴校データ入力シート!S128)","v":""},{"$f":"IF(貴校データ入力シート!T128=\"\",\"\",貴校データ入力シート!T128)","v":""},{"$f":"IF(貴校データ入力シート!U128=\"\",\"\",貴校データ入力シート!U128)","v":""},{"$f":"IF(貴校データ入力シート!V128=\"\",\"\",貴校データ入力シート!V128)","v":""},{"$f":"IF(貴校データ入力シート!W128=\"\",\"\",貴校データ入力シート!W128)","v":""},{"$f":"IF(貴校データ入力シート!X128=\"\",\"\",貴校データ入力シート!X128)","v":""},{"$f":"IF(貴校データ入力シート!Y128=\"\",\"\",貴校データ入力シート!Y128)","v":""},{"$f":"IF(貴校データ入力シート!Z128=\"\",\"\",貴校データ入力シート!Z128)","v":""},{"$f":"IF(貴校データ入力シート!AA128=\"\",\"\",貴校データ入力シート!AA128)","v":""},{"$f":"IF(貴校データ入力シート!AB128=\"\",\"\",貴校データ入力シート!AB128)","v":""},{"$f":"SUM(K125:L125)","v":0}]
[null,null,null,null,null,null,null,null,null,null,{"$f":"IF(貴校データ入力シート!G129=\"\",\"\",貴校データ入力シート!G129)","v":""},{"$f":"IF(貴校データ入力シート!H129=\"\",\"\",貴校データ入力シート!H129)","v":""},{"$f":"IF(貴校データ入力シート!I129=\"\",\"\",貴校データ入力シート!I129)","v":""},{"$f":"IF(貴校データ入力シート!J129=\"\",\"\",貴校データ入力シート!J129)","v":""},{"$f":"IF(貴校データ入力シート!K129=\"\",\"\",貴校データ入力シート!K129)","v":""},{"$f":"IF(貴校データ入力シート!L129=\"\",\"\",貴校データ入力シート!L129)","v":""},{"$f":"IF(貴校データ入力シート!M129=\"\",\"\",貴校データ入力シート!M129)","v":""},{"$f":"IF(貴校データ入力シート!N129=\"\",\"\",貴校データ入力シート!N129)","v":""},{"$f":"IF(貴校データ入力シート!O129=\"\",\"\",貴校データ入力シート!O129)","v":""},{"$f":"IF(貴校データ入力シート!P129=\"\",\"\",貴校データ入力シート!P129)","v":""},{"$f":"IF(貴校データ入力シート!Q129=\"\",\"\",貴校データ入力シート!Q129)","v":""},{"$f":"IF(貴校データ入力シート!R129=\"\",\"\",貴校データ入力シート!R129)","v":""},{"$f":"IF(貴校データ入力シート!S129=\"\",\"\",貴校データ入力シート!S129)","v":""},{"$f":"IF(貴校データ入力シート!T129=\"\",\"\",貴校データ入力シート!T129)","v":""},{"$f":"IF(貴校データ入力シート!U129=\"\",\"\",貴校データ入力シート!U129)","v":""},{"$f":"IF(貴校データ入力シート!V129=\"\",\"\",貴校データ入力シート!V129)","v":""},{"$f":"IF(貴校データ入力シート!W129=\"\",\"\",貴校データ入力シート!W129)","v":""},{"$f":"IF(貴校データ入力シート!X129=\"\",\"\",貴校データ入力シート!X129)","v":""},{"$f":"IF(貴校データ入力シート!Y129=\"\",\"\",貴校データ入力シート!Y129)","v":""},{"$f":"IF(貴校データ入力シート!Z129=\"\",\"\",貴校データ入力シート!Z129)","v":""},{"$f":"IF(貴校データ入力シート!AA129=\"\",\"\",貴校データ入力シート!AA129)","v":""},{"$f":"IF(貴校データ入力シート!AB129=\"\",\"\",貴校データ入力シート!AB129)","v":""},null,{"$f":"SUM(K126:L126)","v":0}]
[null,null,null,null,null,null,null,null,null,null,{"$f":"IF(貴校データ入力シート!G130=\"\",\"\",貴校データ入力シート!G130)","v":""},{"$f":"IF(貴校データ入力シート!H130=\"\",\"\",貴校データ入力シート!H130)","v":""},{"$f":"IF(貴校データ入力シート!I130=\"\",\"\",貴校データ入力シート!I130)","v":""},{"$f":"IF(貴校データ入力シート!J130=\"\",\"\",貴校データ入力シート!J130)","v":""},{"$f":"IF(貴校データ入力シート!K130=\"\",\"\",貴校データ入力シート!K130)","v":""},{"$f":"IF(貴校データ入力シート!L130=\"\",\"\",貴校データ入力シート!L130)","v":""},{"$f":"IF(貴校データ入力シート!M130=\"\",\"\",貴校データ入力シート!M130)","v":""},{"$f":"IF(貴校データ入力シート!N130=\"\",\"\",貴校データ入力シート!N130)","v":""},{"$f":"IF(貴校データ入力シート!O130=\"\",\"\",貴校データ入力シート!O130)","v":""},{"$f":"IF(貴校データ入力シート!P130=\"\",\"\",貴校データ入力シート!P130)","v":""},{"$f":"IF(貴校データ入力シート!Q130=\"\",\"\",貴校データ入力シート!Q130)","v":""},{"$f":"IF(貴校データ入力シート!R130=\"\",\"\",貴校データ入力シート!R130)","v":""},{"$f":"IF(貴校データ入力シート!S130=\"\",\"\",貴校データ入力シート!S130)","v":""},{"$f":"IF(貴校データ入力シート!T130=\"\",\"\",貴校データ入力シート!T130)","v":""},{"$f":"IF(貴校データ入力シート!U130=\"\",\"\",貴校データ入力シート!U130)","v":""},{"$f":"IF(貴校データ入力シート!V130=\"\",\"\",貴校データ入力シート!V130)","v":""},{"$f":"IF(貴校データ入力シート!W130=\"\",\"\",貴校データ入力シート!W130)","v":""},{"$f":"IF(貴校データ入力シート!X130=\"\",\"\",貴校データ入力シート!X130)","v":""},{"$f":"IF(貴校データ入力シート!Y130=\"\",\"\",貴校データ入力シート!Y130)","v":""},{"$f":"IF(貴校データ入力シート!Z130=\"\",\"\",貴校データ入力シート!Z130)","v":""},{"$f":"IF(貴校データ入力シート!AA130=\"\",\"\",貴校データ入力シート!AA130)","v":""},{"$f":"IF(貴校データ入力シート!AB130=\"\",\"\",貴校データ入力シート!AB130)","v":""},null,null,{"$f":"SUM(K127:L127)","v":0}]
[44,"（３５）",{"$f":"IF(貴校データ入力シート!C131=\"\",\"\",貴校データ入力シート!C131)","v":"５年生までに受けた授業で、PC・タブレットなどのICT機器を、どの程度使用しましたか"},null,null,null,null,null,null,null,{"$f":"IF(貴校データ入力シート!G131=\"\",\"\",貴校データ入力シート!G131)","v":""},{"$f":"IF(貴校データ入力シート!H131=\"\",\"\",貴校データ入力シート!H131)","v":""},{"$f":"IF(貴校データ入力シート!I131=\"\",\"\",貴校データ入力シート!I131)","v":""},{"$f":"IF(貴校データ入力シート!J131=\"\",\"\",貴校データ入力シート!J131)","v":""},{"$f":"IF(貴校データ入力シート!K131=\"\",\"\",貴校データ入力シート!K131)","v":""},{"$f":"IF(貴校データ入力シート!L131=\"\",\"\",貴校データ入力シート!L131)","v":""},{"$f":"IF(貴校データ入力シート!M131=\"\",\"\",貴校データ入力シート!M131)","v":""},{"$f":"IF(貴校データ入力シート!N131=\"\",\"\",貴校データ入力シート!N131)","v":""},{"$f":"IF(貴校データ入力シート!O131=\"\",\"\",貴校データ入力シート!O131)","v":""},{"$f":"IF(貴校データ入力シート!P131=\"\",\"\",貴校データ入力シート!P131)","v":""},{"$f":"IF(貴校データ入力シート!Q131=\"\",\"\",貴校データ入力シート!Q131)","v":""},{"$f":"IF(貴校データ入力シート!R131=\"\",\"\",貴校データ入力シート!R131)","v":""},{"$f":"IF(貴校データ入力シート!S131=\"\",\"\",貴校データ入力シート!S131)","v":""},{"$f":"IF(貴校データ入力シート!T131=\"\",\"\",貴校データ入力シート!T131)","v":""},{"$f":"IF(貴校データ入力シート!U131=\"\",\"\",貴校データ入力シート!U131)","v":""},{"$f":"IF(貴校データ入力シート!V131=\"\",\"\",貴校データ入力シート!V131)","v":""},{"$f":"IF(貴校データ入力シート!W131=\"\",\"\",貴校データ入力シート!W131)","v":""},{"$f":"IF(貴校データ入力シート!X131=\"\",\"\",貴校データ入力シート!X131)","v":""},{"$f":"IF(貴校データ入力シート!Y131=\"\",\"\",貴校データ入力シート!Y131)","v":""},{"$f":"IF(貴校データ入力シート!Z131=\"\",\"\",貴校データ入力シート!Z131)","v":""},{"$f":"IF(貴校データ入力シート!AA131=\"\",\"\",貴校データ入力シート!AA131)","v":""},{"$f":"IF(貴校データ入力シート!AB131=\"\",\"\",貴校データ入力シート!AB131)","v":""},null,null,null,{"$f":"AG129","v":0},{"$f":"AH130","v":0},{"$f":"AI131","v":0},1]
[null,null,null,null,null,null,null,null,null,null,{"$f":"IF(貴校データ入力シート!G132=\"\",\"\",貴校データ入力シート!G132)","v":""},{"$f":"IF(貴校データ入力シート!H132=\"\",\"\",貴校データ入力シート!H132)","v":""},{"$f":"IF(貴校データ入力シート!I132=\"\",\"\",貴校データ入力シート!I132)","v":""},{"$f":"IF(貴校データ入力シート!J132=\"\",\"\",貴校データ入力シート!J132)","v":""},{"$f":"IF(貴校データ入力シート!K132=\"\",\"\",貴校データ入力シート!K132)","v":""},{"$f":"IF(貴校データ入力シート!L132=\"\",\"\",貴校データ入力シート!L132)","v":""},{"$f":"IF(貴校データ入力シート!M132=\"\",\"\",貴校データ入力シート!M132)","v":""},{"$f":"IF(貴校データ入力シート!N132=\"\",\"\",貴校データ入力シート!N132)","v":""},{"$f":"IF(貴校データ入力シート!O132=\"\",\"\",貴校データ入力シート!O132)","v":""},{"$f":"IF(貴校データ入力シート!P132=\"\",\"\",貴校データ入力シート!P132)","v":""},{"$f":"IF(貴校データ入力シート!Q132=\"\",\"\",貴校データ入力シート!Q132)","v":""},{"$f":"IF(貴校データ入力シート!R132=\"\",\"\",貴校データ入力シート!R132)","v":""},{"$f":"IF(貴校データ入力シート!S132=\"\",\"\",貴校データ入力シート!S132)","v":""},{"$f":"IF(貴校データ入力シート!T132=\"\",\"\",貴校データ入力シート!T132)","v":""},{"$f":"IF(貴校データ入力シート!U132=\"\",\"\",貴校データ入力シート!U132)","v":""},{"$f":"IF(貴校データ入力シート!V132=\"\",\"\",貴校データ入力シート!V132)","v":""},{"$f":"IF(貴校データ入力シート!W132=\"\",\"\",貴校データ入力シート!W132)","v":""},{"$f":"IF(貴校データ入力シート!X132=\"\",\"\",貴校データ入力シート!X132)","v":""},{"$f":"IF(貴校データ入力シート!Y132=\"\",\"\",貴校データ入力シート!Y132)","v":""},{"$f":"IF(貴校データ入力シート!Z132=\"\",\"\",貴校データ入力シート!Z132)","v":""},{"$f":"IF(貴校データ入力シート!AA132=\"\",\"\",貴校データ入力シート!AA132)","v":""},{"$f":"IF(貴校データ入力シート!AB132=\"\",\"\",貴校データ入力シート!AB132)","v":""},{"$f":"SUM(K129:L129)","v":0}]
[null,null,null,null,null,null,null,null,null,null,{"$f":"IF(貴校データ入力シート!G133=\"\",\"\",貴校データ入力シート!G133)","v":""},{"$f":"IF(貴校データ入力シート!H133=\"\",\"\",貴校データ入力シート!H133)","v":""},{"$f":"IF(貴校データ入力シート!I133=\"\",\"\",貴校データ入力シート!I133)","v":""},{"$f":"IF(貴校データ入力シート!J133=\"\",\"\",貴校データ入力シート!J133)","v":""},{"$f":"IF(貴校データ入力シート!K133=\"\",\"\",貴校データ入力シート!K133)","v":""},{"$f":"IF(貴校データ入力シート!L133=\"\",\"\",貴校データ入力シート!L133)","v":""},{"$f":"IF(貴校データ入力シート!M133=\"\",\"\",貴校データ入力シート!M133)","v":""},{"$f":"IF(貴校データ入力シート!N133=\"\",\"\",貴校データ入力シート!N133)","v":""},{"$f":"IF(貴校データ入力シート!O133=\"\",\"\",貴校データ入力シート!O133)","v":""},{"$f":"IF(貴校データ入力シート!P133=\"\",\"\",貴校データ入力シート!P133)","v":""},{"$f":"IF(貴校データ入力シート!Q133=\"\",\"\",貴校データ入力シート!Q133)","v":""},{"$f":"IF(貴校データ入力シート!R133=\"\",\"\",貴校データ入力シート!R133)","v":""},{"$f":"IF(貴校データ入力シート!S133=\"\",\"\",貴校データ入力シート!S133)","v":""},{"$f":"IF(貴校データ入力シート!T133=\"\",\"\",貴校データ入力シート!T133)","v":""},{"$f":"IF(貴校データ入力シート!U133=\"\",\"\",貴校データ入力シート!U133)","v":""},{"$f":"IF(貴校データ入力シート!V133=\"\",\"\",貴校データ入力シート!V133)","v":""},{"$f":"IF(貴校データ入力シート!W133=\"\",\"\",貴校データ入力シート!W133)","v":""},{"$f":"IF(貴校データ入力シート!X133=\"\",\"\",貴校データ入力シート!X133)","v":""},{"$f":"IF(貴校データ入力シート!Y133=\"\",\"\",貴校データ入力シート!Y133)","v":""},{"$f":"IF(貴校データ入力シート!Z133=\"\",\"\",貴校データ入力シート!Z133)","v":""},{"$f":"IF(貴校データ入力シート!AA133=\"\",\"\",貴校データ入力シート!AA133)","v":""},{"$f":"IF(貴校データ入力シート!AB133=\"\",\"\",貴校データ入力シート!AB133)","v":""},null,{"$f":"SUM(K130:L130)","v":0}]
[null,null,null,null,null,null,null,null,null,null,{"$f":"IF(貴校データ入力シート!G134=\"\",\"\",貴校データ入力シート!G134)","v":""},{"$f":"IF(貴校データ入力シート!H134=\"\",\"\",貴校データ入力シート!H134)","v":""},{"$f":"IF(貴校データ入力シート!I134=\"\",\"\",貴校データ入力シート!I134)","v":""},{"$f":"IF(貴校データ入力シート!J134=\"\",\"\",貴校データ入力シート!J134)","v":""},{"$f":"IF(貴校データ入力シート!K134=\"\",\"\",貴校データ入力シート!K134)","v":""},{"$f":"IF(貴校データ入力シート!L134=\"\",\"\",貴校データ入力シート!L134)","v":""},{"$f":"IF(貴校データ入力シート!M134=\"\",\"\",貴校データ入力シート!M134)","v":""},{"$f":"IF(貴校データ入力シート!N134=\"\",\"\",貴校データ入力シート!N134)","v":""},{"$f":"IF(貴校データ入力シート!O134=\"\",\"\",貴校データ入力シート!O134)","v":""},{"$f":"IF(貴校データ入力シート!P134=\"\",\"\",貴校データ入力シート!P134)","v":""},{"$f":"IF(貴校データ入力シート!Q134=\"\",\"\",貴校データ入力シート!Q134)","v":""},{"$f":"IF(貴校データ入力シート!R134=\"\",\"\",貴校データ入力シート!R134)","v":""},{"$f":"IF(貴校データ入力シート!S134=\"\",\"\",貴校データ入力シート!S134)","v":""},{"$f":"IF(貴校データ入力シート!T134=\"\",\"\",貴校データ入力シート!T134)","v":""},{"$f":"IF(貴校データ入力シート!U134=\"\",\"\",貴校データ入力シート!U134)","v":""},{"$f":"IF(貴校データ入力シート!V134=\"\",\"\",貴校データ入力シート!V134)","v":""},{"$f":"IF(貴校データ入力シート!W134=\"\",\"\",貴校データ入力シート!W134)","v":""},{"$f":"IF(貴校データ入力シート!X134=\"\",\"\",貴校データ入力シート!X134)","v":""},{"$f":"IF(貴校データ入力シート!Y134=\"\",\"\",貴校データ入力シート!Y134)","v":""},{"$f":"IF(貴校データ入力シート!Z134=\"\",\"\",貴校データ入力シート!Z134)","v":""},{"$f":"IF(貴校データ入力シート!AA134=\"\",\"\",貴校データ入力シート!AA134)","v":""},{"$f":"IF(貴校データ入力シート!AB134=\"\",\"\",貴校データ入力シート!AB134)","v":""},null,null,{"$f":"SUM(K131:L131)","v":0}]
[45,"（３６－１）",{"$f":"IF(貴校データ入力シート!C135=\"\",\"\",貴校データ入力シート!C135)","v":"あなたは自分がPC・タブレットなどのICT機器で文章を作成する（文字、コメントを書くなど）ことができると思いますか"},null,null,null,null,null,null,null,{"$f":"IF(貴校データ入力シート!G135=\"\",\"\",貴校データ入力シート!G135)","v":""},{"$f":"IF(貴校データ入力シート!H135=\"\",\"\",貴校データ入力シート!H135)","v":""},{"$f":"IF(貴校データ入力シート!I135=\"\",\"\",貴校データ入力シート!I135)","v":""},{"$f":"IF(貴校データ入力シート!J135=\"\",\"\",貴校データ入力シート!J135)","v":""},{"$f":"IF(貴校データ入力シート!K135=\"\",\"\",貴校データ入力シート!K135)","v":""},{"$f":"IF(貴校データ入力シート!L135=\"\",\"\",貴校データ入力シート!L135)","v":""},{"$f":"IF(貴校データ入力シート!M135=\"\",\"\",貴校データ入力シート!M135)","v":""},{"$f":"IF(貴校データ入力シート!N135=\"\",\"\",貴校データ入力シート!N135)","v":""},{"$f":"IF(貴校データ入力シート!O135=\"\",\"\",貴校データ入力シート!O135)","v":""},{"$f":"IF(貴校データ入力シート!P135=\"\",\"\",貴校データ入力シート!P135)","v":""},{"$f":"IF(貴校データ入力シート!Q135=\"\",\"\",貴校データ入力シート!Q135)","v":""},{"$f":"IF(貴校データ入力シート!R135=\"\",\"\",貴校データ入力シート!R135)","v":""},{"$f":"IF(貴校データ入力シート!S135=\"\",\"\",貴校データ入力シート!S135)","v":""},{"$f":"IF(貴校データ入力シート!T135=\"\",\"\",貴校データ入力シート!T135)","v":""},{"$f":"IF(貴校データ入力シート!U135=\"\",\"\",貴校データ入力シート!U135)","v":""},{"$f":"IF(貴校データ入力シート!V135=\"\",\"\",貴校データ入力シート!V135)","v":""},{"$f":"IF(貴校データ入力シート!W135=\"\",\"\",貴校データ入力シート!W135)","v":""},{"$f":"IF(貴校データ入力シート!X135=\"\",\"\",貴校データ入力シート!X135)","v":""},{"$f":"IF(貴校データ入力シート!Y135=\"\",\"\",貴校データ入力シート!Y135)","v":""},{"$f":"IF(貴校データ入力シート!Z135=\"\",\"\",貴校データ入力シート!Z135)","v":""},{"$f":"IF(貴校データ入力シート!AA135=\"\",\"\",貴校データ入力シート!AA135)","v":""},{"$f":"IF(貴校データ入力シート!AB135=\"\",\"\",貴校データ入力シート!AB135)","v":""},null,null,null,{"$f":"AG133","v":0},{"$f":"AH134","v":0},{"$f":"AI135","v":0}]
[null,null,null,null,null,null,null,null,null,null,{"$f":"IF(貴校データ入力シート!G136=\"\",\"\",貴校データ入力シート!G136)","v":""},{"$f":"IF(貴校データ入力シート!H136=\"\",\"\",貴校データ入力シート!H136)","v":""},{"$f":"IF(貴校データ入力シート!I136=\"\",\"\",貴校データ入力シート!I136)","v":""},{"$f":"IF(貴校データ入力シート!J136=\"\",\"\",貴校データ入力シート!J136)","v":""},{"$f":"IF(貴校データ入力シート!K136=\"\",\"\",貴校データ入力シート!K136)","v":""},{"$f":"IF(貴校データ入力シート!L136=\"\",\"\",貴校データ入力シート!L136)","v":""},{"$f":"IF(貴校データ入力シート!M136=\"\",\"\",貴校データ入力シート!M136)","v":""},{"$f":"IF(貴校データ入力シート!N136=\"\",\"\",貴校データ入力シート!N136)","v":""},{"$f":"IF(貴校データ入力シート!O136=\"\",\"\",貴校データ入力シート!O136)","v":""},{"$f":"IF(貴校データ入力シート!P136=\"\",\"\",貴校データ入力シート!P136)","v":""},{"$f":"IF(貴校データ入力シート!Q136=\"\",\"\",貴校データ入力シート!Q136)","v":""},{"$f":"IF(貴校データ入力シート!R136=\"\",\"\",貴校データ入力シート!R136)","v":""},{"$f":"IF(貴校データ入力シート!S136=\"\",\"\",貴校データ入力シート!S136)","v":""},{"$f":"IF(貴校データ入力シート!T136=\"\",\"\",貴校データ入力シート!T136)","v":""},{"$f":"IF(貴校データ入力シート!U136=\"\",\"\",貴校データ入力シート!U136)","v":""},{"$f":"IF(貴校データ入力シート!V136=\"\",\"\",貴校データ入力シート!V136)","v":""},{"$f":"IF(貴校データ入力シート!W136=\"\",\"\",貴校データ入力シート!W136)","v":""},{"$f":"IF(貴校データ入力シート!X136=\"\",\"\",貴校データ入力シート!X136)","v":""},{"$f":"IF(貴校データ入力シート!Y136=\"\",\"\",貴校データ入力シート!Y136)","v":""},{"$f":"IF(貴校データ入力シート!Z136=\"\",\"\",貴校データ入力シート!Z136)","v":""},{"$f":"IF(貴校データ入力シート!AA136=\"\",\"\",貴校データ入力シート!AA136)","v":""},{"$f":"IF(貴校データ入力シート!AB136=\"\",\"\",貴校データ入力シート!AB136)","v":""},{"$f":"SUM(K133:L133)","v":0}]
[null,null,null,null,null,null,null,null,null,null,{"$f":"IF(貴校データ入力シート!G137=\"\",\"\",貴校データ入力シート!G137)","v":""},{"$f":"IF(貴校データ入力シート!H137=\"\",\"\",貴校データ入力シート!H137)","v":""},{"$f":"IF(貴校データ入力シート!I137=\"\",\"\",貴校データ入力シート!I137)","v":""},{"$f":"IF(貴校データ入力シート!J137=\"\",\"\",貴校データ入力シート!J137)","v":""},{"$f":"IF(貴校データ入力シート!K137=\"\",\"\",貴校データ入力シート!K137)","v":""},{"$f":"IF(貴校データ入力シート!L137=\"\",\"\",貴校データ入力シート!L137)","v":""},{"$f":"IF(貴校データ入力シート!M137=\"\",\"\",貴校データ入力シート!M137)","v":""},{"$f":"IF(貴校データ入力シート!N137=\"\",\"\",貴校データ入力シート!N137)","v":""},{"$f":"IF(貴校データ入力シート!O137=\"\",\"\",貴校データ入力シート!O137)","v":""},{"$f":"IF(貴校データ入力シート!P137=\"\",\"\",貴校データ入力シート!P137)","v":""},{"$f":"IF(貴校データ入力シート!Q137=\"\",\"\",貴校データ入力シート!Q137)","v":""},{"$f":"IF(貴校データ入力シート!R137=\"\",\"\",貴校データ入力シート!R137)","v":""},{"$f":"IF(貴校データ入力シート!S137=\"\",\"\",貴校データ入力シート!S137)","v":""},{"$f":"IF(貴校データ入力シート!T137=\"\",\"\",貴校データ入力シート!T137)","v":""},{"$f":"IF(貴校データ入力シート!U137=\"\",\"\",貴校データ入力シート!U137)","v":""},{"$f":"IF(貴校データ入力シート!V137=\"\",\"\",貴校データ入力シート!V137)","v":""},{"$f":"IF(貴校データ入力シート!W137=\"\",\"\",貴校データ入力シート!W137)","v":""},{"$f":"IF(貴校データ入力シート!X137=\"\",\"\",貴校データ入力シート!X137)","v":""},{"$f":"IF(貴校データ入力シート!Y137=\"\",\"\",貴校データ入力シート!Y137)","v":""},{"$f":"IF(貴校データ入力シート!Z137=\"\",\"\",貴校データ入力シート!Z137)","v":""},{"$f":"IF(貴校データ入力シート!AA137=\"\",\"\",貴校データ入力シート!AA137)","v":""},{"$f":"IF(貴校データ入力シート!AB137=\"\",\"\",貴校データ入力シート!AB137)","v":""},null,{"$f":"SUM(K134:L134)","v":0}]
[null,null,null,null,null,null,null,null,null,null,{"$f":"IF(貴校データ入力シート!G138=\"\",\"\",貴校データ入力シート!G138)","v":""},{"$f":"IF(貴校データ入力シート!H138=\"\",\"\",貴校データ入力シート!H138)","v":""},{"$f":"IF(貴校データ入力シート!I138=\"\",\"\",貴校データ入力シート!I138)","v":""},{"$f":"IF(貴校データ入力シート!J138=\"\",\"\",貴校データ入力シート!J138)","v":""},{"$f":"IF(貴校データ入力シート!K138=\"\",\"\",貴校データ入力シート!K138)","v":""},{"$f":"IF(貴校データ入力シート!L138=\"\",\"\",貴校データ入力シート!L138)","v":""},{"$f":"IF(貴校データ入力シート!M138=\"\",\"\",貴校データ入力シート!M138)","v":""},{"$f":"IF(貴校データ入力シート!N138=\"\",\"\",貴校データ入力シート!N138)","v":""},{"$f":"IF(貴校データ入力シート!O138=\"\",\"\",貴校データ入力シート!O138)","v":""},{"$f":"IF(貴校データ入力シート!P138=\"\",\"\",貴校データ入力シート!P138)","v":""},{"$f":"IF(貴校データ入力シート!Q138=\"\",\"\",貴校データ入力シート!Q138)","v":""},{"$f":"IF(貴校データ入力シート!R138=\"\",\"\",貴校データ入力シート!R138)","v":""},{"$f":"IF(貴校データ入力シート!S138=\"\",\"\",貴校データ入力シート!S138)","v":""},{"$f":"IF(貴校データ入力シート!T138=\"\",\"\",貴校データ入力シート!T138)","v":""},{"$f":"IF(貴校データ入力シート!U138=\"\",\"\",貴校データ入力シート!U138)","v":""},{"$f":"IF(貴校データ入力シート!V138=\"\",\"\",貴校データ入力シート!V138)","v":""},{"$f":"IF(貴校データ入力シート!W138=\"\",\"\",貴校データ入力シート!W138)","v":""},{"$f":"IF(貴校データ入力シート!X138=\"\",\"\",貴校データ入力シート!X138)","v":""},{"$f":"IF(貴校データ入力シート!Y138=\"\",\"\",貴校データ入力シート!Y138)","v":""},{"$f":"IF(貴校データ入力シート!Z138=\"\",\"\",貴校データ入力シート!Z138)","v":""},{"$f":"IF(貴校データ入力シート!AA138=\"\",\"\",貴校データ入力シート!AA138)","v":""},{"$f":"IF(貴校データ入力シート!AB138=\"\",\"\",貴校データ入力シート!AB138)","v":""},null,null,{"$f":"SUM(K135:L135)","v":0}]
[46,"（３６－２）",{"$f":"IF(貴校データ入力シート!C139=\"\",\"\",貴校データ入力シート!C139)","v":"あなたは自分がインターネットを使って情報を収集する（検索する、調べるなど）ことができると思いますか"},null,null,null,null,null,null,null,{"$f":"IF(貴校データ入力シート!G139=\"\",\"\",貴校データ入力シート!G139)","v":""},{"$f":"IF(貴校データ入力シート!H139=\"\",\"\",貴校データ入力シート!H139)","v":""},{"$f":"IF(貴校データ入力シート!I139=\"\",\"\",貴校データ入力シート!I139)","v":""},{"$f":"IF(貴校データ入力シート!J139=\"\",\"\",貴校データ入力シート!J139)","v":""},{"$f":"IF(貴校データ入力シート!K139=\"\",\"\",貴校データ入力シート!K139)","v":""},{"$f":"IF(貴校データ入力シート!L139=\"\",\"\",貴校データ入力シート!L139)","v":""},{"$f":"IF(貴校データ入力シート!M139=\"\",\"\",貴校データ入力シート!M139)","v":""},{"$f":"IF(貴校データ入力シート!N139=\"\",\"\",貴校データ入力シート!N139)","v":""},{"$f":"IF(貴校データ入力シート!O139=\"\",\"\",貴校データ入力シート!O139)","v":""},{"$f":"IF(貴校データ入力シート!P139=\"\",\"\",貴校データ入力シート!P139)","v":""},{"$f":"IF(貴校データ入力シート!Q139=\"\",\"\",貴校データ入力シート!Q139)","v":""},{"$f":"IF(貴校データ入力シート!R139=\"\",\"\",貴校データ入力シート!R139)","v":""},{"$f":"IF(貴校データ入力シート!S139=\"\",\"\",貴校データ入力シート!S139)","v":""},{"$f":"IF(貴校データ入力シート!T139=\"\",\"\",貴校データ入力シート!T139)","v":""},{"$f":"IF(貴校データ入力シート!U139=\"\",\"\",貴校データ入力シート!U139)","v":""},{"$f":"IF(貴校データ入力シート!V139=\"\",\"\",貴校データ入力シート!V139)","v":""},{"$f":"IF(貴校データ入力シート!W139=\"\",\"\",貴校データ入力シート!W139)","v":""},{"$f":"IF(貴校データ入力シート!X139=\"\",\"\",貴校データ入力シート!X139)","v":""},{"$f":"IF(貴校データ入力シート!Y139=\"\",\"\",貴校データ入力シート!Y139)","v":""},{"$f":"IF(貴校データ入力シート!Z139=\"\",\"\",貴校データ入力シート!Z139)","v":""},{"$f":"IF(貴校データ入力シート!AA139=\"\",\"\",貴校データ入力シート!AA139)","v":""},{"$f":"IF(貴校データ入力シート!AB139=\"\",\"\",貴校データ入力シート!AB139)","v":""},null,null,null,{"$f":"AG137","v":0},{"$f":"AH138","v":0},{"$f":"AI139","v":0}]
[null,null,null,null,null,null,null,null,null,null,{"$f":"IF(貴校データ入力シート!G140=\"\",\"\",貴校データ入力シート!G140)","v":""},{"$f":"IF(貴校データ入力シート!H140=\"\",\"\",貴校データ入力シート!H140)","v":""},{"$f":"IF(貴校データ入力シート!I140=\"\",\"\",貴校データ入力シート!I140)","v":""},{"$f":"IF(貴校データ入力シート!J140=\"\",\"\",貴校データ入力シート!J140)","v":""},{"$f":"IF(貴校データ入力シート!K140=\"\",\"\",貴校データ入力シート!K140)","v":""},{"$f":"IF(貴校データ入力シート!L140=\"\",\"\",貴校データ入力シート!L140)","v":""},{"$f":"IF(貴校データ入力シート!M140=\"\",\"\",貴校データ入力シート!M140)","v":""},{"$f":"IF(貴校データ入力シート!N140=\"\",\"\",貴校データ入力シート!N140)","v":""},{"$f":"IF(貴校データ入力シート!O140=\"\",\"\",貴校データ入力シート!O140)","v":""},{"$f":"IF(貴校データ入力シート!P140=\"\",\"\",貴校データ入力シート!P140)","v":""},{"$f":"IF(貴校データ入力シート!Q140=\"\",\"\",貴校データ入力シート!Q140)","v":""},{"$f":"IF(貴校データ入力シート!R140=\"\",\"\",貴校データ入力シート!R140)","v":""},{"$f":"IF(貴校データ入力シート!S140=\"\",\"\",貴校データ入力シート!S140)","v":""},{"$f":"IF(貴校データ入力シート!T140=\"\",\"\",貴校データ入力シート!T140)","v":""},{"$f":"IF(貴校データ入力シート!U140=\"\",\"\",貴校データ入力シート!U140)","v":""},{"$f":"IF(貴校データ入力シート!V140=\"\",\"\",貴校データ入力シート!V140)","v":""},{"$f":"IF(貴校データ入力シート!W140=\"\",\"\",貴校データ入力シート!W140)","v":""},{"$f":"IF(貴校データ入力シート!X140=\"\",\"\",貴校データ入力シート!X140)","v":""},{"$f":"IF(貴校データ入力シート!Y140=\"\",\"\",貴校データ入力シート!Y140)","v":""},{"$f":"IF(貴校データ入力シート!Z140=\"\",\"\",貴校データ入力シート!Z140)","v":""},{"$f":"IF(貴校データ入力シート!AA140=\"\",\"\",貴校データ入力シート!AA140)","v":""},{"$f":"IF(貴校データ入力シート!AB140=\"\",\"\",貴校データ入力シート!AB140)","v":""},{"$f":"SUM(K137:L137)","v":0}]
[null,null,null,null,null,null,null,null,null,null,{"$f":"IF(貴校データ入力シート!G141=\"\",\"\",貴校データ入力シート!G141)","v":""},{"$f":"IF(貴校データ入力シート!H141=\"\",\"\",貴校データ入力シート!H141)","v":""},{"$f":"IF(貴校データ入力シート!I141=\"\",\"\",貴校データ入力シート!I141)","v":""},{"$f":"IF(貴校データ入力シート!J141=\"\",\"\",貴校データ入力シート!J141)","v":""},{"$f":"IF(貴校データ入力シート!K141=\"\",\"\",貴校データ入力シート!K141)","v":""},{"$f":"IF(貴校データ入力シート!L141=\"\",\"\",貴校データ入力シート!L141)","v":""},{"$f":"IF(貴校データ入力シート!M141=\"\",\"\",貴校データ入力シート!M141)","v":""},{"$f":"IF(貴校データ入力シート!N141=\"\",\"\",貴校データ入力シート!N141)","v":""},{"$f":"IF(貴校データ入力シート!O141=\"\",\"\",貴校データ入力シート!O141)","v":""},{"$f":"IF(貴校データ入力シート!P141=\"\",\"\",貴校データ入力シート!P141)","v":""},{"$f":"IF(貴校データ入力シート!Q141=\"\",\"\",貴校データ入力シート!Q141)","v":""},{"$f":"IF(貴校データ入力シート!R141=\"\",\"\",貴校データ入力シート!R141)","v":""},{"$f":"IF(貴校データ入力シート!S141=\"\",\"\",貴校データ入力シート!S141)","v":""},{"$f":"IF(貴校データ入力シート!T141=\"\",\"\",貴校データ入力シート!T141)","v":""},{"$f":"IF(貴校データ入力シート!U141=\"\",\"\",貴校データ入力シート!U141)","v":""},{"$f":"IF(貴校データ入力シート!V141=\"\",\"\",貴校データ入力シート!V141)","v":""},{"$f":"IF(貴校データ入力シート!W141=\"\",\"\",貴校データ入力シート!W141)","v":""},{"$f":"IF(貴校データ入力シート!X141=\"\",\"\",貴校データ入力シート!X141)","v":""},{"$f":"IF(貴校データ入力シート!Y141=\"\",\"\",貴校データ入力シート!Y141)","v":""},{"$f":"IF(貴校データ入力シート!Z141=\"\",\"\",貴校データ入力シート!Z141)","v":""},{"$f":"IF(貴校データ入力シート!AA141=\"\",\"\",貴校データ入力シート!AA141)","v":""},{"$f":"IF(貴校データ入力シート!AB141=\"\",\"\",貴校データ入力シート!AB141)","v":""},null,{"$f":"SUM(K138:L138)","v":0}]
[null,null,null,null,null,null,null,null,null,null,{"$f":"IF(貴校データ入力シート!G142=\"\",\"\",貴校データ入力シート!G142)","v":""},{"$f":"IF(貴校データ入力シート!H142=\"\",\"\",貴校データ入力シート!H142)","v":""},{"$f":"IF(貴校データ入力シート!I142=\"\",\"\",貴校データ入力シート!I142)","v":""},{"$f":"IF(貴校データ入力シート!J142=\"\",\"\",貴校データ入力シート!J142)","v":""},{"$f":"IF(貴校データ入力シート!K142=\"\",\"\",貴校データ入力シート!K142)","v":""},{"$f":"IF(貴校データ入力シート!L142=\"\",\"\",貴校データ入力シート!L142)","v":""},{"$f":"IF(貴校データ入力シート!M142=\"\",\"\",貴校データ入力シート!M142)","v":""},{"$f":"IF(貴校データ入力シート!N142=\"\",\"\",貴校データ入力シート!N142)","v":""},{"$f":"IF(貴校データ入力シート!O142=\"\",\"\",貴校データ入力シート!O142)","v":""},{"$f":"IF(貴校データ入力シート!P142=\"\",\"\",貴校データ入力シート!P142)","v":""},{"$f":"IF(貴校データ入力シート!Q142=\"\",\"\",貴校データ入力シート!Q142)","v":""},{"$f":"IF(貴校データ入力シート!R142=\"\",\"\",貴校データ入力シート!R142)","v":""},{"$f":"IF(貴校データ入力シート!S142=\"\",\"\",貴校データ入力シート!S142)","v":""},{"$f":"IF(貴校データ入力シート!T142=\"\",\"\",貴校データ入力シート!T142)","v":""},{"$f":"IF(貴校データ入力シート!U142=\"\",\"\",貴校データ入力シート!U142)","v":""},{"$f":"IF(貴校データ入力シート!V142=\"\",\"\",貴校データ入力シート!V142)","v":""},{"$f":"IF(貴校データ入力シート!W142=\"\",\"\",貴校データ入力シート!W142)","v":""},{"$f":"IF(貴校データ入力シート!X142=\"\",\"\",貴校データ入力シート!X142)","v":""},{"$f":"IF(貴校データ入力シート!Y142=\"\",\"\",貴校データ入力シート!Y142)","v":""},{"$f":"IF(貴校データ入力シート!Z142=\"\",\"\",貴校データ入力シート!Z142)","v":""},{"$f":"IF(貴校データ入力シート!AA142=\"\",\"\",貴校データ入力シート!AA142)","v":""},{"$f":"IF(貴校データ入力シート!AB142=\"\",\"\",貴校データ入力シート!AB142)","v":""},null,null,{"$f":"SUM(K139:L139)","v":0}]
[47,"（３６－３）",{"$f":"IF(貴校データ入力シート!C143=\"\",\"\",貴校データ入力シート!C143)","v":"あなたは自分がPC・タブレットなどのICT機器を使って情報を整理する（図、表、グラフ、思考ツールなどを使ってまとめる）ことができると思いますか"},null,null,null,null,null,null,null,{"$f":"IF(貴校データ入力シート!G143=\"\",\"\",貴校データ入力シート!G143)","v":""},{"$f":"IF(貴校データ入力シート!H143=\"\",\"\",貴校データ入力シート!H143)","v":""},{"$f":"IF(貴校データ入力シート!I143=\"\",\"\",貴校データ入力シート!I143)","v":""},{"$f":"IF(貴校データ入力シート!J143=\"\",\"\",貴校データ入力シート!J143)","v":""},{"$f":"IF(貴校データ入力シート!K143=\"\",\"\",貴校データ入力シート!K143)","v":""},{"$f":"IF(貴校データ入力シート!L143=\"\",\"\",貴校データ入力シート!L143)","v":""},{"$f":"IF(貴校データ入力シート!M143=\"\",\"\",貴校データ入力シート!M143)","v":""},{"$f":"IF(貴校データ入力シート!N143=\"\",\"\",貴校データ入力シート!N143)","v":""},{"$f":"IF(貴校データ入力シート!O143=\"\",\"\",貴校データ入力シート!O143)","v":""},{"$f":"IF(貴校データ入力シート!P143=\"\",\"\",貴校データ入力シート!P143)","v":""},{"$f":"IF(貴校データ入力シート!Q143=\"\",\"\",貴校データ入力シート!Q143)","v":""},{"$f":"IF(貴校データ入力シート!R143=\"\",\"\",貴校データ入力シート!R143)","v":""},{"$f":"IF(貴校データ入力シート!S143=\"\",\"\",貴校データ入力シート!S143)","v":""},{"$f":"IF(貴校データ入力シート!T143=\"\",\"\",貴校データ入力シート!T143)","v":""},{"$f":"IF(貴校データ入力シート!U143=\"\",\"\",貴校データ入力シート!U143)","v":""},{"$f":"IF(貴校データ入力シート!V143=\"\",\"\",貴校データ入力シート!V143)","v":""},{"$f":"IF(貴校データ入力シート!W143=\"\",\"\",貴校データ入力シート!W143)","v":""},{"$f":"IF(貴校データ入力シート!X143=\"\",\"\",貴校データ入力シート!X143)","v":""},{"$f":"IF(貴校データ入力シート!Y143=\"\",\"\",貴校データ入力シート!Y143)","v":""},{"$f":"IF(貴校データ入力シート!Z143=\"\",\"\",貴校データ入力シート!Z143)","v":""},{"$f":"IF(貴校データ入力シート!AA143=\"\",\"\",貴校データ入力シート!AA143)","v":""},{"$f":"IF(貴校データ入力シート!AB143=\"\",\"\",貴校データ入力シート!AB143)","v":""},null,null,null,{"$f":"AG141","v":0},{"$f":"AH142","v":0},{"$f":"AI143","v":0}]
[null,null,null,null,null,null,null,null,null,null,{"$f":"IF(貴校データ入力シート!G144=\"\",\"\",貴校データ入力シート!G144)","v":""},{"$f":"IF(貴校データ入力シート!H144=\"\",\"\",貴校データ入力シート!H144)","v":""},{"$f":"IF(貴校データ入力シート!I144=\"\",\"\",貴校データ入力シート!I144)","v":""},{"$f":"IF(貴校データ入力シート!J144=\"\",\"\",貴校データ入力シート!J144)","v":""},{"$f":"IF(貴校データ入力シート!K144=\"\",\"\",貴校データ入力シート!K144)","v":""},{"$f":"IF(貴校データ入力シート!L144=\"\",\"\",貴校データ入力シート!L144)","v":""},{"$f":"IF(貴校データ入力シート!M144=\"\",\"\",貴校データ入力シート!M144)","v":""},{"$f":"IF(貴校データ入力シート!N144=\"\",\"\",貴校データ入力シート!N144)","v":""},{"$f":"IF(貴校データ入力シート!O144=\"\",\"\",貴校データ入力シート!O144)","v":""},{"$f":"IF(貴校データ入力シート!P144=\"\",\"\",貴校データ入力シート!P144)","v":""},{"$f":"IF(貴校データ入力シート!Q144=\"\",\"\",貴校データ入力シート!Q144)","v":""},{"$f":"IF(貴校データ入力シート!R144=\"\",\"\",貴校データ入力シート!R144)","v":""},{"$f":"IF(貴校データ入力シート!S144=\"\",\"\",貴校データ入力シート!S144)","v":""},{"$f":"IF(貴校データ入力シート!T144=\"\",\"\",貴校データ入力シート!T144)","v":""},{"$f":"IF(貴校データ入力シート!U144=\"\",\"\",貴校データ入力シート!U144)","v":""},{"$f":"IF(貴校データ入力シート!V144=\"\",\"\",貴校データ入力シート!V144)","v":""},{"$f":"IF(貴校データ入力シート!W144=\"\",\"\",貴校データ入力シート!W144)","v":""},{"$f":"IF(貴校データ入力シート!X144=\"\",\"\",貴校データ入力シート!X144)","v":""},{"$f":"IF(貴校データ入力シート!Y144=\"\",\"\",貴校データ入力シート!Y144)","v":""},{"$f":"IF(貴校データ入力シート!Z144=\"\",\"\",貴校データ入力シート!Z144)","v":""},{"$f":"IF(貴校データ入力シート!AA144=\"\",\"\",貴校データ入力シート!AA144)","v":""},{"$f":"IF(貴校データ入力シート!AB144=\"\",\"\",貴校データ入力シート!AB144)","v":""},{"$f":"SUM(K141:L141)","v":0}]
[null,null,null,null,null,null,null,null,null,null,{"$f":"IF(貴校データ入力シート!G145=\"\",\"\",貴校データ入力シート!G145)","v":""},{"$f":"IF(貴校データ入力シート!H145=\"\",\"\",貴校データ入力シート!H145)","v":""},{"$f":"IF(貴校データ入力シート!I145=\"\",\"\",貴校データ入力シート!I145)","v":""},{"$f":"IF(貴校データ入力シート!J145=\"\",\"\",貴校データ入力シート!J145)","v":""},{"$f":"IF(貴校データ入力シート!K145=\"\",\"\",貴校データ入力シート!K145)","v":""},{"$f":"IF(貴校データ入力シート!L145=\"\",\"\",貴校データ入力シート!L145)","v":""},{"$f":"IF(貴校データ入力シート!M145=\"\",\"\",貴校データ入力シート!M145)","v":""},{"$f":"IF(貴校データ入力シート!N145=\"\",\"\",貴校データ入力シート!N145)","v":""},{"$f":"IF(貴校データ入力シート!O145=\"\",\"\",貴校データ入力シート!O145)","v":""},{"$f":"IF(貴校データ入力シート!P145=\"\",\"\",貴校データ入力シート!P145)","v":""},{"$f":"IF(貴校データ入力シート!Q145=\"\",\"\",貴校データ入力シート!Q145)","v":""},{"$f":"IF(貴校データ入力シート!R145=\"\",\"\",貴校データ入力シート!R145)","v":""},{"$f":"IF(貴校データ入力シート!S145=\"\",\"\",貴校データ入力シート!S145)","v":""},{"$f":"IF(貴校データ入力シート!T145=\"\",\"\",貴校データ入力シート!T145)","v":""},{"$f":"IF(貴校データ入力シート!U145=\"\",\"\",貴校データ入力シート!U145)","v":""},{"$f":"IF(貴校データ入力シート!V145=\"\",\"\",貴校データ入力シート!V145)","v":""},{"$f":"IF(貴校データ入力シート!W145=\"\",\"\",貴校データ入力シート!W145)","v":""},{"$f":"IF(貴校データ入力シート!X145=\"\",\"\",貴校データ入力シート!X145)","v":""},{"$f":"IF(貴校データ入力シート!Y145=\"\",\"\",貴校データ入力シート!Y145)","v":""},{"$f":"IF(貴校データ入力シート!Z145=\"\",\"\",貴校データ入力シート!Z145)","v":""},{"$f":"IF(貴校データ入力シート!AA145=\"\",\"\",貴校データ入力シート!AA145)","v":""},{"$f":"IF(貴校データ入力シート!AB145=\"\",\"\",貴校データ入力シート!AB145)","v":""},null,{"$f":"SUM(K142:L142)","v":0}]
[null,null,null,null,null,null,null,null,null,null,{"$f":"IF(貴校データ入力シート!G146=\"\",\"\",貴校データ入力シート!G146)","v":""},{"$f":"IF(貴校データ入力シート!H146=\"\",\"\",貴校データ入力シート!H146)","v":""},{"$f":"IF(貴校データ入力シート!I146=\"\",\"\",貴校データ入力シート!I146)","v":""},{"$f":"IF(貴校データ入力シート!J146=\"\",\"\",貴校データ入力シート!J146)","v":""},{"$f":"IF(貴校データ入力シート!K146=\"\",\"\",貴校データ入力シート!K146)","v":""},{"$f":"IF(貴校データ入力シート!L146=\"\",\"\",貴校データ入力シート!L146)","v":""},{"$f":"IF(貴校データ入力シート!M146=\"\",\"\",貴校データ入力シート!M146)","v":""},{"$f":"IF(貴校データ入力シート!N146=\"\",\"\",貴校データ入力シート!N146)","v":""},{"$f":"IF(貴校データ入力シート!O146=\"\",\"\",貴校データ入力シート!O146)","v":""},{"$f":"IF(貴校データ入力シート!P146=\"\",\"\",貴校データ入力シート!P146)","v":""},{"$f":"IF(貴校データ入力シート!Q146=\"\",\"\",貴校データ入力シート!Q146)","v":""},{"$f":"IF(貴校データ入力シート!R146=\"\",\"\",貴校データ入力シート!R146)","v":""},{"$f":"IF(貴校データ入力シート!S146=\"\",\"\",貴校データ入力シート!S146)","v":""},{"$f":"IF(貴校データ入力シート!T146=\"\",\"\",貴校データ入力シート!T146)","v":""},{"$f":"IF(貴校データ入力シート!U146=\"\",\"\",貴校データ入力シート!U146)","v":""},{"$f":"IF(貴校データ入力シート!V146=\"\",\"\",貴校データ入力シート!V146)","v":""},{"$f":"IF(貴校データ入力シート!W146=\"\",\"\",貴校データ入力シート!W146)","v":""},{"$f":"IF(貴校データ入力シート!X146=\"\",\"\",貴校データ入力シート!X146)","v":""},{"$f":"IF(貴校データ入力シート!Y146=\"\",\"\",貴校データ入力シート!Y146)","v":""},{"$f":"IF(貴校データ入力シート!Z146=\"\",\"\",貴校データ入力シート!Z146)","v":""},{"$f":"IF(貴校データ入力シート!AA146=\"\",\"\",貴校データ入力シート!AA146)","v":""},{"$f":"IF(貴校データ入力シート!AB146=\"\",\"\",貴校データ入力シート!AB146)","v":""},null,null,{"$f":"SUM(K143:L143)","v":0}]
[48,"（３６－４）",{"$f":"IF(貴校データ入力シート!C147=\"\",\"\",貴校データ入力シート!C147)","v":"あなたは自分がPC・タブレットなどのICT機器を使って学校での活動でプレゼンテーション（発表のスライド）を作成することができると思いますか"},null,null,null,null,null,null,null,{"$f":"IF(貴校データ入力シート!G147=\"\",\"\",貴校データ入力シート!G147)","v":""},{"$f":"IF(貴校データ入力シート!H147=\"\",\"\",貴校データ入力シート!H147)","v":""},{"$f":"IF(貴校データ入力シート!I147=\"\",\"\",貴校データ入力シート!I147)","v":""},{"$f":"IF(貴校データ入力シート!J147=\"\",\"\",貴校データ入力シート!J147)","v":""},{"$f":"IF(貴校データ入力シート!K147=\"\",\"\",貴校データ入力シート!K147)","v":""},{"$f":"IF(貴校データ入力シート!L147=\"\",\"\",貴校データ入力シート!L147)","v":""},{"$f":"IF(貴校データ入力シート!M147=\"\",\"\",貴校データ入力シート!M147)","v":""},{"$f":"IF(貴校データ入力シート!N147=\"\",\"\",貴校データ入力シート!N147)","v":""},{"$f":"IF(貴校データ入力シート!O147=\"\",\"\",貴校データ入力シート!O147)","v":""},{"$f":"IF(貴校データ入力シート!P147=\"\",\"\",貴校データ入力シート!P147)","v":""},{"$f":"IF(貴校データ入力シート!Q147=\"\",\"\",貴校データ入力シート!Q147)","v":""},{"$f":"IF(貴校データ入力シート!R147=\"\",\"\",貴校データ入力シート!R147)","v":""},{"$f":"IF(貴校データ入力シート!S147=\"\",\"\",貴校データ入力シート!S147)","v":""},{"$f":"IF(貴校データ入力シート!T147=\"\",\"\",貴校データ入力シート!T147)","v":""},{"$f":"IF(貴校データ入力シート!U147=\"\",\"\",貴校データ入力シート!U147)","v":""},{"$f":"IF(貴校データ入力シート!V147=\"\",\"\",貴校データ入力シート!V147)","v":""},{"$f":"IF(貴校データ入力シート!W147=\"\",\"\",貴校データ入力シート!W147)","v":""},{"$f":"IF(貴校データ入力シート!X147=\"\",\"\",貴校データ入力シート!X147)","v":""},{"$f":"IF(貴校データ入力シート!Y147=\"\",\"\",貴校データ入力シート!Y147)","v":""},{"$f":"IF(貴校データ入力シート!Z147=\"\",\"\",貴校データ入力シート!Z147)","v":""},{"$f":"IF(貴校データ入力シート!AA147=\"\",\"\",貴校データ入力シート!AA147)","v":""},{"$f":"IF(貴校データ入力シート!AB147=\"\",\"\",貴校データ入力シート!AB147)","v":""},null,null,null,{"$f":"AG145","v":0},{"$f":"AH146","v":0},{"$f":"AI147","v":0}]
[null,null,null,null,null,null,null,null,null,null,{"$f":"IF(貴校データ入力シート!G148=\"\",\"\",貴校データ入力シート!G148)","v":""},{"$f":"IF(貴校データ入力シート!H148=\"\",\"\",貴校データ入力シート!H148)","v":""},{"$f":"IF(貴校データ入力シート!I148=\"\",\"\",貴校データ入力シート!I148)","v":""},{"$f":"IF(貴校データ入力シート!J148=\"\",\"\",貴校データ入力シート!J148)","v":""},{"$f":"IF(貴校データ入力シート!K148=\"\",\"\",貴校データ入力シート!K148)","v":""},{"$f":"IF(貴校データ入力シート!L148=\"\",\"\",貴校データ入力シート!L148)","v":""},{"$f":"IF(貴校データ入力シート!M148=\"\",\"\",貴校データ入力シート!M148)","v":""},{"$f":"IF(貴校データ入力シート!N148=\"\",\"\",貴校データ入力シート!N148)","v":""},{"$f":"IF(貴校データ入力シート!O148=\"\",\"\",貴校データ入力シート!O148)","v":""},{"$f":"IF(貴校データ入力シート!P148=\"\",\"\",貴校データ入力シート!P148)","v":""},{"$f":"IF(貴校データ入力シート!Q148=\"\",\"\",貴校データ入力シート!Q148)","v":""},{"$f":"IF(貴校データ入力シート!R148=\"\",\"\",貴校データ入力シート!R148)","v":""},{"$f":"IF(貴校データ入力シート!S148=\"\",\"\",貴校データ入力シート!S148)","v":""},{"$f":"IF(貴校データ入力シート!T148=\"\",\"\",貴校データ入力シート!T148)","v":""},{"$f":"IF(貴校データ入力シート!U148=\"\",\"\",貴校データ入力シート!U148)","v":""},{"$f":"IF(貴校データ入力シート!V148=\"\",\"\",貴校データ入力シート!V148)","v":""},{"$f":"IF(貴校データ入力シート!W148=\"\",\"\",貴校データ入力シート!W148)","v":""},{"$f":"IF(貴校データ入力シート!X148=\"\",\"\",貴校データ入力シート!X148)","v":""},{"$f":"IF(貴校データ入力シート!Y148=\"\",\"\",貴校データ入力シート!Y148)","v":""},{"$f":"IF(貴校データ入力シート!Z148=\"\",\"\",貴校データ入力シート!Z148)","v":""},{"$f":"IF(貴校データ入力シート!AA148=\"\",\"\",貴校データ入力シート!AA148)","v":""},{"$f":"IF(貴校データ入力シート!AB148=\"\",\"\",貴校データ入力シート!AB148)","v":""},{"$f":"SUM(K145:L145)","v":0}]
[null,null,null,null,null,null,null,null,null,null,{"$f":"IF(貴校データ入力シート!G149=\"\",\"\",貴校データ入力シート!G149)","v":""},{"$f":"IF(貴校データ入力シート!H149=\"\",\"\",貴校データ入力シート!H149)","v":""},{"$f":"IF(貴校データ入力シート!I149=\"\",\"\",貴校データ入力シート!I149)","v":""},{"$f":"IF(貴校データ入力シート!J149=\"\",\"\",貴校データ入力シート!J149)","v":""},{"$f":"IF(貴校データ入力シート!K149=\"\",\"\",貴校データ入力シート!K149)","v":""},{"$f":"IF(貴校データ入力シート!L149=\"\",\"\",貴校データ入力シート!L149)","v":""},{"$f":"IF(貴校データ入力シート!M149=\"\",\"\",貴校データ入力シート!M149)","v":""},{"$f":"IF(貴校データ入力シート!N149=\"\",\"\",貴校データ入力シート!N149)","v":""},{"$f":"IF(貴校データ入力シート!O149=\"\",\"\",貴校データ入力シート!O149)","v":""},{"$f":"IF(貴校データ入力シート!P149=\"\",\"\",貴校データ入力シート!P149)","v":""},{"$f":"IF(貴校データ入力シート!Q149=\"\",\"\",貴校データ入力シート!Q149)","v":""},{"$f":"IF(貴校データ入力シート!R149=\"\",\"\",貴校データ入力シート!R149)","v":""},{"$f":"IF(貴校データ入力シート!S149=\"\",\"\",貴校データ入力シート!S149)","v":""},{"$f":"IF(貴校データ入力シート!T149=\"\",\"\",貴校データ入力シート!T149)","v":""},{"$f":"IF(貴校データ入力シート!U149=\"\",\"\",貴校データ入力シート!U149)","v":""},{"$f":"IF(貴校データ入力シート!V149=\"\",\"\",貴校データ入力シート!V149)","v":""},{"$f":"IF(貴校データ入力シート!W149=\"\",\"\",貴校データ入力シート!W149)","v":""},{"$f":"IF(貴校データ入力シート!X149=\"\",\"\",貴校データ入力シート!X149)","v":""},{"$f":"IF(貴校データ入力シート!Y149=\"\",\"\",貴校データ入力シート!Y149)","v":""},{"$f":"IF(貴校データ入力シート!Z149=\"\",\"\",貴校データ入力シート!Z149)","v":""},{"$f":"IF(貴校データ入力シート!AA149=\"\",\"\",貴校データ入力シート!AA149)","v":""},{"$f":"IF(貴校データ入力シート!AB149=\"\",\"\",貴校データ入力シート!AB149)","v":""},null,{"$f":"SUM(K146:L146)","v":0}]
[null,null,null,null,null,null,null,null,null,null,{"$f":"IF(貴校データ入力シート!G150=\"\",\"\",貴校データ入力シート!G150)","v":""},{"$f":"IF(貴校データ入力シート!H150=\"\",\"\",貴校データ入力シート!H150)","v":""},{"$f":"IF(貴校データ入力シート!I150=\"\",\"\",貴校データ入力シート!I150)","v":""},{"$f":"IF(貴校データ入力シート!J150=\"\",\"\",貴校データ入力シート!J150)","v":""},{"$f":"IF(貴校データ入力シート!K150=\"\",\"\",貴校データ入力シート!K150)","v":""},{"$f":"IF(貴校データ入力シート!L150=\"\",\"\",貴校データ入力シート!L150)","v":""},{"$f":"IF(貴校データ入力シート!M150=\"\",\"\",貴校データ入力シート!M150)","v":""},{"$f":"IF(貴校データ入力シート!N150=\"\",\"\",貴校データ入力シート!N150)","v":""},{"$f":"IF(貴校データ入力シート!O150=\"\",\"\",貴校データ入力シート!O150)","v":""},{"$f":"IF(貴校データ入力シート!P150=\"\",\"\",貴校データ入力シート!P150)","v":""},{"$f":"IF(貴校データ入力シート!Q150=\"\",\"\",貴校データ入力シート!Q150)","v":""},{"$f":"IF(貴校データ入力シート!R150=\"\",\"\",貴校データ入力シート!R150)","v":""},{"$f":"IF(貴校データ入力シート!S150=\"\",\"\",貴校データ入力シート!S150)","v":""},{"$f":"IF(貴校データ入力シート!T150=\"\",\"\",貴校データ入力シート!T150)","v":""},{"$f":"IF(貴校データ入力シート!U150=\"\",\"\",貴校データ入力シート!U150)","v":""},{"$f":"IF(貴校データ入力シート!V150=\"\",\"\",貴校データ入力シート!V150)","v":""},{"$f":"IF(貴校データ入力シート!W150=\"\",\"\",貴校データ入力シート!W150)","v":""},{"$f":"IF(貴校データ入力シート!X150=\"\",\"\",貴校データ入力シート!X150)","v":""},{"$f":"IF(貴校データ入力シート!Y150=\"\",\"\",貴校データ入力シート!Y150)","v":""},{"$f":"IF(貴校データ入力シート!Z150=\"\",\"\",貴校データ入力シート!Z150)","v":""},{"$f":"IF(貴校データ入力シート!AA150=\"\",\"\",貴校データ入力シート!AA150)","v":""},{"$f":"IF(貴校データ入力シート!AB150=\"\",\"\",貴校データ入力シート!AB150)","v":""},null,null,{"$f":"SUM(K147:L147)","v":0}]
[60,"（３８）",{"$f":"IF(貴校データ入力シート!C151=\"\",\"\",貴校データ入力シート!C151)","v":"５年生までに受けた授業で、自分の考えを発表する機会では、自分の考えがうまく伝わるよう、資料や文章、話の組立てなどを工夫して発表していましたか"},null,null,null,null,null,null,null,{"$f":"IF(貴校データ入力シート!G151=\"\",\"\",貴校データ入力シート!G151)","v":""},{"$f":"IF(貴校データ入力シート!H151=\"\",\"\",貴校データ入力シート!H151)","v":""},{"$f":"IF(貴校データ入力シート!I151=\"\",\"\",貴校データ入力シート!I151)","v":""},{"$f":"IF(貴校データ入力シート!J151=\"\",\"\",貴校データ入力シート!J151)","v":""},{"$f":"IF(貴校データ入力シート!K151=\"\",\"\",貴校データ入力シート!K151)","v":""},{"$f":"IF(貴校データ入力シート!L151=\"\",\"\",貴校データ入力シート!L151)","v":""},{"$f":"IF(貴校データ入力シート!M151=\"\",\"\",貴校データ入力シート!M151)","v":""},{"$f":"IF(貴校データ入力シート!N151=\"\",\"\",貴校データ入力シート!N151)","v":""},{"$f":"IF(貴校データ入力シート!O151=\"\",\"\",貴校データ入力シート!O151)","v":""},{"$f":"IF(貴校データ入力シート!P151=\"\",\"\",貴校データ入力シート!P151)","v":""},{"$f":"IF(貴校データ入力シート!Q151=\"\",\"\",貴校データ入力シート!Q151)","v":""},{"$f":"IF(貴校データ入力シート!R151=\"\",\"\",貴校データ入力シート!R151)","v":""},{"$f":"IF(貴校データ入力シート!S151=\"\",\"\",貴校データ入力シート!S151)","v":""},{"$f":"IF(貴校データ入力シート!T151=\"\",\"\",貴校データ入力シート!T151)","v":""},{"$f":"IF(貴校データ入力シート!U151=\"\",\"\",貴校データ入力シート!U151)","v":""},{"$f":"IF(貴校データ入力シート!V151=\"\",\"\",貴校データ入力シート!V151)","v":""},{"$f":"IF(貴校データ入力シート!W151=\"\",\"\",貴校データ入力シート!W151)","v":""},{"$f":"IF(貴校データ入力シート!X151=\"\",\"\",貴校データ入力シート!X151)","v":""},{"$f":"IF(貴校データ入力シート!Y151=\"\",\"\",貴校データ入力シート!Y151)","v":""},{"$f":"IF(貴校データ入力シート!Z151=\"\",\"\",貴校データ入力シート!Z151)","v":""},{"$f":"IF(貴校データ入力シート!AA151=\"\",\"\",貴校データ入力シート!AA151)","v":""},{"$f":"IF(貴校データ入力シート!AB151=\"\",\"\",貴校データ入力シート!AB151)","v":""},null,null,null,{"$f":"AG149","v":0},{"$f":"AH150","v":0},{"$f":"AI151","v":0},1]
[null,null,null,null,null,null,null,null,null,null,{"$f":"IF(貴校データ入力シート!G152=\"\",\"\",貴校データ入力シート!G152)","v":""},{"$f":"IF(貴校データ入力シート!H152=\"\",\"\",貴校データ入力シート!H152)","v":""},{"$f":"IF(貴校データ入力シート!I152=\"\",\"\",貴校データ入力シート!I152)","v":""},{"$f":"IF(貴校データ入力シート!J152=\"\",\"\",貴校データ入力シート!J152)","v":""},{"$f":"IF(貴校データ入力シート!K152=\"\",\"\",貴校データ入力シート!K152)","v":""},{"$f":"IF(貴校データ入力シート!L152=\"\",\"\",貴校データ入力シート!L152)","v":""},{"$f":"IF(貴校データ入力シート!M152=\"\",\"\",貴校データ入力シート!M152)","v":""},{"$f":"IF(貴校データ入力シート!N152=\"\",\"\",貴校データ入力シート!N152)","v":""},{"$f":"IF(貴校データ入力シート!O152=\"\",\"\",貴校データ入力シート!O152)","v":""},{"$f":"IF(貴校データ入力シート!P152=\"\",\"\",貴校データ入力シート!P152)","v":""},{"$f":"IF(貴校データ入力シート!Q152=\"\",\"\",貴校データ入力シート!Q152)","v":""},{"$f":"IF(貴校データ入力シート!R152=\"\",\"\",貴校データ入力シート!R152)","v":""},{"$f":"IF(貴校データ入力シート!S152=\"\",\"\",貴校データ入力シート!S152)","v":""},{"$f":"IF(貴校データ入力シート!T152=\"\",\"\",貴校データ入力シート!T152)","v":""},{"$f":"IF(貴校データ入力シート!U152=\"\",\"\",貴校データ入力シート!U152)","v":""},{"$f":"IF(貴校データ入力シート!V152=\"\",\"\",貴校データ入力シート!V152)","v":""},{"$f":"IF(貴校データ入力シート!W152=\"\",\"\",貴校データ入力シート!W152)","v":""},{"$f":"IF(貴校データ入力シート!X152=\"\",\"\",貴校データ入力シート!X152)","v":""},{"$f":"IF(貴校データ入力シート!Y152=\"\",\"\",貴校データ入力シート!Y152)","v":""},{"$f":"IF(貴校データ入力シート!Z152=\"\",\"\",貴校データ入力シート!Z152)","v":""},{"$f":"IF(貴校データ入力シート!AA152=\"\",\"\",貴校データ入力シート!AA152)","v":""},{"$f":"IF(貴校データ入力シート!AB152=\"\",\"\",貴校データ入力シート!AB152)","v":""},{"$f":"SUM(K149:L149)","v":0}]
[null,null,null,null,null,null,null,null,null,null,{"$f":"IF(貴校データ入力シート!G153=\"\",\"\",貴校データ入力シート!G153)","v":""},{"$f":"IF(貴校データ入力シート!H153=\"\",\"\",貴校データ入力シート!H153)","v":""},{"$f":"IF(貴校データ入力シート!I153=\"\",\"\",貴校データ入力シート!I153)","v":""},{"$f":"IF(貴校データ入力シート!J153=\"\",\"\",貴校データ入力シート!J153)","v":""},{"$f":"IF(貴校データ入力シート!K153=\"\",\"\",貴校データ入力シート!K153)","v":""},{"$f":"IF(貴校データ入力シート!L153=\"\",\"\",貴校データ入力シート!L153)","v":""},{"$f":"IF(貴校データ入力シート!M153=\"\",\"\",貴校データ入力シート!M153)","v":""},{"$f":"IF(貴校データ入力シート!N153=\"\",\"\",貴校データ入力シート!N153)","v":""},{"$f":"IF(貴校データ入力シート!O153=\"\",\"\",貴校データ入力シート!O153)","v":""},{"$f":"IF(貴校データ入力シート!P153=\"\",\"\",貴校データ入力シート!P153)","v":""},{"$f":"IF(貴校データ入力シート!Q153=\"\",\"\",貴校データ入力シート!Q153)","v":""},{"$f":"IF(貴校データ入力シート!R153=\"\",\"\",貴校データ入力シート!R153)","v":""},{"$f":"IF(貴校データ入力シート!S153=\"\",\"\",貴校データ入力シート!S153)","v":""},{"$f":"IF(貴校データ入力シート!T153=\"\",\"\",貴校データ入力シート!T153)","v":""},{"$f":"IF(貴校データ入力シート!U153=\"\",\"\",貴校データ入力シート!U153)","v":""},{"$f":"IF(貴校データ入力シート!V153=\"\",\"\",貴校データ入力シート!V153)","v":""},{"$f":"IF(貴校データ入力シート!W153=\"\",\"\",貴校データ入力シート!W153)","v":""},{"$f":"IF(貴校データ入力シート!X153=\"\",\"\",貴校データ入力シート!X153)","v":""},{"$f":"IF(貴校データ入力シート!Y153=\"\",\"\",貴校データ入力シート!Y153)","v":""},{"$f":"IF(貴校データ入力シート!Z153=\"\",\"\",貴校データ入力シート!Z153)","v":""},{"$f":"IF(貴校データ入力シート!AA153=\"\",\"\",貴校データ入力シート!AA153)","v":""},{"$f":"IF(貴校データ入力シート!AB153=\"\",\"\",貴校データ入力シート!AB153)","v":""},null,{"$f":"SUM(K150:L150)","v":0}]
[null,null,null,null,null,null,null,null,null,null,{"$f":"IF(貴校データ入力シート!G154=\"\",\"\",貴校データ入力シート!G154)","v":""},{"$f":"IF(貴校データ入力シート!H154=\"\",\"\",貴校データ入力シート!H154)","v":""},{"$f":"IF(貴校データ入力シート!I154=\"\",\"\",貴校データ入力シート!I154)","v":""},{"$f":"IF(貴校データ入力シート!J154=\"\",\"\",貴校データ入力シート!J154)","v":""},{"$f":"IF(貴校データ入力シート!K154=\"\",\"\",貴校データ入力シート!K154)","v":""},{"$f":"IF(貴校データ入力シート!L154=\"\",\"\",貴校データ入力シート!L154)","v":""},{"$f":"IF(貴校データ入力シート!M154=\"\",\"\",貴校データ入力シート!M154)","v":""},{"$f":"IF(貴校データ入力シート!N154=\"\",\"\",貴校データ入力シート!N154)","v":""},{"$f":"IF(貴校データ入力シート!O154=\"\",\"\",貴校データ入力シート!O154)","v":""},{"$f":"IF(貴校データ入力シート!P154=\"\",\"\",貴校データ入力シート!P154)","v":""},{"$f":"IF(貴校データ入力シート!Q154=\"\",\"\",貴校データ入力シート!Q154)","v":""},{"$f":"IF(貴校データ入力シート!R154=\"\",\"\",貴校データ入力シート!R154)","v":""},{"$f":"IF(貴校データ入力シート!S154=\"\",\"\",貴校データ入力シート!S154)","v":""},{"$f":"IF(貴校データ入力シート!T154=\"\",\"\",貴校データ入力シート!T154)","v":""},{"$f":"IF(貴校データ入力シート!U154=\"\",\"\",貴校データ入力シート!U154)","v":""},{"$f":"IF(貴校データ入力シート!V154=\"\",\"\",貴校データ入力シート!V154)","v":""},{"$f":"IF(貴校データ入力シート!W154=\"\",\"\",貴校データ入力シート!W154)","v":""},{"$f":"IF(貴校データ入力シート!X154=\"\",\"\",貴校データ入力シート!X154)","v":""},{"$f":"IF(貴校データ入力シート!Y154=\"\",\"\",貴校データ入力シート!Y154)","v":""},{"$f":"IF(貴校データ入力シート!Z154=\"\",\"\",貴校データ入力シート!Z154)","v":""},{"$f":"IF(貴校データ入力シート!AA154=\"\",\"\",貴校データ入力シート!AA154)","v":""},{"$f":"IF(貴校データ入力シート!AB154=\"\",\"\",貴校データ入力シート!AB154)","v":""},null,null,{"$f":"SUM(K151:L151)","v":0}]
[61,"（３９）",{"$f":"IF(貴校データ入力シート!C155=\"\",\"\",貴校データ入力シート!C155)","v":"５年生までに受けた授業では、課題の解決に向けて、自分で考え、自分から取り組んでいましたか"},null,null,null,null,null,null,null,{"$f":"IF(貴校データ入力シート!G155=\"\",\"\",貴校データ入力シート!G155)","v":""},{"$f":"IF(貴校データ入力シート!H155=\"\",\"\",貴校データ入力シート!H155)","v":""},{"$f":"IF(貴校データ入力シート!I155=\"\",\"\",貴校データ入力シート!I155)","v":""},{"$f":"IF(貴校データ入力シート!J155=\"\",\"\",貴校データ入力シート!J155)","v":""},{"$f":"IF(貴校データ入力シート!K155=\"\",\"\",貴校データ入力シート!K155)","v":""},{"$f":"IF(貴校データ入力シート!L155=\"\",\"\",貴校データ入力シート!L155)","v":""},{"$f":"IF(貴校データ入力シート!M155=\"\",\"\",貴校データ入力シート!M155)","v":""},{"$f":"IF(貴校データ入力シート!N155=\"\",\"\",貴校データ入力シート!N155)","v":""},{"$f":"IF(貴校データ入力シート!O155=\"\",\"\",貴校データ入力シート!O155)","v":""},{"$f":"IF(貴校データ入力シート!P155=\"\",\"\",貴校データ入力シート!P155)","v":""},{"$f":"IF(貴校データ入力シート!Q155=\"\",\"\",貴校データ入力シート!Q155)","v":""},{"$f":"IF(貴校データ入力シート!R155=\"\",\"\",貴校データ入力シート!R155)","v":""},{"$f":"IF(貴校データ入力シート!S155=\"\",\"\",貴校データ入力シート!S155)","v":""},{"$f":"IF(貴校データ入力シート!T155=\"\",\"\",貴校データ入力シート!T155)","v":""},{"$f":"IF(貴校データ入力シート!U155=\"\",\"\",貴校データ入力シート!U155)","v":""},{"$f":"IF(貴校データ入力シート!V155=\"\",\"\",貴校データ入力シート!V155)","v":""},{"$f":"IF(貴校データ入力シート!W155=\"\",\"\",貴校データ入力シート!W155)","v":""},{"$f":"IF(貴校データ入力シート!X155=\"\",\"\",貴校データ入力シート!X155)","v":""},{"$f":"IF(貴校データ入力シート!Y155=\"\",\"\",貴校データ入力シート!Y155)","v":""},{"$f":"IF(貴校データ入力シート!Z155=\"\",\"\",貴校データ入力シート!Z155)","v":""},{"$f":"IF(貴校データ入力シート!AA155=\"\",\"\",貴校データ入力シート!AA155)","v":""},{"$f":"IF(貴校データ入力シート!AB155=\"\",\"\",貴校データ入力シート!AB155)","v":""},null,null,null,{"$f":"AG153","v":0},{"$f":"AH154","v":0},{"$f":"AI155","v":0}]
[null,null,null,null,null,null,null,null,null,null,{"$f":"IF(貴校データ入力シート!G156=\"\",\"\",貴校データ入力シート!G156)","v":""},{"$f":"IF(貴校データ入力シート!H156=\"\",\"\",貴校データ入力シート!H156)","v":""},{"$f":"IF(貴校データ入力シート!I156=\"\",\"\",貴校データ入力シート!I156)","v":""},{"$f":"IF(貴校データ入力シート!J156=\"\",\"\",貴校データ入力シート!J156)","v":""},{"$f":"IF(貴校データ入力シート!K156=\"\",\"\",貴校データ入力シート!K156)","v":""},{"$f":"IF(貴校データ入力シート!L156=\"\",\"\",貴校データ入力シート!L156)","v":""},{"$f":"IF(貴校データ入力シート!M156=\"\",\"\",貴校データ入力シート!M156)","v":""},{"$f":"IF(貴校データ入力シート!N156=\"\",\"\",貴校データ入力シート!N156)","v":""},{"$f":"IF(貴校データ入力シート!O156=\"\",\"\",貴校データ入力シート!O156)","v":""},{"$f":"IF(貴校データ入力シート!P156=\"\",\"\",貴校データ入力シート!P156)","v":""},{"$f":"IF(貴校データ入力シート!Q156=\"\",\"\",貴校データ入力シート!Q156)","v":""},{"$f":"IF(貴校データ入力シート!R156=\"\",\"\",貴校データ入力シート!R156)","v":""},{"$f":"IF(貴校データ入力シート!S156=\"\",\"\",貴校データ入力シート!S156)","v":""},{"$f":"IF(貴校データ入力シート!T156=\"\",\"\",貴校データ入力シート!T156)","v":""},{"$f":"IF(貴校データ入力シート!U156=\"\",\"\",貴校データ入力シート!U156)","v":""},{"$f":"IF(貴校データ入力シート!V156=\"\",\"\",貴校データ入力シート!V156)","v":""},{"$f":"IF(貴校データ入力シート!W156=\"\",\"\",貴校データ入力シート!W156)","v":""},{"$f":"IF(貴校データ入力シート!X156=\"\",\"\",貴校データ入力シート!X156)","v":""},{"$f":"IF(貴校データ入力シート!Y156=\"\",\"\",貴校データ入力シート!Y156)","v":""},{"$f":"IF(貴校データ入力シート!Z156=\"\",\"\",貴校データ入力シート!Z156)","v":""},{"$f":"IF(貴校データ入力シート!AA156=\"\",\"\",貴校データ入力シート!AA156)","v":""},{"$f":"IF(貴校データ入力シート!AB156=\"\",\"\",貴校データ入力シート!AB156)","v":""},{"$f":"SUM(K153:L153)","v":0}]
[null,null,null,null,null,null,null,null,null,null,{"$f":"IF(貴校データ入力シート!G157=\"\",\"\",貴校データ入力シート!G157)","v":""},{"$f":"IF(貴校データ入力シート!H157=\"\",\"\",貴校データ入力シート!H157)","v":""},{"$f":"IF(貴校データ入力シート!I157=\"\",\"\",貴校データ入力シート!I157)","v":""},{"$f":"IF(貴校データ入力シート!J157=\"\",\"\",貴校データ入力シート!J157)","v":""},{"$f":"IF(貴校データ入力シート!K157=\"\",\"\",貴校データ入力シート!K157)","v":""},{"$f":"IF(貴校データ入力シート!L157=\"\",\"\",貴校データ入力シート!L157)","v":""},{"$f":"IF(貴校データ入力シート!M157=\"\",\"\",貴校データ入力シート!M157)","v":""},{"$f":"IF(貴校データ入力シート!N157=\"\",\"\",貴校データ入力シート!N157)","v":""},{"$f":"IF(貴校データ入力シート!O157=\"\",\"\",貴校データ入力シート!O157)","v":""},{"$f":"IF(貴校データ入力シート!P157=\"\",\"\",貴校データ入力シート!P157)","v":""},{"$f":"IF(貴校データ入力シート!Q157=\"\",\"\",貴校データ入力シート!Q157)","v":""},{"$f":"IF(貴校データ入力シート!R157=\"\",\"\",貴校データ入力シート!R157)","v":""},{"$f":"IF(貴校データ入力シート!S157=\"\",\"\",貴校データ入力シート!S157)","v":""},{"$f":"IF(貴校データ入力シート!T157=\"\",\"\",貴校データ入力シート!T157)","v":""},{"$f":"IF(貴校データ入力シート!U157=\"\",\"\",貴校データ入力シート!U157)","v":""},{"$f":"IF(貴校データ入力シート!V157=\"\",\"\",貴校データ入力シート!V157)","v":""},{"$f":"IF(貴校データ入力シート!W157=\"\",\"\",貴校データ入力シート!W157)","v":""},{"$f":"IF(貴校データ入力シート!X157=\"\",\"\",貴校データ入力シート!X157)","v":""},{"$f":"IF(貴校データ入力シート!Y157=\"\",\"\",貴校データ入力シート!Y157)","v":""},{"$f":"IF(貴校データ入力シート!Z157=\"\",\"\",貴校データ入力シート!Z157)","v":""},{"$f":"IF(貴校データ入力シート!AA157=\"\",\"\",貴校データ入力シート!AA157)","v":""},{"$f":"IF(貴校データ入力シート!AB157=\"\",\"\",貴校データ入力シート!AB157)","v":""},null,{"$f":"SUM(K154:L154)","v":0}]
[null,null,null,null,null,null,null,null,null,null,{"$f":"IF(貴校データ入力シート!G158=\"\",\"\",貴校データ入力シート!G158)","v":""},{"$f":"IF(貴校データ入力シート!H158=\"\",\"\",貴校データ入力シート!H158)","v":""},{"$f":"IF(貴校データ入力シート!I158=\"\",\"\",貴校データ入力シート!I158)","v":""},{"$f":"IF(貴校データ入力シート!J158=\"\",\"\",貴校データ入力シート!J158)","v":""},{"$f":"IF(貴校データ入力シート!K158=\"\",\"\",貴校データ入力シート!K158)","v":""},{"$f":"IF(貴校データ入力シート!L158=\"\",\"\",貴校データ入力シート!L158)","v":""},{"$f":"IF(貴校データ入力シート!M158=\"\",\"\",貴校データ入力シート!M158)","v":""},{"$f":"IF(貴校データ入力シート!N158=\"\",\"\",貴校データ入力シート!N158)","v":""},{"$f":"IF(貴校データ入力シート!O158=\"\",\"\",貴校データ入力シート!O158)","v":""},{"$f":"IF(貴校データ入力シート!P158=\"\",\"\",貴校データ入力シート!P158)","v":""},{"$f":"IF(貴校データ入力シート!Q158=\"\",\"\",貴校データ入力シート!Q158)","v":""},{"$f":"IF(貴校データ入力シート!R158=\"\",\"\",貴校データ入力シート!R158)","v":""},{"$f":"IF(貴校データ入力シート!S158=\"\",\"\",貴校データ入力シート!S158)","v":""},{"$f":"IF(貴校データ入力シート!T158=\"\",\"\",貴校データ入力シート!T158)","v":""},{"$f":"IF(貴校データ入力シート!U158=\"\",\"\",貴校データ入力シート!U158)","v":""},{"$f":"IF(貴校データ入力シート!V158=\"\",\"\",貴校データ入力シート!V158)","v":""},{"$f":"IF(貴校データ入力シート!W158=\"\",\"\",貴校データ入力シート!W158)","v":""},{"$f":"IF(貴校データ入力シート!X158=\"\",\"\",貴校データ入力シート!X158)","v":""},{"$f":"IF(貴校データ入力シート!Y158=\"\",\"\",貴校データ入力シート!Y158)","v":""},{"$f":"IF(貴校データ入力シート!Z158=\"\",\"\",貴校データ入力シート!Z158)","v":""},{"$f":"IF(貴校データ入力シート!AA158=\"\",\"\",貴校データ入力シート!AA158)","v":""},{"$f":"IF(貴校データ入力シート!AB158=\"\",\"\",貴校データ入力シート!AB158)","v":""},null,null,{"$f":"SUM(K155:L155)","v":0}]
[62,"（４０）",{"$f":"IF(貴校データ入力シート!C159=\"\",\"\",貴校データ入力シート!C159)","v":"５年生までに受けた授業では、各教科などで学んだことを生かしながら、自分の考えをまとめる活動を行っていましたか"},null,null,null,null,null,null,null,{"$f":"IF(貴校データ入力シート!G159=\"\",\"\",貴校データ入力シート!G159)","v":""},{"$f":"IF(貴校データ入力シート!H159=\"\",\"\",貴校データ入力シート!H159)","v":""},{"$f":"IF(貴校データ入力シート!I159=\"\",\"\",貴校データ入力シート!I159)","v":""},{"$f":"IF(貴校データ入力シート!J159=\"\",\"\",貴校データ入力シート!J159)","v":""},{"$f":"IF(貴校データ入力シート!K159=\"\",\"\",貴校データ入力シート!K159)","v":""},{"$f":"IF(貴校データ入力シート!L159=\"\",\"\",貴校データ入力シート!L159)","v":""},{"$f":"IF(貴校データ入力シート!M159=\"\",\"\",貴校データ入力シート!M159)","v":""},{"$f":"IF(貴校データ入力シート!N159=\"\",\"\",貴校データ入力シート!N159)","v":""},{"$f":"IF(貴校データ入力シート!O159=\"\",\"\",貴校データ入力シート!O159)","v":""},{"$f":"IF(貴校データ入力シート!P159=\"\",\"\",貴校データ入力シート!P159)","v":""},{"$f":"IF(貴校データ入力シート!Q159=\"\",\"\",貴校データ入力シート!Q159)","v":""},{"$f":"IF(貴校データ入力シート!R159=\"\",\"\",貴校データ入力シート!R159)","v":""},{"$f":"IF(貴校データ入力シート!S159=\"\",\"\",貴校データ入力シート!S159)","v":""},{"$f":"IF(貴校データ入力シート!T159=\"\",\"\",貴校データ入力シート!T159)","v":""},{"$f":"IF(貴校データ入力シート!U159=\"\",\"\",貴校データ入力シート!U159)","v":""},{"$f":"IF(貴校データ入力シート!V159=\"\",\"\",貴校データ入力シート!V159)","v":""},{"$f":"IF(貴校データ入力シート!W159=\"\",\"\",貴校データ入力シート!W159)","v":""},{"$f":"IF(貴校データ入力シート!X159=\"\",\"\",貴校データ入力シート!X159)","v":""},{"$f":"IF(貴校データ入力シート!Y159=\"\",\"\",貴校データ入力シート!Y159)","v":""},{"$f":"IF(貴校データ入力シート!Z159=\"\",\"\",貴校データ入力シート!Z159)","v":""},{"$f":"IF(貴校データ入力シート!AA159=\"\",\"\",貴校データ入力シート!AA159)","v":""},{"$f":"IF(貴校データ入力シート!AB159=\"\",\"\",貴校データ入力シート!AB159)","v":""},null,null,null,{"$f":"AG157","v":0},{"$f":"AH158","v":0},{"$f":"AI159","v":0}]
[null,null,null,null,null,null,null,null,null,null,{"$f":"IF(貴校データ入力シート!G160=\"\",\"\",貴校データ入力シート!G160)","v":""},{"$f":"IF(貴校データ入力シート!H160=\"\",\"\",貴校データ入力シート!H160)","v":""},{"$f":"IF(貴校データ入力シート!I160=\"\",\"\",貴校データ入力シート!I160)","v":""},{"$f":"IF(貴校データ入力シート!J160=\"\",\"\",貴校データ入力シート!J160)","v":""},{"$f":"IF(貴校データ入力シート!K160=\"\",\"\",貴校データ入力シート!K160)","v":""},{"$f":"IF(貴校データ入力シート!L160=\"\",\"\",貴校データ入力シート!L160)","v":""},{"$f":"IF(貴校データ入力シート!M160=\"\",\"\",貴校データ入力シート!M160)","v":""},{"$f":"IF(貴校データ入力シート!N160=\"\",\"\",貴校データ入力シート!N160)","v":""},{"$f":"IF(貴校データ入力シート!O160=\"\",\"\",貴校データ入力シート!O160)","v":""},{"$f":"IF(貴校データ入力シート!P160=\"\",\"\",貴校データ入力シート!P160)","v":""},{"$f":"IF(貴校データ入力シート!Q160=\"\",\"\",貴校データ入力シート!Q160)","v":""},{"$f":"IF(貴校データ入力シート!R160=\"\",\"\",貴校データ入力シート!R160)","v":""},{"$f":"IF(貴校データ入力シート!S160=\"\",\"\",貴校データ入力シート!S160)","v":""},{"$f":"IF(貴校データ入力シート!T160=\"\",\"\",貴校データ入力シート!T160)","v":""},{"$f":"IF(貴校データ入力シート!U160=\"\",\"\",貴校データ入力シート!U160)","v":""},{"$f":"IF(貴校データ入力シート!V160=\"\",\"\",貴校データ入力シート!V160)","v":""},{"$f":"IF(貴校データ入力シート!W160=\"\",\"\",貴校データ入力シート!W160)","v":""},{"$f":"IF(貴校データ入力シート!X160=\"\",\"\",貴校データ入力シート!X160)","v":""},{"$f":"IF(貴校データ入力シート!Y160=\"\",\"\",貴校データ入力シート!Y160)","v":""},{"$f":"IF(貴校データ入力シート!Z160=\"\",\"\",貴校データ入力シート!Z160)","v":""},{"$f":"IF(貴校データ入力シート!AA160=\"\",\"\",貴校データ入力シート!AA160)","v":""},{"$f":"IF(貴校データ入力シート!AB160=\"\",\"\",貴校データ入力シート!AB160)","v":""},{"$f":"SUM(K157:L157)","v":0}]
[null,null,null,null,null,null,null,null,null,null,{"$f":"IF(貴校データ入力シート!G161=\"\",\"\",貴校データ入力シート!G161)","v":""},{"$f":"IF(貴校データ入力シート!H161=\"\",\"\",貴校データ入力シート!H161)","v":""},{"$f":"IF(貴校データ入力シート!I161=\"\",\"\",貴校データ入力シート!I161)","v":""},{"$f":"IF(貴校データ入力シート!J161=\"\",\"\",貴校データ入力シート!J161)","v":""},{"$f":"IF(貴校データ入力シート!K161=\"\",\"\",貴校データ入力シート!K161)","v":""},{"$f":"IF(貴校データ入力シート!L161=\"\",\"\",貴校データ入力シート!L161)","v":""},{"$f":"IF(貴校データ入力シート!M161=\"\",\"\",貴校データ入力シート!M161)","v":""},{"$f":"IF(貴校データ入力シート!N161=\"\",\"\",貴校データ入力シート!N161)","v":""},{"$f":"IF(貴校データ入力シート!O161=\"\",\"\",貴校データ入力シート!O161)","v":""},{"$f":"IF(貴校データ入力シート!P161=\"\",\"\",貴校データ入力シート!P161)","v":""},{"$f":"IF(貴校データ入力シート!Q161=\"\",\"\",貴校データ入力シート!Q161)","v":""},{"$f":"IF(貴校データ入力シート!R161=\"\",\"\",貴校データ入力シート!R161)","v":""},{"$f":"IF(貴校データ入力シート!S161=\"\",\"\",貴校データ入力シート!S161)","v":""},{"$f":"IF(貴校データ入力シート!T161=\"\",\"\",貴校データ入力シート!T161)","v":""},{"$f":"IF(貴校データ入力シート!U161=\"\",\"\",貴校データ入力シート!U161)","v":""},{"$f":"IF(貴校データ入力シート!V161=\"\",\"\",貴校データ入力シート!V161)","v":""},{"$f":"IF(貴校データ入力シート!W161=\"\",\"\",貴校データ入力シート!W161)","v":""},{"$f":"IF(貴校データ入力シート!X161=\"\",\"\",貴校データ入力シート!X161)","v":""},{"$f":"IF(貴校データ入力シート!Y161=\"\",\"\",貴校データ入力シート!Y161)","v":""},{"$f":"IF(貴校データ入力シート!Z161=\"\",\"\",貴校データ入力シート!Z161)","v":""},{"$f":"IF(貴校データ入力シート!AA161=\"\",\"\",貴校データ入力シート!AA161)","v":""},{"$f":"IF(貴校データ入力シート!AB161=\"\",\"\",貴校データ入力シート!AB161)","v":""},null,{"$f":"SUM(K158:L158)","v":0}]
[null,null,null,null,null,null,null,null,null,null,{"$f":"IF(貴校データ入力シート!G162=\"\",\"\",貴校データ入力シート!G162)","v":""},{"$f":"IF(貴校データ入力シート!H162=\"\",\"\",貴校データ入力シート!H162)","v":""},{"$f":"IF(貴校データ入力シート!I162=\"\",\"\",貴校データ入力シート!I162)","v":""},{"$f":"IF(貴校データ入力シート!J162=\"\",\"\",貴校データ入力シート!J162)","v":""},{"$f":"IF(貴校データ入力シート!K162=\"\",\"\",貴校データ入力シート!K162)","v":""},{"$f":"IF(貴校データ入力シート!L162=\"\",\"\",貴校データ入力シート!L162)","v":""},{"$f":"IF(貴校データ入力シート!M162=\"\",\"\",貴校データ入力シート!M162)","v":""},{"$f":"IF(貴校データ入力シート!N162=\"\",\"\",貴校データ入力シート!N162)","v":""},{"$f":"IF(貴校データ入力シート!O162=\"\",\"\",貴校データ入力シート!O162)","v":""},{"$f":"IF(貴校データ入力シート!P162=\"\",\"\",貴校データ入力シート!P162)","v":""},{"$f":"IF(貴校データ入力シート!Q162=\"\",\"\",貴校データ入力シート!Q162)","v":""},{"$f":"IF(貴校データ入力シート!R162=\"\",\"\",貴校データ入力シート!R162)","v":""},{"$f":"IF(貴校データ入力シート!S162=\"\",\"\",貴校データ入力シート!S162)","v":""},{"$f":"IF(貴校データ入力シート!T162=\"\",\"\",貴校データ入力シート!T162)","v":""},{"$f":"IF(貴校データ入力シート!U162=\"\",\"\",貴校データ入力シート!U162)","v":""},{"$f":"IF(貴校データ入力シート!V162=\"\",\"\",貴校データ入力シート!V162)","v":""},{"$f":"IF(貴校データ入力シート!W162=\"\",\"\",貴校データ入力シート!W162)","v":""},{"$f":"IF(貴校データ入力シート!X162=\"\",\"\",貴校データ入力シート!X162)","v":""},{"$f":"IF(貴校データ入力シート!Y162=\"\",\"\",貴校データ入力シート!Y162)","v":""},{"$f":"IF(貴校データ入力シート!Z162=\"\",\"\",貴校データ入力シート!Z162)","v":""},{"$f":"IF(貴校データ入力シート!AA162=\"\",\"\",貴校データ入力シート!AA162)","v":""},{"$f":"IF(貴校データ入力シート!AB162=\"\",\"\",貴校データ入力シート!AB162)","v":""},null,null,{"$f":"SUM(K159:L159)","v":0}]
[63,"（４１）",{"$f":"IF(貴校データ入力シート!C163=\"\",\"\",貴校データ入力シート!C163)","v":"５年生までに受けた授業は、自分にあった教え方、教材、学習時間などになっていましたか"},null,null,null,null,null,null,null,{"$f":"IF(貴校データ入力シート!G163=\"\",\"\",貴校データ入力シート!G163)","v":""},{"$f":"IF(貴校データ入力シート!H163=\"\",\"\",貴校データ入力シート!H163)","v":""},{"$f":"IF(貴校データ入力シート!I163=\"\",\"\",貴校データ入力シート!I163)","v":""},{"$f":"IF(貴校データ入力シート!J163=\"\",\"\",貴校データ入力シート!J163)","v":""},{"$f":"IF(貴校データ入力シート!K163=\"\",\"\",貴校データ入力シート!K163)","v":""},{"$f":"IF(貴校データ入力シート!L163=\"\",\"\",貴校データ入力シート!L163)","v":""},{"$f":"IF(貴校データ入力シート!M163=\"\",\"\",貴校データ入力シート!M163)","v":""},{"$f":"IF(貴校データ入力シート!N163=\"\",\"\",貴校データ入力シート!N163)","v":""},{"$f":"IF(貴校データ入力シート!O163=\"\",\"\",貴校データ入力シート!O163)","v":""},{"$f":"IF(貴校データ入力シート!P163=\"\",\"\",貴校データ入力シート!P163)","v":""},{"$f":"IF(貴校データ入力シート!Q163=\"\",\"\",貴校データ入力シート!Q163)","v":""},{"$f":"IF(貴校データ入力シート!R163=\"\",\"\",貴校データ入力シート!R163)","v":""},{"$f":"IF(貴校データ入力シート!S163=\"\",\"\",貴校データ入力シート!S163)","v":""},{"$f":"IF(貴校データ入力シート!T163=\"\",\"\",貴校データ入力シート!T163)","v":""},{"$f":"IF(貴校データ入力シート!U163=\"\",\"\",貴校データ入力シート!U163)","v":""},{"$f":"IF(貴校データ入力シート!V163=\"\",\"\",貴校データ入力シート!V163)","v":""},{"$f":"IF(貴校データ入力シート!W163=\"\",\"\",貴校データ入力シート!W163)","v":""},{"$f":"IF(貴校データ入力シート!X163=\"\",\"\",貴校データ入力シート!X163)","v":""},{"$f":"IF(貴校データ入力シート!Y163=\"\",\"\",貴校データ入力シート!Y163)","v":""},{"$f":"IF(貴校データ入力シート!Z163=\"\",\"\",貴校データ入力シート!Z163)","v":""},{"$f":"IF(貴校データ入力シート!AA163=\"\",\"\",貴校データ入力シート!AA163)","v":""},{"$f":"IF(貴校データ入力シート!AB163=\"\",\"\",貴校データ入力シート!AB163)","v":""},null,null,null,{"$f":"AG161","v":0},{"$f":"AH162","v":0},{"$f":"AI163","v":0}]
[null,null,null,null,null,null,null,null,null,null,{"$f":"IF(貴校データ入力シート!G164=\"\",\"\",貴校データ入力シート!G164)","v":""},{"$f":"IF(貴校データ入力シート!H164=\"\",\"\",貴校データ入力シート!H164)","v":""},{"$f":"IF(貴校データ入力シート!I164=\"\",\"\",貴校データ入力シート!I164)","v":""},{"$f":"IF(貴校データ入力シート!J164=\"\",\"\",貴校データ入力シート!J164)","v":""},{"$f":"IF(貴校データ入力シート!K164=\"\",\"\",貴校データ入力シート!K164)","v":""},{"$f":"IF(貴校データ入力シート!L164=\"\",\"\",貴校データ入力シート!L164)","v":""},{"$f":"IF(貴校データ入力シート!M164=\"\",\"\",貴校データ入力シート!M164)","v":""},{"$f":"IF(貴校データ入力シート!N164=\"\",\"\",貴校データ入力シート!N164)","v":""},{"$f":"IF(貴校データ入力シート!O164=\"\",\"\",貴校データ入力シート!O164)","v":""},{"$f":"IF(貴校データ入力シート!P164=\"\",\"\",貴校データ入力シート!P164)","v":""},{"$f":"IF(貴校データ入力シート!Q164=\"\",\"\",貴校データ入力シート!Q164)","v":""},{"$f":"IF(貴校データ入力シート!R164=\"\",\"\",貴校データ入力シート!R164)","v":""},{"$f":"IF(貴校データ入力シート!S164=\"\",\"\",貴校データ入力シート!S164)","v":""},{"$f":"IF(貴校データ入力シート!T164=\"\",\"\",貴校データ入力シート!T164)","v":""},{"$f":"IF(貴校データ入力シート!U164=\"\",\"\",貴校データ入力シート!U164)","v":""},{"$f":"IF(貴校データ入力シート!V164=\"\",\"\",貴校データ入力シート!V164)","v":""},{"$f":"IF(貴校データ入力シート!W164=\"\",\"\",貴校データ入力シート!W164)","v":""},{"$f":"IF(貴校データ入力シート!X164=\"\",\"\",貴校データ入力シート!X164)","v":""},{"$f":"IF(貴校データ入力シート!Y164=\"\",\"\",貴校データ入力シート!Y164)","v":""},{"$f":"IF(貴校データ入力シート!Z164=\"\",\"\",貴校データ入力シート!Z164)","v":""},{"$f":"IF(貴校データ入力シート!AA164=\"\",\"\",貴校データ入力シート!AA164)","v":""},{"$f":"IF(貴校データ入力シート!AB164=\"\",\"\",貴校データ入力シート!AB164)","v":""},{"$f":"SUM(K161:L161)","v":0}]
[null,null,null,null,null,null,null,null,null,null,{"$f":"IF(貴校データ入力シート!G165=\"\",\"\",貴校データ入力シート!G165)","v":""},{"$f":"IF(貴校データ入力シート!H165=\"\",\"\",貴校データ入力シート!H165)","v":""},{"$f":"IF(貴校データ入力シート!I165=\"\",\"\",貴校データ入力シート!I165)","v":""},{"$f":"IF(貴校データ入力シート!J165=\"\",\"\",貴校データ入力シート!J165)","v":""},{"$f":"IF(貴校データ入力シート!K165=\"\",\"\",貴校データ入力シート!K165)","v":""},{"$f":"IF(貴校データ入力シート!L165=\"\",\"\",貴校データ入力シート!L165)","v":""},{"$f":"IF(貴校データ入力シート!M165=\"\",\"\",貴校データ入力シート!M165)","v":""},{"$f":"IF(貴校データ入力シート!N165=\"\",\"\",貴校データ入力シート!N165)","v":""},{"$f":"IF(貴校データ入力シート!O165=\"\",\"\",貴校データ入力シート!O165)","v":""},{"$f":"IF(貴校データ入力シート!P165=\"\",\"\",貴校データ入力シート!P165)","v":""},{"$f":"IF(貴校データ入力シート!Q165=\"\",\"\",貴校データ入力シート!Q165)","v":""},{"$f":"IF(貴校データ入力シート!R165=\"\",\"\",貴校データ入力シート!R165)","v":""},{"$f":"IF(貴校データ入力シート!S165=\"\",\"\",貴校データ入力シート!S165)","v":""},{"$f":"IF(貴校データ入力シート!T165=\"\",\"\",貴校データ入力シート!T165)","v":""},{"$f":"IF(貴校データ入力シート!U165=\"\",\"\",貴校データ入力シート!U165)","v":""},{"$f":"IF(貴校データ入力シート!V165=\"\",\"\",貴校データ入力シート!V165)","v":""},{"$f":"IF(貴校データ入力シート!W165=\"\",\"\",貴校データ入力シート!W165)","v":""},{"$f":"IF(貴校データ入力シート!X165=\"\",\"\",貴校データ入力シート!X165)","v":""},{"$f":"IF(貴校データ入力シート!Y165=\"\",\"\",貴校データ入力シート!Y165)","v":""},{"$f":"IF(貴校データ入力シート!Z165=\"\",\"\",貴校データ入力シート!Z165)","v":""},{"$f":"IF(貴校データ入力シート!AA165=\"\",\"\",貴校データ入力シート!AA165)","v":""},{"$f":"IF(貴校データ入力シート!AB165=\"\",\"\",貴校データ入力シート!AB165)","v":""},null,{"$f":"SUM(K162:L162)","v":0}]
[null,null,null,null,null,null,null,null,null,null,{"$f":"IF(貴校データ入力シート!G166=\"\",\"\",貴校データ入力シート!G166)","v":""},{"$f":"IF(貴校データ入力シート!H166=\"\",\"\",貴校データ入力シート!H166)","v":""},{"$f":"IF(貴校データ入力シート!I166=\"\",\"\",貴校データ入力シート!I166)","v":""},{"$f":"IF(貴校データ入力シート!J166=\"\",\"\",貴校データ入力シート!J166)","v":""},{"$f":"IF(貴校データ入力シート!K166=\"\",\"\",貴校データ入力シート!K166)","v":""},{"$f":"IF(貴校データ入力シート!L166=\"\",\"\",貴校データ入力シート!L166)","v":""},{"$f":"IF(貴校データ入力シート!M166=\"\",\"\",貴校データ入力シート!M166)","v":""},{"$f":"IF(貴校データ入力シート!N166=\"\",\"\",貴校データ入力シート!N166)","v":""},{"$f":"IF(貴校データ入力シート!O166=\"\",\"\",貴校データ入力シート!O166)","v":""},{"$f":"IF(貴校データ入力シート!P166=\"\",\"\",貴校データ入力シート!P166)","v":""},{"$f":"IF(貴校データ入力シート!Q166=\"\",\"\",貴校データ入力シート!Q166)","v":""},{"$f":"IF(貴校データ入力シート!R166=\"\",\"\",貴校データ入力シート!R166)","v":""},{"$f":"IF(貴校データ入力シート!S166=\"\",\"\",貴校データ入力シート!S166)","v":""},{"$f":"IF(貴校データ入力シート!T166=\"\",\"\",貴校データ入力シート!T166)","v":""},{"$f":"IF(貴校データ入力シート!U166=\"\",\"\",貴校データ入力シート!U166)","v":""},{"$f":"IF(貴校データ入力シート!V166=\"\",\"\",貴校データ入力シート!V166)","v":""},{"$f":"IF(貴校データ入力シート!W166=\"\",\"\",貴校データ入力シート!W166)","v":""},{"$f":"IF(貴校データ入力シート!X166=\"\",\"\",貴校データ入力シート!X166)","v":""},{"$f":"IF(貴校データ入力シート!Y166=\"\",\"\",貴校データ入力シート!Y166)","v":""},{"$f":"IF(貴校データ入力シート!Z166=\"\",\"\",貴校データ入力シート!Z166)","v":""},{"$f":"IF(貴校データ入力シート!AA166=\"\",\"\",貴校データ入力シート!AA166)","v":""},{"$f":"IF(貴校データ入力シート!AB166=\"\",\"\",貴校データ入力シート!AB166)","v":""},null,null,{"$f":"SUM(K163:L163)","v":0}]
[64,"（４２）",{"$f":"IF(貴校データ入力シート!C167=\"\",\"\",貴校データ入力シート!C167)","v":"学級の友達との間で話し合う活動を通じて、自分の考えを深めたり、新たな考え方に気付いたりすることができていますか"},null,null,null,null,null,null,null,{"$f":"IF(貴校データ入力シート!G167=\"\",\"\",貴校データ入力シート!G167)","v":""},{"$f":"IF(貴校データ入力シート!H167=\"\",\"\",貴校データ入力シート!H167)","v":""},{"$f":"IF(貴校データ入力シート!I167=\"\",\"\",貴校データ入力シート!I167)","v":""},{"$f":"IF(貴校データ入力シート!J167=\"\",\"\",貴校データ入力シート!J167)","v":""},{"$f":"IF(貴校データ入力シート!K167=\"\",\"\",貴校データ入力シート!K167)","v":""},{"$f":"IF(貴校データ入力シート!L167=\"\",\"\",貴校データ入力シート!L167)","v":""},{"$f":"IF(貴校データ入力シート!M167=\"\",\"\",貴校データ入力シート!M167)","v":""},{"$f":"IF(貴校データ入力シート!N167=\"\",\"\",貴校データ入力シート!N167)","v":""},{"$f":"IF(貴校データ入力シート!O167=\"\",\"\",貴校データ入力シート!O167)","v":""},{"$f":"IF(貴校データ入力シート!P167=\"\",\"\",貴校データ入力シート!P167)","v":""},{"$f":"IF(貴校データ入力シート!Q167=\"\",\"\",貴校データ入力シート!Q167)","v":""},{"$f":"IF(貴校データ入力シート!R167=\"\",\"\",貴校データ入力シート!R167)","v":""},{"$f":"IF(貴校データ入力シート!S167=\"\",\"\",貴校データ入力シート!S167)","v":""},{"$f":"IF(貴校データ入力シート!T167=\"\",\"\",貴校データ入力シート!T167)","v":""},{"$f":"IF(貴校データ入力シート!U167=\"\",\"\",貴校データ入力シート!U167)","v":""},{"$f":"IF(貴校データ入力シート!V167=\"\",\"\",貴校データ入力シート!V167)","v":""},{"$f":"IF(貴校データ入力シート!W167=\"\",\"\",貴校データ入力シート!W167)","v":""},{"$f":"IF(貴校データ入力シート!X167=\"\",\"\",貴校データ入力シート!X167)","v":""},{"$f":"IF(貴校データ入力シート!Y167=\"\",\"\",貴校データ入力シート!Y167)","v":""},{"$f":"IF(貴校データ入力シート!Z167=\"\",\"\",貴校データ入力シート!Z167)","v":""},{"$f":"IF(貴校データ入力シート!AA167=\"\",\"\",貴校データ入力シート!AA167)","v":""},{"$f":"IF(貴校データ入力シート!AB167=\"\",\"\",貴校データ入力シート!AB167)","v":""},null,null,null,{"$f":"AG165","v":0},{"$f":"AH166","v":0},{"$f":"AI167","v":0},1]
[null,null,null,null,null,null,null,null,null,null,{"$f":"IF(貴校データ入力シート!G168=\"\",\"\",貴校データ入力シート!G168)","v":""},{"$f":"IF(貴校データ入力シート!H168=\"\",\"\",貴校データ入力シート!H168)","v":""},{"$f":"IF(貴校データ入力シート!I168=\"\",\"\",貴校データ入力シート!I168)","v":""},{"$f":"IF(貴校データ入力シート!J168=\"\",\"\",貴校データ入力シート!J168)","v":""},{"$f":"IF(貴校データ入力シート!K168=\"\",\"\",貴校データ入力シート!K168)","v":""},{"$f":"IF(貴校データ入力シート!L168=\"\",\"\",貴校データ入力シート!L168)","v":""},{"$f":"IF(貴校データ入力シート!M168=\"\",\"\",貴校データ入力シート!M168)","v":""},{"$f":"IF(貴校データ入力シート!N168=\"\",\"\",貴校データ入力シート!N168)","v":""},{"$f":"IF(貴校データ入力シート!O168=\"\",\"\",貴校データ入力シート!O168)","v":""},{"$f":"IF(貴校データ入力シート!P168=\"\",\"\",貴校データ入力シート!P168)","v":""},{"$f":"IF(貴校データ入力シート!Q168=\"\",\"\",貴校データ入力シート!Q168)","v":""},{"$f":"IF(貴校データ入力シート!R168=\"\",\"\",貴校データ入力シート!R168)","v":""},{"$f":"IF(貴校データ入力シート!S168=\"\",\"\",貴校データ入力シート!S168)","v":""},{"$f":"IF(貴校データ入力シート!T168=\"\",\"\",貴校データ入力シート!T168)","v":""},{"$f":"IF(貴校データ入力シート!U168=\"\",\"\",貴校データ入力シート!U168)","v":""},{"$f":"IF(貴校データ入力シート!V168=\"\",\"\",貴校データ入力シート!V168)","v":""},{"$f":"IF(貴校データ入力シート!W168=\"\",\"\",貴校データ入力シート!W168)","v":""},{"$f":"IF(貴校データ入力シート!X168=\"\",\"\",貴校データ入力シート!X168)","v":""},{"$f":"IF(貴校データ入力シート!Y168=\"\",\"\",貴校データ入力シート!Y168)","v":""},{"$f":"IF(貴校データ入力シート!Z168=\"\",\"\",貴校データ入力シート!Z168)","v":""},{"$f":"IF(貴校データ入力シート!AA168=\"\",\"\",貴校データ入力シート!AA168)","v":""},{"$f":"IF(貴校データ入力シート!AB168=\"\",\"\",貴校データ入力シート!AB168)","v":""},{"$f":"SUM(K165:L165)","v":0}]
[null,null,null,null,null,null,null,null,null,null,{"$f":"IF(貴校データ入力シート!G169=\"\",\"\",貴校データ入力シート!G169)","v":""},{"$f":"IF(貴校データ入力シート!H169=\"\",\"\",貴校データ入力シート!H169)","v":""},{"$f":"IF(貴校データ入力シート!I169=\"\",\"\",貴校データ入力シート!I169)","v":""},{"$f":"IF(貴校データ入力シート!J169=\"\",\"\",貴校データ入力シート!J169)","v":""},{"$f":"IF(貴校データ入力シート!K169=\"\",\"\",貴校データ入力シート!K169)","v":""},{"$f":"IF(貴校データ入力シート!L169=\"\",\"\",貴校データ入力シート!L169)","v":""},{"$f":"IF(貴校データ入力シート!M169=\"\",\"\",貴校データ入力シート!M169)","v":""},{"$f":"IF(貴校データ入力シート!N169=\"\",\"\",貴校データ入力シート!N169)","v":""},{"$f":"IF(貴校データ入力シート!O169=\"\",\"\",貴校データ入力シート!O169)","v":""},{"$f":"IF(貴校データ入力シート!P169=\"\",\"\",貴校データ入力シート!P169)","v":""},{"$f":"IF(貴校データ入力シート!Q169=\"\",\"\",貴校データ入力シート!Q169)","v":""},{"$f":"IF(貴校データ入力シート!R169=\"\",\"\",貴校データ入力シート!R169)","v":""},{"$f":"IF(貴校データ入力シート!S169=\"\",\"\",貴校データ入力シート!S169)","v":""},{"$f":"IF(貴校データ入力シート!T169=\"\",\"\",貴校データ入力シート!T169)","v":""},{"$f":"IF(貴校データ入力シート!U169=\"\",\"\",貴校データ入力シート!U169)","v":""},{"$f":"IF(貴校データ入力シート!V169=\"\",\"\",貴校データ入力シート!V169)","v":""},{"$f":"IF(貴校データ入力シート!W169=\"\",\"\",貴校データ入力シート!W169)","v":""},{"$f":"IF(貴校データ入力シート!X169=\"\",\"\",貴校データ入力シート!X169)","v":""},{"$f":"IF(貴校データ入力シート!Y169=\"\",\"\",貴校データ入力シート!Y169)","v":""},{"$f":"IF(貴校データ入力シート!Z169=\"\",\"\",貴校データ入力シート!Z169)","v":""},{"$f":"IF(貴校データ入力シート!AA169=\"\",\"\",貴校データ入力シート!AA169)","v":""},{"$f":"IF(貴校データ入力シート!AB169=\"\",\"\",貴校データ入力シート!AB169)","v":""},null,{"$f":"SUM(K166:L166)","v":0}]
[null,null,null,null,null,null,null,null,null,null,{"$f":"IF(貴校データ入力シート!G170=\"\",\"\",貴校データ入力シート!G170)","v":""},{"$f":"IF(貴校データ入力シート!H170=\"\",\"\",貴校データ入力シート!H170)","v":""},{"$f":"IF(貴校データ入力シート!I170=\"\",\"\",貴校データ入力シート!I170)","v":""},{"$f":"IF(貴校データ入力シート!J170=\"\",\"\",貴校データ入力シート!J170)","v":""},{"$f":"IF(貴校データ入力シート!K170=\"\",\"\",貴校データ入力シート!K170)","v":""},{"$f":"IF(貴校データ入力シート!L170=\"\",\"\",貴校データ入力シート!L170)","v":""},{"$f":"IF(貴校データ入力シート!M170=\"\",\"\",貴校データ入力シート!M170)","v":""},{"$f":"IF(貴校データ入力シート!N170=\"\",\"\",貴校データ入力シート!N170)","v":""},{"$f":"IF(貴校データ入力シート!O170=\"\",\"\",貴校データ入力シート!O170)","v":""},{"$f":"IF(貴校データ入力シート!P170=\"\",\"\",貴校データ入力シート!P170)","v":""},{"$f":"IF(貴校データ入力シート!Q170=\"\",\"\",貴校データ入力シート!Q170)","v":""},{"$f":"IF(貴校データ入力シート!R170=\"\",\"\",貴校データ入力シート!R170)","v":""},{"$f":"IF(貴校データ入力シート!S170=\"\",\"\",貴校データ入力シート!S170)","v":""},{"$f":"IF(貴校データ入力シート!T170=\"\",\"\",貴校データ入力シート!T170)","v":""},{"$f":"IF(貴校データ入力シート!U170=\"\",\"\",貴校データ入力シート!U170)","v":""},{"$f":"IF(貴校データ入力シート!V170=\"\",\"\",貴校データ入力シート!V170)","v":""},{"$f":"IF(貴校データ入力シート!W170=\"\",\"\",貴校データ入力シート!W170)","v":""},{"$f":"IF(貴校データ入力シート!X170=\"\",\"\",貴校データ入力シート!X170)","v":""},{"$f":"IF(貴校データ入力シート!Y170=\"\",\"\",貴校データ入力シート!Y170)","v":""},{"$f":"IF(貴校データ入力シート!Z170=\"\",\"\",貴校データ入力シート!Z170)","v":""},{"$f":"IF(貴校データ入力シート!AA170=\"\",\"\",貴校データ入力シート!AA170)","v":""},{"$f":"IF(貴校データ入力シート!AB170=\"\",\"\",貴校データ入力シート!AB170)","v":""},null,null,{"$f":"SUM(K167:L167)","v":0}]
[65,"（４３）",{"$f":"IF(貴校データ入力シート!C171=\"\",\"\",貴校データ入力シート!C171)","v":"学習した内容について、分かった点や、よく分からなかった点を見直し、次の学習につなげることができていますか"},null,null,null,null,null,null,null,{"$f":"IF(貴校データ入力シート!G171=\"\",\"\",貴校データ入力シート!G171)","v":""},{"$f":"IF(貴校データ入力シート!H171=\"\",\"\",貴校データ入力シート!H171)","v":""},{"$f":"IF(貴校データ入力シート!I171=\"\",\"\",貴校データ入力シート!I171)","v":""},{"$f":"IF(貴校データ入力シート!J171=\"\",\"\",貴校データ入力シート!J171)","v":""},{"$f":"IF(貴校データ入力シート!K171=\"\",\"\",貴校データ入力シート!K171)","v":""},{"$f":"IF(貴校データ入力シート!L171=\"\",\"\",貴校データ入力シート!L171)","v":""},{"$f":"IF(貴校データ入力シート!M171=\"\",\"\",貴校データ入力シート!M171)","v":""},{"$f":"IF(貴校データ入力シート!N171=\"\",\"\",貴校データ入力シート!N171)","v":""},{"$f":"IF(貴校データ入力シート!O171=\"\",\"\",貴校データ入力シート!O171)","v":""},{"$f":"IF(貴校データ入力シート!P171=\"\",\"\",貴校データ入力シート!P171)","v":""},{"$f":"IF(貴校データ入力シート!Q171=\"\",\"\",貴校データ入力シート!Q171)","v":""},{"$f":"IF(貴校データ入力シート!R171=\"\",\"\",貴校データ入力シート!R171)","v":""},{"$f":"IF(貴校データ入力シート!S171=\"\",\"\",貴校データ入力シート!S171)","v":""},{"$f":"IF(貴校データ入力シート!T171=\"\",\"\",貴校データ入力シート!T171)","v":""},{"$f":"IF(貴校データ入力シート!U171=\"\",\"\",貴校データ入力シート!U171)","v":""},{"$f":"IF(貴校データ入力シート!V171=\"\",\"\",貴校データ入力シート!V171)","v":""},{"$f":"IF(貴校データ入力シート!W171=\"\",\"\",貴校データ入力シート!W171)","v":""},{"$f":"IF(貴校データ入力シート!X171=\"\",\"\",貴校データ入力シート!X171)","v":""},{"$f":"IF(貴校データ入力シート!Y171=\"\",\"\",貴校データ入力シート!Y171)","v":""},{"$f":"IF(貴校データ入力シート!Z171=\"\",\"\",貴校データ入力シート!Z171)","v":""},{"$f":"IF(貴校データ入力シート!AA171=\"\",\"\",貴校データ入力シート!AA171)","v":""},{"$f":"IF(貴校データ入力シート!AB171=\"\",\"\",貴校データ入力シート!AB171)","v":""},null,null,null,{"$f":"AG169","v":0},{"$f":"AH170","v":0},{"$f":"AI171","v":0}]
[null,null,null,null,null,null,null,null,null,null,{"$f":"IF(貴校データ入力シート!G172=\"\",\"\",貴校データ入力シート!G172)","v":""},{"$f":"IF(貴校データ入力シート!H172=\"\",\"\",貴校データ入力シート!H172)","v":""},{"$f":"IF(貴校データ入力シート!I172=\"\",\"\",貴校データ入力シート!I172)","v":""},{"$f":"IF(貴校データ入力シート!J172=\"\",\"\",貴校データ入力シート!J172)","v":""},{"$f":"IF(貴校データ入力シート!K172=\"\",\"\",貴校データ入力シート!K172)","v":""},{"$f":"IF(貴校データ入力シート!L172=\"\",\"\",貴校データ入力シート!L172)","v":""},{"$f":"IF(貴校データ入力シート!M172=\"\",\"\",貴校データ入力シート!M172)","v":""},{"$f":"IF(貴校データ入力シート!N172=\"\",\"\",貴校データ入力シート!N172)","v":""},{"$f":"IF(貴校データ入力シート!O172=\"\",\"\",貴校データ入力シート!O172)","v":""},{"$f":"IF(貴校データ入力シート!P172=\"\",\"\",貴校データ入力シート!P172)","v":""},{"$f":"IF(貴校データ入力シート!Q172=\"\",\"\",貴校データ入力シート!Q172)","v":""},{"$f":"IF(貴校データ入力シート!R172=\"\",\"\",貴校データ入力シート!R172)","v":""},{"$f":"IF(貴校データ入力シート!S172=\"\",\"\",貴校データ入力シート!S172)","v":""},{"$f":"IF(貴校データ入力シート!T172=\"\",\"\",貴校データ入力シート!T172)","v":""},{"$f":"IF(貴校データ入力シート!U172=\"\",\"\",貴校データ入力シート!U172)","v":""},{"$f":"IF(貴校データ入力シート!V172=\"\",\"\",貴校データ入力シート!V172)","v":""},{"$f":"IF(貴校データ入力シート!W172=\"\",\"\",貴校データ入力シート!W172)","v":""},{"$f":"IF(貴校データ入力シート!X172=\"\",\"\",貴校データ入力シート!X172)","v":""},{"$f":"IF(貴校データ入力シート!Y172=\"\",\"\",貴校データ入力シート!Y172)","v":""},{"$f":"IF(貴校データ入力シート!Z172=\"\",\"\",貴校データ入力シート!Z172)","v":""},{"$f":"IF(貴校データ入力シート!AA172=\"\",\"\",貴校データ入力シート!AA172)","v":""},{"$f":"IF(貴校データ入力シート!AB172=\"\",\"\",貴校データ入力シート!AB172)","v":""},{"$f":"SUM(K169:L169)","v":0}]
[null,null,null,null,null,null,null,null,null,null,{"$f":"IF(貴校データ入力シート!G173=\"\",\"\",貴校データ入力シート!G173)","v":""},{"$f":"IF(貴校データ入力シート!H173=\"\",\"\",貴校データ入力シート!H173)","v":""},{"$f":"IF(貴校データ入力シート!I173=\"\",\"\",貴校データ入力シート!I173)","v":""},{"$f":"IF(貴校データ入力シート!J173=\"\",\"\",貴校データ入力シート!J173)","v":""},{"$f":"IF(貴校データ入力シート!K173=\"\",\"\",貴校データ入力シート!K173)","v":""},{"$f":"IF(貴校データ入力シート!L173=\"\",\"\",貴校データ入力シート!L173)","v":""},{"$f":"IF(貴校データ入力シート!M173=\"\",\"\",貴校データ入力シート!M173)","v":""},{"$f":"IF(貴校データ入力シート!N173=\"\",\"\",貴校データ入力シート!N173)","v":""},{"$f":"IF(貴校データ入力シート!O173=\"\",\"\",貴校データ入力シート!O173)","v":""},{"$f":"IF(貴校データ入力シート!P173=\"\",\"\",貴校データ入力シート!P173)","v":""},{"$f":"IF(貴校データ入力シート!Q173=\"\",\"\",貴校データ入力シート!Q173)","v":""},{"$f":"IF(貴校データ入力シート!R173=\"\",\"\",貴校データ入力シート!R173)","v":""},{"$f":"IF(貴校データ入力シート!S173=\"\",\"\",貴校データ入力シート!S173)","v":""},{"$f":"IF(貴校データ入力シート!T173=\"\",\"\",貴校データ入力シート!T173)","v":""},{"$f":"IF(貴校データ入力シート!U173=\"\",\"\",貴校データ入力シート!U173)","v":""},{"$f":"IF(貴校データ入力シート!V173=\"\",\"\",貴校データ入力シート!V173)","v":""},{"$f":"IF(貴校データ入力シート!W173=\"\",\"\",貴校データ入力シート!W173)","v":""},{"$f":"IF(貴校データ入力シート!X173=\"\",\"\",貴校データ入力シート!X173)","v":""},{"$f":"IF(貴校データ入力シート!Y173=\"\",\"\",貴校データ入力シート!Y173)","v":""},{"$f":"IF(貴校データ入力シート!Z173=\"\",\"\",貴校データ入力シート!Z173)","v":""},{"$f":"IF(貴校データ入力シート!AA173=\"\",\"\",貴校データ入力シート!AA173)","v":""},{"$f":"IF(貴校データ入力シート!AB173=\"\",\"\",貴校データ入力シート!AB173)","v":""},null,{"$f":"SUM(K170:L170)","v":0}]
[null,null,null,null,null,null,null,null,null,null,{"$f":"IF(貴校データ入力シート!G174=\"\",\"\",貴校データ入力シート!G174)","v":""},{"$f":"IF(貴校データ入力シート!H174=\"\",\"\",貴校データ入力シート!H174)","v":""},{"$f":"IF(貴校データ入力シート!I174=\"\",\"\",貴校データ入力シート!I174)","v":""},{"$f":"IF(貴校データ入力シート!J174=\"\",\"\",貴校データ入力シート!J174)","v":""},{"$f":"IF(貴校データ入力シート!K174=\"\",\"\",貴校データ入力シート!K174)","v":""},{"$f":"IF(貴校データ入力シート!L174=\"\",\"\",貴校データ入力シート!L174)","v":""},{"$f":"IF(貴校データ入力シート!M174=\"\",\"\",貴校データ入力シート!M174)","v":""},{"$f":"IF(貴校データ入力シート!N174=\"\",\"\",貴校データ入力シート!N174)","v":""},{"$f":"IF(貴校データ入力シート!O174=\"\",\"\",貴校データ入力シート!O174)","v":""},{"$f":"IF(貴校データ入力シート!P174=\"\",\"\",貴校データ入力シート!P174)","v":""},{"$f":"IF(貴校データ入力シート!Q174=\"\",\"\",貴校データ入力シート!Q174)","v":""},{"$f":"IF(貴校データ入力シート!R174=\"\",\"\",貴校データ入力シート!R174)","v":""},{"$f":"IF(貴校データ入力シート!S174=\"\",\"\",貴校データ入力シート!S174)","v":""},{"$f":"IF(貴校データ入力シート!T174=\"\",\"\",貴校データ入力シート!T174)","v":""},{"$f":"IF(貴校データ入力シート!U174=\"\",\"\",貴校データ入力シート!U174)","v":""},{"$f":"IF(貴校データ入力シート!V174=\"\",\"\",貴校データ入力シート!V174)","v":""},{"$f":"IF(貴校データ入力シート!W174=\"\",\"\",貴校データ入力シート!W174)","v":""},{"$f":"IF(貴校データ入力シート!X174=\"\",\"\",貴校データ入力シート!X174)","v":""},{"$f":"IF(貴校データ入力シート!Y174=\"\",\"\",貴校データ入力シート!Y174)","v":""},{"$f":"IF(貴校データ入力シート!Z174=\"\",\"\",貴校データ入力シート!Z174)","v":""},{"$f":"IF(貴校データ入力シート!AA174=\"\",\"\",貴校データ入力シート!AA174)","v":""},{"$f":"IF(貴校データ入力シート!AB174=\"\",\"\",貴校データ入力シート!AB174)","v":""},null,null,{"$f":"SUM(K171:L171)","v":0}]
[66,"（４４）",{"$f":"IF(貴校データ入力シート!C175=\"\",\"\",貴校データ入力シート!C175)","v":"授業で学んだことを、次の学習や実生活に結びつけて考えたり、生かしたりすることができると思いますか"},null,null,null,null,null,null,null,{"$f":"IF(貴校データ入力シート!G175=\"\",\"\",貴校データ入力シート!G175)","v":""},{"$f":"IF(貴校データ入力シート!H175=\"\",\"\",貴校データ入力シート!H175)","v":""},{"$f":"IF(貴校データ入力シート!I175=\"\",\"\",貴校データ入力シート!I175)","v":""},{"$f":"IF(貴校データ入力シート!J175=\"\",\"\",貴校データ入力シート!J175)","v":""},{"$f":"IF(貴校データ入力シート!K175=\"\",\"\",貴校データ入力シート!K175)","v":""},{"$f":"IF(貴校データ入力シート!L175=\"\",\"\",貴校データ入力シート!L175)","v":""},{"$f":"IF(貴校データ入力シート!M175=\"\",\"\",貴校データ入力シート!M175)","v":""},{"$f":"IF(貴校データ入力シート!N175=\"\",\"\",貴校データ入力シート!N175)","v":""},{"$f":"IF(貴校データ入力シート!O175=\"\",\"\",貴校データ入力シート!O175)","v":""},{"$f":"IF(貴校データ入力シート!P175=\"\",\"\",貴校データ入力シート!P175)","v":""},{"$f":"IF(貴校データ入力シート!Q175=\"\",\"\",貴校データ入力シート!Q175)","v":""},{"$f":"IF(貴校データ入力シート!R175=\"\",\"\",貴校データ入力シート!R175)","v":""},{"$f":"IF(貴校データ入力シート!S175=\"\",\"\",貴校データ入力シート!S175)","v":""},{"$f":"IF(貴校データ入力シート!T175=\"\",\"\",貴校データ入力シート!T175)","v":""},{"$f":"IF(貴校データ入力シート!U175=\"\",\"\",貴校データ入力シート!U175)","v":""},{"$f":"IF(貴校データ入力シート!V175=\"\",\"\",貴校データ入力シート!V175)","v":""},{"$f":"IF(貴校データ入力シート!W175=\"\",\"\",貴校データ入力シート!W175)","v":""},{"$f":"IF(貴校データ入力シート!X175=\"\",\"\",貴校データ入力シート!X175)","v":""},{"$f":"IF(貴校データ入力シート!Y175=\"\",\"\",貴校データ入力シート!Y175)","v":""},{"$f":"IF(貴校データ入力シート!Z175=\"\",\"\",貴校データ入力シート!Z175)","v":""},{"$f":"IF(貴校データ入力シート!AA175=\"\",\"\",貴校データ入力シート!AA175)","v":""},{"$f":"IF(貴校データ入力シート!AB175=\"\",\"\",貴校データ入力シート!AB175)","v":""},null,null,null,{"$f":"AG173","v":0},{"$f":"AH174","v":0},{"$f":"AI175","v":0}]
[null,null,null,null,null,null,null,null,null,null,{"$f":"IF(貴校データ入力シート!G176=\"\",\"\",貴校データ入力シート!G176)","v":""},{"$f":"IF(貴校データ入力シート!H176=\"\",\"\",貴校データ入力シート!H176)","v":""},{"$f":"IF(貴校データ入力シート!I176=\"\",\"\",貴校データ入力シート!I176)","v":""},{"$f":"IF(貴校データ入力シート!J176=\"\",\"\",貴校データ入力シート!J176)","v":""},{"$f":"IF(貴校データ入力シート!K176=\"\",\"\",貴校データ入力シート!K176)","v":""},{"$f":"IF(貴校データ入力シート!L176=\"\",\"\",貴校データ入力シート!L176)","v":""},{"$f":"IF(貴校データ入力シート!M176=\"\",\"\",貴校データ入力シート!M176)","v":""},{"$f":"IF(貴校データ入力シート!N176=\"\",\"\",貴校データ入力シート!N176)","v":""},{"$f":"IF(貴校データ入力シート!O176=\"\",\"\",貴校データ入力シート!O176)","v":""},{"$f":"IF(貴校データ入力シート!P176=\"\",\"\",貴校データ入力シート!P176)","v":""},{"$f":"IF(貴校データ入力シート!Q176=\"\",\"\",貴校データ入力シート!Q176)","v":""},{"$f":"IF(貴校データ入力シート!R176=\"\",\"\",貴校データ入力シート!R176)","v":""},{"$f":"IF(貴校データ入力シート!S176=\"\",\"\",貴校データ入力シート!S176)","v":""},{"$f":"IF(貴校データ入力シート!T176=\"\",\"\",貴校データ入力シート!T176)","v":""},{"$f":"IF(貴校データ入力シート!U176=\"\",\"\",貴校データ入力シート!U176)","v":""},{"$f":"IF(貴校データ入力シート!V176=\"\",\"\",貴校データ入力シート!V176)","v":""},{"$f":"IF(貴校データ入力シート!W176=\"\",\"\",貴校データ入力シート!W176)","v":""},{"$f":"IF(貴校データ入力シート!X176=\"\",\"\",貴校データ入力シート!X176)","v":""},{"$f":"IF(貴校データ入力シート!Y176=\"\",\"\",貴校データ入力シート!Y176)","v":""},{"$f":"IF(貴校データ入力シート!Z176=\"\",\"\",貴校データ入力シート!Z176)","v":""},{"$f":"IF(貴校データ入力シート!AA176=\"\",\"\",貴校データ入力シート!AA176)","v":""},{"$f":"IF(貴校データ入力シート!AB176=\"\",\"\",貴校データ入力シート!AB176)","v":""},{"$f":"SUM(K173:L173)","v":0}]
[null,null,null,null,null,null,null,null,null,null,{"$f":"IF(貴校データ入力シート!G177=\"\",\"\",貴校データ入力シート!G177)","v":""},{"$f":"IF(貴校データ入力シート!H177=\"\",\"\",貴校データ入力シート!H177)","v":""},{"$f":"IF(貴校データ入力シート!I177=\"\",\"\",貴校データ入力シート!I177)","v":""},{"$f":"IF(貴校データ入力シート!J177=\"\",\"\",貴校データ入力シート!J177)","v":""},{"$f":"IF(貴校データ入力シート!K177=\"\",\"\",貴校データ入力シート!K177)","v":""},{"$f":"IF(貴校データ入力シート!L177=\"\",\"\",貴校データ入力シート!L177)","v":""},{"$f":"IF(貴校データ入力シート!M177=\"\",\"\",貴校データ入力シート!M177)","v":""},{"$f":"IF(貴校データ入力シート!N177=\"\",\"\",貴校データ入力シート!N177)","v":""},{"$f":"IF(貴校データ入力シート!O177=\"\",\"\",貴校データ入力シート!O177)","v":""},{"$f":"IF(貴校データ入力シート!P177=\"\",\"\",貴校データ入力シート!P177)","v":""},{"$f":"IF(貴校データ入力シート!Q177=\"\",\"\",貴校データ入力シート!Q177)","v":""},{"$f":"IF(貴校データ入力シート!R177=\"\",\"\",貴校データ入力シート!R177)","v":""},{"$f":"IF(貴校データ入力シート!S177=\"\",\"\",貴校データ入力シート!S177)","v":""},{"$f":"IF(貴校データ入力シート!T177=\"\",\"\",貴校データ入力シート!T177)","v":""},{"$f":"IF(貴校データ入力シート!U177=\"\",\"\",貴校データ入力シート!U177)","v":""},{"$f":"IF(貴校データ入力シート!V177=\"\",\"\",貴校データ入力シート!V177)","v":""},{"$f":"IF(貴校データ入力シート!W177=\"\",\"\",貴校データ入力シート!W177)","v":""},{"$f":"IF(貴校データ入力シート!X177=\"\",\"\",貴校データ入力シート!X177)","v":""},{"$f":"IF(貴校データ入力シート!Y177=\"\",\"\",貴校データ入力シート!Y177)","v":""},{"$f":"IF(貴校データ入力シート!Z177=\"\",\"\",貴校データ入力シート!Z177)","v":""},{"$f":"IF(貴校データ入力シート!AA177=\"\",\"\",貴校データ入力シート!AA177)","v":""},{"$f":"IF(貴校データ入力シート!AB177=\"\",\"\",貴校データ入力シート!AB177)","v":""},null,{"$f":"SUM(K174:L174)","v":0}]
[null,null,null,null,null,null,null,null,null,null,{"$f":"IF(貴校データ入力シート!G178=\"\",\"\",貴校データ入力シート!G178)","v":""},{"$f":"IF(貴校データ入力シート!H178=\"\",\"\",貴校データ入力シート!H178)","v":""},{"$f":"IF(貴校データ入力シート!I178=\"\",\"\",貴校データ入力シート!I178)","v":""},{"$f":"IF(貴校データ入力シート!J178=\"\",\"\",貴校データ入力シート!J178)","v":""},{"$f":"IF(貴校データ入力シート!K178=\"\",\"\",貴校データ入力シート!K178)","v":""},{"$f":"IF(貴校データ入力シート!L178=\"\",\"\",貴校データ入力シート!L178)","v":""},{"$f":"IF(貴校データ入力シート!M178=\"\",\"\",貴校データ入力シート!M178)","v":""},{"$f":"IF(貴校データ入力シート!N178=\"\",\"\",貴校データ入力シート!N178)","v":""},{"$f":"IF(貴校データ入力シート!O178=\"\",\"\",貴校データ入力シート!O178)","v":""},{"$f":"IF(貴校データ入力シート!P178=\"\",\"\",貴校データ入力シート!P178)","v":""},{"$f":"IF(貴校データ入力シート!Q178=\"\",\"\",貴校データ入力シート!Q178)","v":""},{"$f":"IF(貴校データ入力シート!R178=\"\",\"\",貴校データ入力シート!R178)","v":""},{"$f":"IF(貴校データ入力シート!S178=\"\",\"\",貴校データ入力シート!S178)","v":""},{"$f":"IF(貴校データ入力シート!T178=\"\",\"\",貴校データ入力シート!T178)","v":""},{"$f":"IF(貴校データ入力シート!U178=\"\",\"\",貴校データ入力シート!U178)","v":""},{"$f":"IF(貴校データ入力シート!V178=\"\",\"\",貴校データ入力シート!V178)","v":""},{"$f":"IF(貴校データ入力シート!W178=\"\",\"\",貴校データ入力シート!W178)","v":""},{"$f":"IF(貴校データ入力シート!X178=\"\",\"\",貴校データ入力シート!X178)","v":""},{"$f":"IF(貴校データ入力シート!Y178=\"\",\"\",貴校データ入力シート!Y178)","v":""},{"$f":"IF(貴校データ入力シート!Z178=\"\",\"\",貴校データ入力シート!Z178)","v":""},{"$f":"IF(貴校データ入力シート!AA178=\"\",\"\",貴校データ入力シート!AA178)","v":""},{"$f":"IF(貴校データ入力シート!AB178=\"\",\"\",貴校データ入力シート!AB178)","v":""},null,null,{"$f":"SUM(K175:L175)","v":0}]
[67,"（４５）",{"$f":"IF(貴校データ入力シート!C179=\"\",\"\",貴校データ入力シート!C179)","v":"先生は、授業やテストで間違えたところや、理解していないところについて、分かるまで教えてくれていると思いますか"},null,null,null,null,null,null,null,{"$f":"IF(貴校データ入力シート!G179=\"\",\"\",貴校データ入力シート!G179)","v":""},{"$f":"IF(貴校データ入力シート!H179=\"\",\"\",貴校データ入力シート!H179)","v":""},{"$f":"IF(貴校データ入力シート!I179=\"\",\"\",貴校データ入力シート!I179)","v":""},{"$f":"IF(貴校データ入力シート!J179=\"\",\"\",貴校データ入力シート!J179)","v":""},{"$f":"IF(貴校データ入力シート!K179=\"\",\"\",貴校データ入力シート!K179)","v":""},{"$f":"IF(貴校データ入力シート!L179=\"\",\"\",貴校データ入力シート!L179)","v":""},{"$f":"IF(貴校データ入力シート!M179=\"\",\"\",貴校データ入力シート!M179)","v":""},{"$f":"IF(貴校データ入力シート!N179=\"\",\"\",貴校データ入力シート!N179)","v":""},{"$f":"IF(貴校データ入力シート!O179=\"\",\"\",貴校データ入力シート!O179)","v":""},{"$f":"IF(貴校データ入力シート!P179=\"\",\"\",貴校データ入力シート!P179)","v":""},{"$f":"IF(貴校データ入力シート!Q179=\"\",\"\",貴校データ入力シート!Q179)","v":""},{"$f":"IF(貴校データ入力シート!R179=\"\",\"\",貴校データ入力シート!R179)","v":""},{"$f":"IF(貴校データ入力シート!S179=\"\",\"\",貴校データ入力シート!S179)","v":""},{"$f":"IF(貴校データ入力シート!T179=\"\",\"\",貴校データ入力シート!T179)","v":""},{"$f":"IF(貴校データ入力シート!U179=\"\",\"\",貴校データ入力シート!U179)","v":""},{"$f":"IF(貴校データ入力シート!V179=\"\",\"\",貴校データ入力シート!V179)","v":""},{"$f":"IF(貴校データ入力シート!W179=\"\",\"\",貴校データ入力シート!W179)","v":""},{"$f":"IF(貴校データ入力シート!X179=\"\",\"\",貴校データ入力シート!X179)","v":""},{"$f":"IF(貴校データ入力シート!Y179=\"\",\"\",貴校データ入力シート!Y179)","v":""},{"$f":"IF(貴校データ入力シート!Z179=\"\",\"\",貴校データ入力シート!Z179)","v":""},{"$f":"IF(貴校データ入力シート!AA179=\"\",\"\",貴校データ入力シート!AA179)","v":""},{"$f":"IF(貴校データ入力シート!AB179=\"\",\"\",貴校データ入力シート!AB179)","v":""},null,null,null,{"$f":"AG177","v":0},{"$f":"AH178","v":0},{"$f":"AI179","v":0}]
[null,null,null,null,null,null,null,null,null,null,{"$f":"IF(貴校データ入力シート!G180=\"\",\"\",貴校データ入力シート!G180)","v":""},{"$f":"IF(貴校データ入力シート!H180=\"\",\"\",貴校データ入力シート!H180)","v":""},{"$f":"IF(貴校データ入力シート!I180=\"\",\"\",貴校データ入力シート!I180)","v":""},{"$f":"IF(貴校データ入力シート!J180=\"\",\"\",貴校データ入力シート!J180)","v":""},{"$f":"IF(貴校データ入力シート!K180=\"\",\"\",貴校データ入力シート!K180)","v":""},{"$f":"IF(貴校データ入力シート!L180=\"\",\"\",貴校データ入力シート!L180)","v":""},{"$f":"IF(貴校データ入力シート!M180=\"\",\"\",貴校データ入力シート!M180)","v":""},{"$f":"IF(貴校データ入力シート!N180=\"\",\"\",貴校データ入力シート!N180)","v":""},{"$f":"IF(貴校データ入力シート!O180=\"\",\"\",貴校データ入力シート!O180)","v":""},{"$f":"IF(貴校データ入力シート!P180=\"\",\"\",貴校データ入力シート!P180)","v":""},{"$f":"IF(貴校データ入力シート!Q180=\"\",\"\",貴校データ入力シート!Q180)","v":""},{"$f":"IF(貴校データ入力シート!R180=\"\",\"\",貴校データ入力シート!R180)","v":""},{"$f":"IF(貴校データ入力シート!S180=\"\",\"\",貴校データ入力シート!S180)","v":""},{"$f":"IF(貴校データ入力シート!T180=\"\",\"\",貴校データ入力シート!T180)","v":""},{"$f":"IF(貴校データ入力シート!U180=\"\",\"\",貴校データ入力シート!U180)","v":""},{"$f":"IF(貴校データ入力シート!V180=\"\",\"\",貴校データ入力シート!V180)","v":""},{"$f":"IF(貴校データ入力シート!W180=\"\",\"\",貴校データ入力シート!W180)","v":""},{"$f":"IF(貴校データ入力シート!X180=\"\",\"\",貴校データ入力シート!X180)","v":""},{"$f":"IF(貴校データ入力シート!Y180=\"\",\"\",貴校データ入力シート!Y180)","v":""},{"$f":"IF(貴校データ入力シート!Z180=\"\",\"\",貴校データ入力シート!Z180)","v":""},{"$f":"IF(貴校データ入力シート!AA180=\"\",\"\",貴校データ入力シート!AA180)","v":""},{"$f":"IF(貴校データ入力シート!AB180=\"\",\"\",貴校データ入力シート!AB180)","v":""},{"$f":"SUM(K177:L177)","v":0}]
[null,null,null,null,null,null,null,null,null,null,{"$f":"IF(貴校データ入力シート!G181=\"\",\"\",貴校データ入力シート!G181)","v":""},{"$f":"IF(貴校データ入力シート!H181=\"\",\"\",貴校データ入力シート!H181)","v":""},{"$f":"IF(貴校データ入力シート!I181=\"\",\"\",貴校データ入力シート!I181)","v":""},{"$f":"IF(貴校データ入力シート!J181=\"\",\"\",貴校データ入力シート!J181)","v":""},{"$f":"IF(貴校データ入力シート!K181=\"\",\"\",貴校データ入力シート!K181)","v":""},{"$f":"IF(貴校データ入力シート!L181=\"\",\"\",貴校データ入力シート!L181)","v":""},{"$f":"IF(貴校データ入力シート!M181=\"\",\"\",貴校データ入力シート!M181)","v":""},{"$f":"IF(貴校データ入力シート!N181=\"\",\"\",貴校データ入力シート!N181)","v":""},{"$f":"IF(貴校データ入力シート!O181=\"\",\"\",貴校データ入力シート!O181)","v":""},{"$f":"IF(貴校データ入力シート!P181=\"\",\"\",貴校データ入力シート!P181)","v":""},{"$f":"IF(貴校データ入力シート!Q181=\"\",\"\",貴校データ入力シート!Q181)","v":""},{"$f":"IF(貴校データ入力シート!R181=\"\",\"\",貴校データ入力シート!R181)","v":""},{"$f":"IF(貴校データ入力シート!S181=\"\",\"\",貴校データ入力シート!S181)","v":""},{"$f":"IF(貴校データ入力シート!T181=\"\",\"\",貴校データ入力シート!T181)","v":""},{"$f":"IF(貴校データ入力シート!U181=\"\",\"\",貴校データ入力シート!U181)","v":""},{"$f":"IF(貴校データ入力シート!V181=\"\",\"\",貴校データ入力シート!V181)","v":""},{"$f":"IF(貴校データ入力シート!W181=\"\",\"\",貴校データ入力シート!W181)","v":""},{"$f":"IF(貴校データ入力シート!X181=\"\",\"\",貴校データ入力シート!X181)","v":""},{"$f":"IF(貴校データ入力シート!Y181=\"\",\"\",貴校データ入力シート!Y181)","v":""},{"$f":"IF(貴校データ入力シート!Z181=\"\",\"\",貴校データ入力シート!Z181)","v":""},{"$f":"IF(貴校データ入力シート!AA181=\"\",\"\",貴校データ入力シート!AA181)","v":""},{"$f":"IF(貴校データ入力シート!AB181=\"\",\"\",貴校データ入力シート!AB181)","v":""},null,{"$f":"SUM(K178:L178)","v":0}]
[null,null,null,null,null,null,null,null,null,null,{"$f":"IF(貴校データ入力シート!G182=\"\",\"\",貴校データ入力シート!G182)","v":""},{"$f":"IF(貴校データ入力シート!H182=\"\",\"\",貴校データ入力シート!H182)","v":""},{"$f":"IF(貴校データ入力シート!I182=\"\",\"\",貴校データ入力シート!I182)","v":""},{"$f":"IF(貴校データ入力シート!J182=\"\",\"\",貴校データ入力シート!J182)","v":""},{"$f":"IF(貴校データ入力シート!K182=\"\",\"\",貴校データ入力シート!K182)","v":""},{"$f":"IF(貴校データ入力シート!L182=\"\",\"\",貴校データ入力シート!L182)","v":""},{"$f":"IF(貴校データ入力シート!M182=\"\",\"\",貴校データ入力シート!M182)","v":""},{"$f":"IF(貴校データ入力シート!N182=\"\",\"\",貴校データ入力シート!N182)","v":""},{"$f":"IF(貴校データ入力シート!O182=\"\",\"\",貴校データ入力シート!O182)","v":""},{"$f":"IF(貴校データ入力シート!P182=\"\",\"\",貴校データ入力シート!P182)","v":""},{"$f":"IF(貴校データ入力シート!Q182=\"\",\"\",貴校データ入力シート!Q182)","v":""},{"$f":"IF(貴校データ入力シート!R182=\"\",\"\",貴校データ入力シート!R182)","v":""},{"$f":"IF(貴校データ入力シート!S182=\"\",\"\",貴校データ入力シート!S182)","v":""},{"$f":"IF(貴校データ入力シート!T182=\"\",\"\",貴校データ入力シート!T182)","v":""},{"$f":"IF(貴校データ入力シート!U182=\"\",\"\",貴校データ入力シート!U182)","v":""},{"$f":"IF(貴校データ入力シート!V182=\"\",\"\",貴校データ入力シート!V182)","v":""},{"$f":"IF(貴校データ入力シート!W182=\"\",\"\",貴校データ入力シート!W182)","v":""},{"$f":"IF(貴校データ入力シート!X182=\"\",\"\",貴校データ入力シート!X182)","v":""},{"$f":"IF(貴校データ入力シート!Y182=\"\",\"\",貴校データ入力シート!Y182)","v":""},{"$f":"IF(貴校データ入力シート!Z182=\"\",\"\",貴校データ入力シート!Z182)","v":""},{"$f":"IF(貴校データ入力シート!AA182=\"\",\"\",貴校データ入力シート!AA182)","v":""},{"$f":"IF(貴校データ入力シート!AB182=\"\",\"\",貴校データ入力シート!AB182)","v":""},null,null,{"$f":"SUM(K179:L179)","v":0}]
[68,"（４６）",{"$f":"IF(貴校データ入力シート!C183=\"\",\"\",貴校データ入力シート!C183)","v":"授業や学校生活では、友達や周りの人の考えを大切にして、お互いに協力しながら課題の解決に取り組んでいますか"},null,null,null,null,null,null,null,{"$f":"IF(貴校データ入力シート!G183=\"\",\"\",貴校データ入力シート!G183)","v":""},{"$f":"IF(貴校データ入力シート!H183=\"\",\"\",貴校データ入力シート!H183)","v":""},{"$f":"IF(貴校データ入力シート!I183=\"\",\"\",貴校データ入力シート!I183)","v":""},{"$f":"IF(貴校データ入力シート!J183=\"\",\"\",貴校データ入力シート!J183)","v":""},{"$f":"IF(貴校データ入力シート!K183=\"\",\"\",貴校データ入力シート!K183)","v":""},{"$f":"IF(貴校データ入力シート!L183=\"\",\"\",貴校データ入力シート!L183)","v":""},{"$f":"IF(貴校データ入力シート!M183=\"\",\"\",貴校データ入力シート!M183)","v":""},{"$f":"IF(貴校データ入力シート!N183=\"\",\"\",貴校データ入力シート!N183)","v":""},{"$f":"IF(貴校データ入力シート!O183=\"\",\"\",貴校データ入力シート!O183)","v":""},{"$f":"IF(貴校データ入力シート!P183=\"\",\"\",貴校データ入力シート!P183)","v":""},{"$f":"IF(貴校データ入力シート!Q183=\"\",\"\",貴校データ入力シート!Q183)","v":""},{"$f":"IF(貴校データ入力シート!R183=\"\",\"\",貴校データ入力シート!R183)","v":""},{"$f":"IF(貴校データ入力シート!S183=\"\",\"\",貴校データ入力シート!S183)","v":""},{"$f":"IF(貴校データ入力シート!T183=\"\",\"\",貴校データ入力シート!T183)","v":""},{"$f":"IF(貴校データ入力シート!U183=\"\",\"\",貴校データ入力シート!U183)","v":""},{"$f":"IF(貴校データ入力シート!V183=\"\",\"\",貴校データ入力シート!V183)","v":""},{"$f":"IF(貴校データ入力シート!W183=\"\",\"\",貴校データ入力シート!W183)","v":""},{"$f":"IF(貴校データ入力シート!X183=\"\",\"\",貴校データ入力シート!X183)","v":""},{"$f":"IF(貴校データ入力シート!Y183=\"\",\"\",貴校データ入力シート!Y183)","v":""},{"$f":"IF(貴校データ入力シート!Z183=\"\",\"\",貴校データ入力シート!Z183)","v":""},{"$f":"IF(貴校データ入力シート!AA183=\"\",\"\",貴校データ入力シート!AA183)","v":""},{"$f":"IF(貴校データ入力シート!AB183=\"\",\"\",貴校データ入力シート!AB183)","v":""},null,null,null,{"$f":"AG181","v":0},{"$f":"AH182","v":0},{"$f":"AI183","v":0}]
[null,null,null,null,null,null,null,null,null,null,{"$f":"IF(貴校データ入力シート!G184=\"\",\"\",貴校データ入力シート!G184)","v":""},{"$f":"IF(貴校データ入力シート!H184=\"\",\"\",貴校データ入力シート!H184)","v":""},{"$f":"IF(貴校データ入力シート!I184=\"\",\"\",貴校データ入力シート!I184)","v":""},{"$f":"IF(貴校データ入力シート!J184=\"\",\"\",貴校データ入力シート!J184)","v":""},{"$f":"IF(貴校データ入力シート!K184=\"\",\"\",貴校データ入力シート!K184)","v":""},{"$f":"IF(貴校データ入力シート!L184=\"\",\"\",貴校データ入力シート!L184)","v":""},{"$f":"IF(貴校データ入力シート!M184=\"\",\"\",貴校データ入力シート!M184)","v":""},{"$f":"IF(貴校データ入力シート!N184=\"\",\"\",貴校データ入力シート!N184)","v":""},{"$f":"IF(貴校データ入力シート!O184=\"\",\"\",貴校データ入力シート!O184)","v":""},{"$f":"IF(貴校データ入力シート!P184=\"\",\"\",貴校データ入力シート!P184)","v":""},{"$f":"IF(貴校データ入力シート!Q184=\"\",\"\",貴校データ入力シート!Q184)","v":""},{"$f":"IF(貴校データ入力シート!R184=\"\",\"\",貴校データ入力シート!R184)","v":""},{"$f":"IF(貴校データ入力シート!S184=\"\",\"\",貴校データ入力シート!S184)","v":""},{"$f":"IF(貴校データ入力シート!T184=\"\",\"\",貴校データ入力シート!T184)","v":""},{"$f":"IF(貴校データ入力シート!U184=\"\",\"\",貴校データ入力シート!U184)","v":""},{"$f":"IF(貴校データ入力シート!V184=\"\",\"\",貴校データ入力シート!V184)","v":""},{"$f":"IF(貴校データ入力シート!W184=\"\",\"\",貴校データ入力シート!W184)","v":""},{"$f":"IF(貴校データ入力シート!X184=\"\",\"\",貴校データ入力シート!X184)","v":""},{"$f":"IF(貴校データ入力シート!Y184=\"\",\"\",貴校データ入力シート!Y184)","v":""},{"$f":"IF(貴校データ入力シート!Z184=\"\",\"\",貴校データ入力シート!Z184)","v":""},{"$f":"IF(貴校データ入力シート!AA184=\"\",\"\",貴校データ入力シート!AA184)","v":""},{"$f":"IF(貴校データ入力シート!AB184=\"\",\"\",貴校データ入力シート!AB184)","v":""},{"$f":"SUM(K181:L181)","v":0}]
[null,null,null,null,null,null,null,null,null,null,{"$f":"IF(貴校データ入力シート!G185=\"\",\"\",貴校データ入力シート!G185)","v":""},{"$f":"IF(貴校データ入力シート!H185=\"\",\"\",貴校データ入力シート!H185)","v":""},{"$f":"IF(貴校データ入力シート!I185=\"\",\"\",貴校データ入力シート!I185)","v":""},{"$f":"IF(貴校データ入力シート!J185=\"\",\"\",貴校データ入力シート!J185)","v":""},{"$f":"IF(貴校データ入力シート!K185=\"\",\"\",貴校データ入力シート!K185)","v":""},{"$f":"IF(貴校データ入力シート!L185=\"\",\"\",貴校データ入力シート!L185)","v":""},{"$f":"IF(貴校データ入力シート!M185=\"\",\"\",貴校データ入力シート!M185)","v":""},{"$f":"IF(貴校データ入力シート!N185=\"\",\"\",貴校データ入力シート!N185)","v":""},{"$f":"IF(貴校データ入力シート!O185=\"\",\"\",貴校データ入力シート!O185)","v":""},{"$f":"IF(貴校データ入力シート!P185=\"\",\"\",貴校データ入力シート!P185)","v":""},{"$f":"IF(貴校データ入力シート!Q185=\"\",\"\",貴校データ入力シート!Q185)","v":""},{"$f":"IF(貴校データ入力シート!R185=\"\",\"\",貴校データ入力シート!R185)","v":""},{"$f":"IF(貴校データ入力シート!S185=\"\",\"\",貴校データ入力シート!S185)","v":""},{"$f":"IF(貴校データ入力シート!T185=\"\",\"\",貴校データ入力シート!T185)","v":""},{"$f":"IF(貴校データ入力シート!U185=\"\",\"\",貴校データ入力シート!U185)","v":""},{"$f":"IF(貴校データ入力シート!V185=\"\",\"\",貴校データ入力シート!V185)","v":""},{"$f":"IF(貴校データ入力シート!W185=\"\",\"\",貴校データ入力シート!W185)","v":""},{"$f":"IF(貴校データ入力シート!X185=\"\",\"\",貴校データ入力シート!X185)","v":""},{"$f":"IF(貴校データ入力シート!Y185=\"\",\"\",貴校データ入力シート!Y185)","v":""},{"$f":"IF(貴校データ入力シート!Z185=\"\",\"\",貴校データ入力シート!Z185)","v":""},{"$f":"IF(貴校データ入力シート!AA185=\"\",\"\",貴校データ入力シート!AA185)","v":""},{"$f":"IF(貴校データ入力シート!AB185=\"\",\"\",貴校データ入力シート!AB185)","v":""},null,{"$f":"SUM(K182:L182)","v":0}]
[null,null,null,null,null,null,null,null,null,null,{"$f":"IF(貴校データ入力シート!G186=\"\",\"\",貴校データ入力シート!G186)","v":""},{"$f":"IF(貴校データ入力シート!H186=\"\",\"\",貴校データ入力シート!H186)","v":""},{"$f":"IF(貴校データ入力シート!I186=\"\",\"\",貴校データ入力シート!I186)","v":""},{"$f":"IF(貴校データ入力シート!J186=\"\",\"\",貴校データ入力シート!J186)","v":""},{"$f":"IF(貴校データ入力シート!K186=\"\",\"\",貴校データ入力シート!K186)","v":""},{"$f":"IF(貴校データ入力シート!L186=\"\",\"\",貴校データ入力シート!L186)","v":""},{"$f":"IF(貴校データ入力シート!M186=\"\",\"\",貴校データ入力シート!M186)","v":""},{"$f":"IF(貴校データ入力シート!N186=\"\",\"\",貴校データ入力シート!N186)","v":""},{"$f":"IF(貴校データ入力シート!O186=\"\",\"\",貴校データ入力シート!O186)","v":""},{"$f":"IF(貴校データ入力シート!P186=\"\",\"\",貴校データ入力シート!P186)","v":""},{"$f":"IF(貴校データ入力シート!Q186=\"\",\"\",貴校データ入力シート!Q186)","v":""},{"$f":"IF(貴校データ入力シート!R186=\"\",\"\",貴校データ入力シート!R186)","v":""},{"$f":"IF(貴校データ入力シート!S186=\"\",\"\",貴校データ入力シート!S186)","v":""},{"$f":"IF(貴校データ入力シート!T186=\"\",\"\",貴校データ入力シート!T186)","v":""},{"$f":"IF(貴校データ入力シート!U186=\"\",\"\",貴校データ入力シート!U186)","v":""},{"$f":"IF(貴校データ入力シート!V186=\"\",\"\",貴校データ入力シート!V186)","v":""},{"$f":"IF(貴校データ入力シート!W186=\"\",\"\",貴校データ入力シート!W186)","v":""},{"$f":"IF(貴校データ入力シート!X186=\"\",\"\",貴校データ入力シート!X186)","v":""},{"$f":"IF(貴校データ入力シート!Y186=\"\",\"\",貴校データ入力シート!Y186)","v":""},{"$f":"IF(貴校データ入力シート!Z186=\"\",\"\",貴校データ入力シート!Z186)","v":""},{"$f":"IF(貴校データ入力シート!AA186=\"\",\"\",貴校データ入力シート!AA186)","v":""},{"$f":"IF(貴校データ入力シート!AB186=\"\",\"\",貴校データ入力シート!AB186)","v":""},null,null,{"$f":"SUM(K183:L183)","v":0}]
[69,"（４７）",{"$f":"IF(貴校データ入力シート!C187=\"\",\"\",貴校データ入力シート!C187)","v":"総合的な学習の時間では、自分で課題を立てて情報を集め整理して、調べたことを発表するなどの学習活動に取り組んでいますか"},null,null,null,null,null,null,null,{"$f":"IF(貴校データ入力シート!G187=\"\",\"\",貴校データ入力シート!G187)","v":""},{"$f":"IF(貴校データ入力シート!H187=\"\",\"\",貴校データ入力シート!H187)","v":""},{"$f":"IF(貴校データ入力シート!I187=\"\",\"\",貴校データ入力シート!I187)","v":""},{"$f":"IF(貴校データ入力シート!J187=\"\",\"\",貴校データ入力シート!J187)","v":""},{"$f":"IF(貴校データ入力シート!K187=\"\",\"\",貴校データ入力シート!K187)","v":""},{"$f":"IF(貴校データ入力シート!L187=\"\",\"\",貴校データ入力シート!L187)","v":""},{"$f":"IF(貴校データ入力シート!M187=\"\",\"\",貴校データ入力シート!M187)","v":""},{"$f":"IF(貴校データ入力シート!N187=\"\",\"\",貴校データ入力シート!N187)","v":""},{"$f":"IF(貴校データ入力シート!O187=\"\",\"\",貴校データ入力シート!O187)","v":""},{"$f":"IF(貴校データ入力シート!P187=\"\",\"\",貴校データ入力シート!P187)","v":""},{"$f":"IF(貴校データ入力シート!Q187=\"\",\"\",貴校データ入力シート!Q187)","v":""},{"$f":"IF(貴校データ入力シート!R187=\"\",\"\",貴校データ入力シート!R187)","v":""},{"$f":"IF(貴校データ入力シート!S187=\"\",\"\",貴校データ入力シート!S187)","v":""},{"$f":"IF(貴校データ入力シート!T187=\"\",\"\",貴校データ入力シート!T187)","v":""},{"$f":"IF(貴校データ入力シート!U187=\"\",\"\",貴校データ入力シート!U187)","v":""},{"$f":"IF(貴校データ入力シート!V187=\"\",\"\",貴校データ入力シート!V187)","v":""},{"$f":"IF(貴校データ入力シート!W187=\"\",\"\",貴校データ入力シート!W187)","v":""},{"$f":"IF(貴校データ入力シート!X187=\"\",\"\",貴校データ入力シート!X187)","v":""},{"$f":"IF(貴校データ入力シート!Y187=\"\",\"\",貴校データ入力シート!Y187)","v":""},{"$f":"IF(貴校データ入力シート!Z187=\"\",\"\",貴校データ入力シート!Z187)","v":""},{"$f":"IF(貴校データ入力シート!AA187=\"\",\"\",貴校データ入力シート!AA187)","v":""},{"$f":"IF(貴校データ入力シート!AB187=\"\",\"\",貴校データ入力シート!AB187)","v":""},null,null,null,{"$f":"AG185","v":0},{"$f":"AH186","v":0},{"$f":"AI187","v":0}]
[null,null,null,null,null,null,null,null,null,null,{"$f":"IF(貴校データ入力シート!G188=\"\",\"\",貴校データ入力シート!G188)","v":""},{"$f":"IF(貴校データ入力シート!H188=\"\",\"\",貴校データ入力シート!H188)","v":""},{"$f":"IF(貴校データ入力シート!I188=\"\",\"\",貴校データ入力シート!I188)","v":""},{"$f":"IF(貴校データ入力シート!J188=\"\",\"\",貴校データ入力シート!J188)","v":""},{"$f":"IF(貴校データ入力シート!K188=\"\",\"\",貴校データ入力シート!K188)","v":""},{"$f":"IF(貴校データ入力シート!L188=\"\",\"\",貴校データ入力シート!L188)","v":""},{"$f":"IF(貴校データ入力シート!M188=\"\",\"\",貴校データ入力シート!M188)","v":""},{"$f":"IF(貴校データ入力シート!N188=\"\",\"\",貴校データ入力シート!N188)","v":""},{"$f":"IF(貴校データ入力シート!O188=\"\",\"\",貴校データ入力シート!O188)","v":""},{"$f":"IF(貴校データ入力シート!P188=\"\",\"\",貴校データ入力シート!P188)","v":""},{"$f":"IF(貴校データ入力シート!Q188=\"\",\"\",貴校データ入力シート!Q188)","v":""},{"$f":"IF(貴校データ入力シート!R188=\"\",\"\",貴校データ入力シート!R188)","v":""},{"$f":"IF(貴校データ入力シート!S188=\"\",\"\",貴校データ入力シート!S188)","v":""},{"$f":"IF(貴校データ入力シート!T188=\"\",\"\",貴校データ入力シート!T188)","v":""},{"$f":"IF(貴校データ入力シート!U188=\"\",\"\",貴校データ入力シート!U188)","v":""},{"$f":"IF(貴校データ入力シート!V188=\"\",\"\",貴校データ入力シート!V188)","v":""},{"$f":"IF(貴校データ入力シート!W188=\"\",\"\",貴校データ入力シート!W188)","v":""},{"$f":"IF(貴校データ入力シート!X188=\"\",\"\",貴校データ入力シート!X188)","v":""},{"$f":"IF(貴校データ入力シート!Y188=\"\",\"\",貴校データ入力シート!Y188)","v":""},{"$f":"IF(貴校データ入力シート!Z188=\"\",\"\",貴校データ入力シート!Z188)","v":""},{"$f":"IF(貴校データ入力シート!AA188=\"\",\"\",貴校データ入力シート!AA188)","v":""},{"$f":"IF(貴校データ入力シート!AB188=\"\",\"\",貴校データ入力シート!AB188)","v":""},{"$f":"SUM(K185:L185)","v":0}]
[null,null,null,null,null,null,null,null,null,null,{"$f":"IF(貴校データ入力シート!G189=\"\",\"\",貴校データ入力シート!G189)","v":""},{"$f":"IF(貴校データ入力シート!H189=\"\",\"\",貴校データ入力シート!H189)","v":""},{"$f":"IF(貴校データ入力シート!I189=\"\",\"\",貴校データ入力シート!I189)","v":""},{"$f":"IF(貴校データ入力シート!J189=\"\",\"\",貴校データ入力シート!J189)","v":""},{"$f":"IF(貴校データ入力シート!K189=\"\",\"\",貴校データ入力シート!K189)","v":""},{"$f":"IF(貴校データ入力シート!L189=\"\",\"\",貴校データ入力シート!L189)","v":""},{"$f":"IF(貴校データ入力シート!M189=\"\",\"\",貴校データ入力シート!M189)","v":""},{"$f":"IF(貴校データ入力シート!N189=\"\",\"\",貴校データ入力シート!N189)","v":""},{"$f":"IF(貴校データ入力シート!O189=\"\",\"\",貴校データ入力シート!O189)","v":""},{"$f":"IF(貴校データ入力シート!P189=\"\",\"\",貴校データ入力シート!P189)","v":""},{"$f":"IF(貴校データ入力シート!Q189=\"\",\"\",貴校データ入力シート!Q189)","v":""},{"$f":"IF(貴校データ入力シート!R189=\"\",\"\",貴校データ入力シート!R189)","v":""},{"$f":"IF(貴校データ入力シート!S189=\"\",\"\",貴校データ入力シート!S189)","v":""},{"$f":"IF(貴校データ入力シート!T189=\"\",\"\",貴校データ入力シート!T189)","v":""},{"$f":"IF(貴校データ入力シート!U189=\"\",\"\",貴校データ入力シート!U189)","v":""},{"$f":"IF(貴校データ入力シート!V189=\"\",\"\",貴校データ入力シート!V189)","v":""},{"$f":"IF(貴校データ入力シート!W189=\"\",\"\",貴校データ入力シート!W189)","v":""},{"$f":"IF(貴校データ入力シート!X189=\"\",\"\",貴校データ入力シート!X189)","v":""},{"$f":"IF(貴校データ入力シート!Y189=\"\",\"\",貴校データ入力シート!Y189)","v":""},{"$f":"IF(貴校データ入力シート!Z189=\"\",\"\",貴校データ入力シート!Z189)","v":""},{"$f":"IF(貴校データ入力シート!AA189=\"\",\"\",貴校データ入力シート!AA189)","v":""},{"$f":"IF(貴校データ入力シート!AB189=\"\",\"\",貴校データ入力シート!AB189)","v":""},null,{"$f":"SUM(K186:L186)","v":0}]
[null,null,null,null,null,null,null,null,null,null,{"$f":"IF(貴校データ入力シート!G190=\"\",\"\",貴校データ入力シート!G190)","v":""},{"$f":"IF(貴校データ入力シート!H190=\"\",\"\",貴校データ入力シート!H190)","v":""},{"$f":"IF(貴校データ入力シート!I190=\"\",\"\",貴校データ入力シート!I190)","v":""},{"$f":"IF(貴校データ入力シート!J190=\"\",\"\",貴校データ入力シート!J190)","v":""},{"$f":"IF(貴校データ入力シート!K190=\"\",\"\",貴校データ入力シート!K190)","v":""},{"$f":"IF(貴校データ入力シート!L190=\"\",\"\",貴校データ入力シート!L190)","v":""},{"$f":"IF(貴校データ入力シート!M190=\"\",\"\",貴校データ入力シート!M190)","v":""},{"$f":"IF(貴校データ入力シート!N190=\"\",\"\",貴校データ入力シート!N190)","v":""},{"$f":"IF(貴校データ入力シート!O190=\"\",\"\",貴校データ入力シート!O190)","v":""},{"$f":"IF(貴校データ入力シート!P190=\"\",\"\",貴校データ入力シート!P190)","v":""},{"$f":"IF(貴校データ入力シート!Q190=\"\",\"\",貴校データ入力シート!Q190)","v":""},{"$f":"IF(貴校データ入力シート!R190=\"\",\"\",貴校データ入力シート!R190)","v":""},{"$f":"IF(貴校データ入力シート!S190=\"\",\"\",貴校データ入力シート!S190)","v":""},{"$f":"IF(貴校データ入力シート!T190=\"\",\"\",貴校データ入力シート!T190)","v":""},{"$f":"IF(貴校データ入力シート!U190=\"\",\"\",貴校データ入力シート!U190)","v":""},{"$f":"IF(貴校データ入力シート!V190=\"\",\"\",貴校データ入力シート!V190)","v":""},{"$f":"IF(貴校データ入力シート!W190=\"\",\"\",貴校データ入力シート!W190)","v":""},{"$f":"IF(貴校データ入力シート!X190=\"\",\"\",貴校データ入力シート!X190)","v":""},{"$f":"IF(貴校データ入力シート!Y190=\"\",\"\",貴校データ入力シート!Y190)","v":""},{"$f":"IF(貴校データ入力シート!Z190=\"\",\"\",貴校データ入力シート!Z190)","v":""},{"$f":"IF(貴校データ入力シート!AA190=\"\",\"\",貴校データ入力シート!AA190)","v":""},{"$f":"IF(貴校データ入力シート!AB190=\"\",\"\",貴校データ入力シート!AB190)","v":""},null,null,{"$f":"SUM(K187:L187)","v":0}]
[70,"（４８）",{"$f":"IF(貴校データ入力シート!C191=\"\",\"\",貴校データ入力シート!C191)","v":"総合的な学習の時間では、PC・タブレットなどのICT機器を使って、うまく情報を集めたり、整理したり、発表したりできていますか"},null,null,null,null,null,null,null,{"$f":"IF(貴校データ入力シート!G191=\"\",\"\",貴校データ入力シート!G191)","v":""},{"$f":"IF(貴校データ入力シート!H191=\"\",\"\",貴校データ入力シート!H191)","v":""},{"$f":"IF(貴校データ入力シート!I191=\"\",\"\",貴校データ入力シート!I191)","v":""},{"$f":"IF(貴校データ入力シート!J191=\"\",\"\",貴校データ入力シート!J191)","v":""},{"$f":"IF(貴校データ入力シート!K191=\"\",\"\",貴校データ入力シート!K191)","v":""},{"$f":"IF(貴校データ入力シート!L191=\"\",\"\",貴校データ入力シート!L191)","v":""},{"$f":"IF(貴校データ入力シート!M191=\"\",\"\",貴校データ入力シート!M191)","v":""},{"$f":"IF(貴校データ入力シート!N191=\"\",\"\",貴校データ入力シート!N191)","v":""},{"$f":"IF(貴校データ入力シート!O191=\"\",\"\",貴校データ入力シート!O191)","v":""},{"$f":"IF(貴校データ入力シート!P191=\"\",\"\",貴校データ入力シート!P191)","v":""},{"$f":"IF(貴校データ入力シート!Q191=\"\",\"\",貴校データ入力シート!Q191)","v":""},{"$f":"IF(貴校データ入力シート!R191=\"\",\"\",貴校データ入力シート!R191)","v":""},{"$f":"IF(貴校データ入力シート!S191=\"\",\"\",貴校データ入力シート!S191)","v":""},{"$f":"IF(貴校データ入力シート!T191=\"\",\"\",貴校データ入力シート!T191)","v":""},{"$f":"IF(貴校データ入力シート!U191=\"\",\"\",貴校データ入力シート!U191)","v":""},{"$f":"IF(貴校データ入力シート!V191=\"\",\"\",貴校データ入力シート!V191)","v":""},{"$f":"IF(貴校データ入力シート!W191=\"\",\"\",貴校データ入力シート!W191)","v":""},{"$f":"IF(貴校データ入力シート!X191=\"\",\"\",貴校データ入力シート!X191)","v":""},{"$f":"IF(貴校データ入力シート!Y191=\"\",\"\",貴校データ入力シート!Y191)","v":""},{"$f":"IF(貴校データ入力シート!Z191=\"\",\"\",貴校データ入力シート!Z191)","v":""},{"$f":"IF(貴校データ入力シート!AA191=\"\",\"\",貴校データ入力シート!AA191)","v":""},{"$f":"IF(貴校データ入力シート!AB191=\"\",\"\",貴校データ入力シート!AB191)","v":""},null,null,null,{"$f":"AG189","v":0},{"$f":"AH190","v":0},{"$f":"AI191","v":0}]
[null,null,null,null,null,null,null,null,null,null,{"$f":"IF(貴校データ入力シート!G192=\"\",\"\",貴校データ入力シート!G192)","v":""},{"$f":"IF(貴校データ入力シート!H192=\"\",\"\",貴校データ入力シート!H192)","v":""},{"$f":"IF(貴校データ入力シート!I192=\"\",\"\",貴校データ入力シート!I192)","v":""},{"$f":"IF(貴校データ入力シート!J192=\"\",\"\",貴校データ入力シート!J192)","v":""},{"$f":"IF(貴校データ入力シート!K192=\"\",\"\",貴校データ入力シート!K192)","v":""},{"$f":"IF(貴校データ入力シート!L192=\"\",\"\",貴校データ入力シート!L192)","v":""},{"$f":"IF(貴校データ入力シート!M192=\"\",\"\",貴校データ入力シート!M192)","v":""},{"$f":"IF(貴校データ入力シート!N192=\"\",\"\",貴校データ入力シート!N192)","v":""},{"$f":"IF(貴校データ入力シート!O192=\"\",\"\",貴校データ入力シート!O192)","v":""},{"$f":"IF(貴校データ入力シート!P192=\"\",\"\",貴校データ入力シート!P192)","v":""},{"$f":"IF(貴校データ入力シート!Q192=\"\",\"\",貴校データ入力シート!Q192)","v":""},{"$f":"IF(貴校データ入力シート!R192=\"\",\"\",貴校データ入力シート!R192)","v":""},{"$f":"IF(貴校データ入力シート!S192=\"\",\"\",貴校データ入力シート!S192)","v":""},{"$f":"IF(貴校データ入力シート!T192=\"\",\"\",貴校データ入力シート!T192)","v":""},{"$f":"IF(貴校データ入力シート!U192=\"\",\"\",貴校データ入力シート!U192)","v":""},{"$f":"IF(貴校データ入力シート!V192=\"\",\"\",貴校データ入力シート!V192)","v":""},{"$f":"IF(貴校データ入力シート!W192=\"\",\"\",貴校データ入力シート!W192)","v":""},{"$f":"IF(貴校データ入力シート!X192=\"\",\"\",貴校データ入力シート!X192)","v":""},{"$f":"IF(貴校データ入力シート!Y192=\"\",\"\",貴校データ入力シート!Y192)","v":""},{"$f":"IF(貴校データ入力シート!Z192=\"\",\"\",貴校データ入力シート!Z192)","v":""},{"$f":"IF(貴校データ入力シート!AA192=\"\",\"\",貴校データ入力シート!AA192)","v":""},{"$f":"IF(貴校データ入力シート!AB192=\"\",\"\",貴校データ入力シート!AB192)","v":""},{"$f":"SUM(K189:L189)","v":0}]
[null,null,null,null,null,null,null,null,null,null,{"$f":"IF(貴校データ入力シート!G193=\"\",\"\",貴校データ入力シート!G193)","v":""},{"$f":"IF(貴校データ入力シート!H193=\"\",\"\",貴校データ入力シート!H193)","v":""},{"$f":"IF(貴校データ入力シート!I193=\"\",\"\",貴校データ入力シート!I193)","v":""},{"$f":"IF(貴校データ入力シート!J193=\"\",\"\",貴校データ入力シート!J193)","v":""},{"$f":"IF(貴校データ入力シート!K193=\"\",\"\",貴校データ入力シート!K193)","v":""},{"$f":"IF(貴校データ入力シート!L193=\"\",\"\",貴校データ入力シート!L193)","v":""},{"$f":"IF(貴校データ入力シート!M193=\"\",\"\",貴校データ入力シート!M193)","v":""},{"$f":"IF(貴校データ入力シート!N193=\"\",\"\",貴校データ入力シート!N193)","v":""},{"$f":"IF(貴校データ入力シート!O193=\"\",\"\",貴校データ入力シート!O193)","v":""},{"$f":"IF(貴校データ入力シート!P193=\"\",\"\",貴校データ入力シート!P193)","v":""},{"$f":"IF(貴校データ入力シート!Q193=\"\",\"\",貴校データ入力シート!Q193)","v":""},{"$f":"IF(貴校データ入力シート!R193=\"\",\"\",貴校データ入力シート!R193)","v":""},{"$f":"IF(貴校データ入力シート!S193=\"\",\"\",貴校データ入力シート!S193)","v":""},{"$f":"IF(貴校データ入力シート!T193=\"\",\"\",貴校データ入力シート!T193)","v":""},{"$f":"IF(貴校データ入力シート!U193=\"\",\"\",貴校データ入力シート!U193)","v":""},{"$f":"IF(貴校データ入力シート!V193=\"\",\"\",貴校データ入力シート!V193)","v":""},{"$f":"IF(貴校データ入力シート!W193=\"\",\"\",貴校データ入力シート!W193)","v":""},{"$f":"IF(貴校データ入力シート!X193=\"\",\"\",貴校データ入力シート!X193)","v":""},{"$f":"IF(貴校データ入力シート!Y193=\"\",\"\",貴校データ入力シート!Y193)","v":""},{"$f":"IF(貴校データ入力シート!Z193=\"\",\"\",貴校データ入力シート!Z193)","v":""},{"$f":"IF(貴校データ入力シート!AA193=\"\",\"\",貴校データ入力シート!AA193)","v":""},{"$f":"IF(貴校データ入力シート!AB193=\"\",\"\",貴校データ入力シート!AB193)","v":""},null,{"$f":"SUM(K190:L190)","v":0}]
[null,null,null,null,null,null,null,null,null,null,{"$f":"IF(貴校データ入力シート!G194=\"\",\"\",貴校データ入力シート!G194)","v":""},{"$f":"IF(貴校データ入力シート!H194=\"\",\"\",貴校データ入力シート!H194)","v":""},{"$f":"IF(貴校データ入力シート!I194=\"\",\"\",貴校データ入力シート!I194)","v":""},{"$f":"IF(貴校データ入力シート!J194=\"\",\"\",貴校データ入力シート!J194)","v":""},{"$f":"IF(貴校データ入力シート!K194=\"\",\"\",貴校データ入力シート!K194)","v":""},{"$f":"IF(貴校データ入力シート!L194=\"\",\"\",貴校データ入力シート!L194)","v":""},{"$f":"IF(貴校データ入力シート!M194=\"\",\"\",貴校データ入力シート!M194)","v":""},{"$f":"IF(貴校データ入力シート!N194=\"\",\"\",貴校データ入力シート!N194)","v":""},{"$f":"IF(貴校データ入力シート!O194=\"\",\"\",貴校データ入力シート!O194)","v":""},{"$f":"IF(貴校データ入力シート!P194=\"\",\"\",貴校データ入力シート!P194)","v":""},{"$f":"IF(貴校データ入力シート!Q194=\"\",\"\",貴校データ入力シート!Q194)","v":""},{"$f":"IF(貴校データ入力シート!R194=\"\",\"\",貴校データ入力シート!R194)","v":""},{"$f":"IF(貴校データ入力シート!S194=\"\",\"\",貴校データ入力シート!S194)","v":""},{"$f":"IF(貴校データ入力シート!T194=\"\",\"\",貴校データ入力シート!T194)","v":""},{"$f":"IF(貴校データ入力シート!U194=\"\",\"\",貴校データ入力シート!U194)","v":""},{"$f":"IF(貴校データ入力シート!V194=\"\",\"\",貴校データ入力シート!V194)","v":""},{"$f":"IF(貴校データ入力シート!W194=\"\",\"\",貴校データ入力シート!W194)","v":""},{"$f":"IF(貴校データ入力シート!X194=\"\",\"\",貴校データ入力シート!X194)","v":""},{"$f":"IF(貴校データ入力シート!Y194=\"\",\"\",貴校データ入力シート!Y194)","v":""},{"$f":"IF(貴校データ入力シート!Z194=\"\",\"\",貴校データ入力シート!Z194)","v":""},{"$f":"IF(貴校データ入力シート!AA194=\"\",\"\",貴校データ入力シート!AA194)","v":""},{"$f":"IF(貴校データ入力シート!AB194=\"\",\"\",貴校データ入力シート!AB194)","v":""},null,null,{"$f":"SUM(K191:L191)","v":0}]
[71,"（４９）",{"$f":"IF(貴校データ入力シート!C195=\"\",\"\",貴校データ入力シート!C195)","v":"あなたの学級では、学級生活をよりよくするために学級会で話し合い、互いの意見のよさを生かして解決方法を決めていますか"},null,null,null,null,null,null,null,{"$f":"IF(貴校データ入力シート!G195=\"\",\"\",貴校データ入力シート!G195)","v":""},{"$f":"IF(貴校データ入力シート!H195=\"\",\"\",貴校データ入力シート!H195)","v":""},{"$f":"IF(貴校データ入力シート!I195=\"\",\"\",貴校データ入力シート!I195)","v":""},{"$f":"IF(貴校データ入力シート!J195=\"\",\"\",貴校データ入力シート!J195)","v":""},{"$f":"IF(貴校データ入力シート!K195=\"\",\"\",貴校データ入力シート!K195)","v":""},{"$f":"IF(貴校データ入力シート!L195=\"\",\"\",貴校データ入力シート!L195)","v":""},{"$f":"IF(貴校データ入力シート!M195=\"\",\"\",貴校データ入力シート!M195)","v":""},{"$f":"IF(貴校データ入力シート!N195=\"\",\"\",貴校データ入力シート!N195)","v":""},{"$f":"IF(貴校データ入力シート!O195=\"\",\"\",貴校データ入力シート!O195)","v":""},{"$f":"IF(貴校データ入力シート!P195=\"\",\"\",貴校データ入力シート!P195)","v":""},{"$f":"IF(貴校データ入力シート!Q195=\"\",\"\",貴校データ入力シート!Q195)","v":""},{"$f":"IF(貴校データ入力シート!R195=\"\",\"\",貴校データ入力シート!R195)","v":""},{"$f":"IF(貴校データ入力シート!S195=\"\",\"\",貴校データ入力シート!S195)","v":""},{"$f":"IF(貴校データ入力シート!T195=\"\",\"\",貴校データ入力シート!T195)","v":""},{"$f":"IF(貴校データ入力シート!U195=\"\",\"\",貴校データ入力シート!U195)","v":""},{"$f":"IF(貴校データ入力シート!V195=\"\",\"\",貴校データ入力シート!V195)","v":""},{"$f":"IF(貴校データ入力シート!W195=\"\",\"\",貴校データ入力シート!W195)","v":""},{"$f":"IF(貴校データ入力シート!X195=\"\",\"\",貴校データ入力シート!X195)","v":""},{"$f":"IF(貴校データ入力シート!Y195=\"\",\"\",貴校データ入力シート!Y195)","v":""},{"$f":"IF(貴校データ入力シート!Z195=\"\",\"\",貴校データ入力シート!Z195)","v":""},{"$f":"IF(貴校データ入力シート!AA195=\"\",\"\",貴校データ入力シート!AA195)","v":""},{"$f":"IF(貴校データ入力シート!AB195=\"\",\"\",貴校データ入力シート!AB195)","v":""},null,null,null,{"$f":"AG193","v":0},{"$f":"AH194","v":0},{"$f":"AI195","v":0}]
[null,null,null,null,null,null,null,null,null,null,{"$f":"IF(貴校データ入力シート!G196=\"\",\"\",貴校データ入力シート!G196)","v":""},{"$f":"IF(貴校データ入力シート!H196=\"\",\"\",貴校データ入力シート!H196)","v":""},{"$f":"IF(貴校データ入力シート!I196=\"\",\"\",貴校データ入力シート!I196)","v":""},{"$f":"IF(貴校データ入力シート!J196=\"\",\"\",貴校データ入力シート!J196)","v":""},{"$f":"IF(貴校データ入力シート!K196=\"\",\"\",貴校データ入力シート!K196)","v":""},{"$f":"IF(貴校データ入力シート!L196=\"\",\"\",貴校データ入力シート!L196)","v":""},{"$f":"IF(貴校データ入力シート!M196=\"\",\"\",貴校データ入力シート!M196)","v":""},{"$f":"IF(貴校データ入力シート!N196=\"\",\"\",貴校データ入力シート!N196)","v":""},{"$f":"IF(貴校データ入力シート!O196=\"\",\"\",貴校データ入力シート!O196)","v":""},{"$f":"IF(貴校データ入力シート!P196=\"\",\"\",貴校データ入力シート!P196)","v":""},{"$f":"IF(貴校データ入力シート!Q196=\"\",\"\",貴校データ入力シート!Q196)","v":""},{"$f":"IF(貴校データ入力シート!R196=\"\",\"\",貴校データ入力シート!R196)","v":""},{"$f":"IF(貴校データ入力シート!S196=\"\",\"\",貴校データ入力シート!S196)","v":""},{"$f":"IF(貴校データ入力シート!T196=\"\",\"\",貴校データ入力シート!T196)","v":""},{"$f":"IF(貴校データ入力シート!U196=\"\",\"\",貴校データ入力シート!U196)","v":""},{"$f":"IF(貴校データ入力シート!V196=\"\",\"\",貴校データ入力シート!V196)","v":""},{"$f":"IF(貴校データ入力シート!W196=\"\",\"\",貴校データ入力シート!W196)","v":""},{"$f":"IF(貴校データ入力シート!X196=\"\",\"\",貴校データ入力シート!X196)","v":""},{"$f":"IF(貴校データ入力シート!Y196=\"\",\"\",貴校データ入力シート!Y196)","v":""},{"$f":"IF(貴校データ入力シート!Z196=\"\",\"\",貴校データ入力シート!Z196)","v":""},{"$f":"IF(貴校データ入力シート!AA196=\"\",\"\",貴校データ入力シート!AA196)","v":""},{"$f":"IF(貴校データ入力シート!AB196=\"\",\"\",貴校データ入力シート!AB196)","v":""},{"$f":"SUM(K193:L193)","v":0}]
[null,null,null,null,null,null,null,null,null,null,{"$f":"IF(貴校データ入力シート!G197=\"\",\"\",貴校データ入力シート!G197)","v":""},{"$f":"IF(貴校データ入力シート!H197=\"\",\"\",貴校データ入力シート!H197)","v":""},{"$f":"IF(貴校データ入力シート!I197=\"\",\"\",貴校データ入力シート!I197)","v":""},{"$f":"IF(貴校データ入力シート!J197=\"\",\"\",貴校データ入力シート!J197)","v":""},{"$f":"IF(貴校データ入力シート!K197=\"\",\"\",貴校データ入力シート!K197)","v":""},{"$f":"IF(貴校データ入力シート!L197=\"\",\"\",貴校データ入力シート!L197)","v":""},{"$f":"IF(貴校データ入力シート!M197=\"\",\"\",貴校データ入力シート!M197)","v":""},{"$f":"IF(貴校データ入力シート!N197=\"\",\"\",貴校データ入力シート!N197)","v":""},{"$f":"IF(貴校データ入力シート!O197=\"\",\"\",貴校データ入力シート!O197)","v":""},{"$f":"IF(貴校データ入力シート!P197=\"\",\"\",貴校データ入力シート!P197)","v":""},{"$f":"IF(貴校データ入力シート!Q197=\"\",\"\",貴校データ入力シート!Q197)","v":""},{"$f":"IF(貴校データ入力シート!R197=\"\",\"\",貴校データ入力シート!R197)","v":""},{"$f":"IF(貴校データ入力シート!S197=\"\",\"\",貴校データ入力シート!S197)","v":""},{"$f":"IF(貴校データ入力シート!T197=\"\",\"\",貴校データ入力シート!T197)","v":""},{"$f":"IF(貴校データ入力シート!U197=\"\",\"\",貴校データ入力シート!U197)","v":""},{"$f":"IF(貴校データ入力シート!V197=\"\",\"\",貴校データ入力シート!V197)","v":""},{"$f":"IF(貴校データ入力シート!W197=\"\",\"\",貴校データ入力シート!W197)","v":""},{"$f":"IF(貴校データ入力シート!X197=\"\",\"\",貴校データ入力シート!X197)","v":""},{"$f":"IF(貴校データ入力シート!Y197=\"\",\"\",貴校データ入力シート!Y197)","v":""},{"$f":"IF(貴校データ入力シート!Z197=\"\",\"\",貴校データ入力シート!Z197)","v":""},{"$f":"IF(貴校データ入力シート!AA197=\"\",\"\",貴校データ入力シート!AA197)","v":""},{"$f":"IF(貴校データ入力シート!AB197=\"\",\"\",貴校データ入力シート!AB197)","v":""},null,{"$f":"SUM(K194:L194)","v":0}]
[null,null,null,null,null,null,null,null,null,null,{"$f":"IF(貴校データ入力シート!G198=\"\",\"\",貴校データ入力シート!G198)","v":""},{"$f":"IF(貴校データ入力シート!H198=\"\",\"\",貴校データ入力シート!H198)","v":""},{"$f":"IF(貴校データ入力シート!I198=\"\",\"\",貴校データ入力シート!I198)","v":""},{"$f":"IF(貴校データ入力シート!J198=\"\",\"\",貴校データ入力シート!J198)","v":""},{"$f":"IF(貴校データ入力シート!K198=\"\",\"\",貴校データ入力シート!K198)","v":""},{"$f":"IF(貴校データ入力シート!L198=\"\",\"\",貴校データ入力シート!L198)","v":""},{"$f":"IF(貴校データ入力シート!M198=\"\",\"\",貴校データ入力シート!M198)","v":""},{"$f":"IF(貴校データ入力シート!N198=\"\",\"\",貴校データ入力シート!N198)","v":""},{"$f":"IF(貴校データ入力シート!O198=\"\",\"\",貴校データ入力シート!O198)","v":""},{"$f":"IF(貴校データ入力シート!P198=\"\",\"\",貴校データ入力シート!P198)","v":""},{"$f":"IF(貴校データ入力シート!Q198=\"\",\"\",貴校データ入力シート!Q198)","v":""},{"$f":"IF(貴校データ入力シート!R198=\"\",\"\",貴校データ入力シート!R198)","v":""},{"$f":"IF(貴校データ入力シート!S198=\"\",\"\",貴校データ入力シート!S198)","v":""},{"$f":"IF(貴校データ入力シート!T198=\"\",\"\",貴校データ入力シート!T198)","v":""},{"$f":"IF(貴校データ入力シート!U198=\"\",\"\",貴校データ入力シート!U198)","v":""},{"$f":"IF(貴校データ入力シート!V198=\"\",\"\",貴校データ入力シート!V198)","v":""},{"$f":"IF(貴校データ入力シート!W198=\"\",\"\",貴校データ入力シート!W198)","v":""},{"$f":"IF(貴校データ入力シート!X198=\"\",\"\",貴校データ入力シート!X198)","v":""},{"$f":"IF(貴校データ入力シート!Y198=\"\",\"\",貴校データ入力シート!Y198)","v":""},{"$f":"IF(貴校データ入力シート!Z198=\"\",\"\",貴校データ入力シート!Z198)","v":""},{"$f":"IF(貴校データ入力シート!AA198=\"\",\"\",貴校データ入力シート!AA198)","v":""},{"$f":"IF(貴校データ入力シート!AB198=\"\",\"\",貴校データ入力シート!AB198)","v":""},null,null,{"$f":"SUM(K195:L195)","v":0}]
[72,"（５０）",{"$f":"IF(貴校データ入力シート!C199=\"\",\"\",貴校データ入力シート!C199)","v":"学級会における学級での話合いを生かして、今、自分が努力すべきことを決めて取り組んでいますか"},null,null,null,null,null,null,null,{"$f":"IF(貴校データ入力シート!G199=\"\",\"\",貴校データ入力シート!G199)","v":""},{"$f":"IF(貴校データ入力シート!H199=\"\",\"\",貴校データ入力シート!H199)","v":""},{"$f":"IF(貴校データ入力シート!I199=\"\",\"\",貴校データ入力シート!I199)","v":""},{"$f":"IF(貴校データ入力シート!J199=\"\",\"\",貴校データ入力シート!J199)","v":""},{"$f":"IF(貴校データ入力シート!K199=\"\",\"\",貴校データ入力シート!K199)","v":""},{"$f":"IF(貴校データ入力シート!L199=\"\",\"\",貴校データ入力シート!L199)","v":""},{"$f":"IF(貴校データ入力シート!M199=\"\",\"\",貴校データ入力シート!M199)","v":""},{"$f":"IF(貴校データ入力シート!N199=\"\",\"\",貴校データ入力シート!N199)","v":""},{"$f":"IF(貴校データ入力シート!O199=\"\",\"\",貴校データ入力シート!O199)","v":""},{"$f":"IF(貴校データ入力シート!P199=\"\",\"\",貴校データ入力シート!P199)","v":""},{"$f":"IF(貴校データ入力シート!Q199=\"\",\"\",貴校データ入力シート!Q199)","v":""},{"$f":"IF(貴校データ入力シート!R199=\"\",\"\",貴校データ入力シート!R199)","v":""},{"$f":"IF(貴校データ入力シート!S199=\"\",\"\",貴校データ入力シート!S199)","v":""},{"$f":"IF(貴校データ入力シート!T199=\"\",\"\",貴校データ入力シート!T199)","v":""},{"$f":"IF(貴校データ入力シート!U199=\"\",\"\",貴校データ入力シート!U199)","v":""},{"$f":"IF(貴校データ入力シート!V199=\"\",\"\",貴校データ入力シート!V199)","v":""},{"$f":"IF(貴校データ入力シート!W199=\"\",\"\",貴校データ入力シート!W199)","v":""},{"$f":"IF(貴校データ入力シート!X199=\"\",\"\",貴校データ入力シート!X199)","v":""},{"$f":"IF(貴校データ入力シート!Y199=\"\",\"\",貴校データ入力シート!Y199)","v":""},{"$f":"IF(貴校データ入力シート!Z199=\"\",\"\",貴校データ入力シート!Z199)","v":""},{"$f":"IF(貴校データ入力シート!AA199=\"\",\"\",貴校データ入力シート!AA199)","v":""},{"$f":"IF(貴校データ入力シート!AB199=\"\",\"\",貴校データ入力シート!AB199)","v":""},null,null,null,{"$f":"AG197","v":0},{"$f":"AH198","v":0},{"$f":"AI199","v":0}]
[null,null,null,null,null,null,null,null,null,null,{"$f":"IF(貴校データ入力シート!G200=\"\",\"\",貴校データ入力シート!G200)","v":""},{"$f":"IF(貴校データ入力シート!H200=\"\",\"\",貴校データ入力シート!H200)","v":""},{"$f":"IF(貴校データ入力シート!I200=\"\",\"\",貴校データ入力シート!I200)","v":""},{"$f":"IF(貴校データ入力シート!J200=\"\",\"\",貴校データ入力シート!J200)","v":""},{"$f":"IF(貴校データ入力シート!K200=\"\",\"\",貴校データ入力シート!K200)","v":""},{"$f":"IF(貴校データ入力シート!L200=\"\",\"\",貴校データ入力シート!L200)","v":""},{"$f":"IF(貴校データ入力シート!M200=\"\",\"\",貴校データ入力シート!M200)","v":""},{"$f":"IF(貴校データ入力シート!N200=\"\",\"\",貴校データ入力シート!N200)","v":""},{"$f":"IF(貴校データ入力シート!O200=\"\",\"\",貴校データ入力シート!O200)","v":""},{"$f":"IF(貴校データ入力シート!P200=\"\",\"\",貴校データ入力シート!P200)","v":""},{"$f":"IF(貴校データ入力シート!Q200=\"\",\"\",貴校データ入力シート!Q200)","v":""},{"$f":"IF(貴校データ入力シート!R200=\"\",\"\",貴校データ入力シート!R200)","v":""},{"$f":"IF(貴校データ入力シート!S200=\"\",\"\",貴校データ入力シート!S200)","v":""},{"$f":"IF(貴校データ入力シート!T200=\"\",\"\",貴校データ入力シート!T200)","v":""},{"$f":"IF(貴校データ入力シート!U200=\"\",\"\",貴校データ入力シート!U200)","v":""},{"$f":"IF(貴校データ入力シート!V200=\"\",\"\",貴校データ入力シート!V200)","v":""},{"$f":"IF(貴校データ入力シート!W200=\"\",\"\",貴校データ入力シート!W200)","v":""},{"$f":"IF(貴校データ入力シート!X200=\"\",\"\",貴校データ入力シート!X200)","v":""},{"$f":"IF(貴校データ入力シート!Y200=\"\",\"\",貴校データ入力シート!Y200)","v":""},{"$f":"IF(貴校データ入力シート!Z200=\"\",\"\",貴校データ入力シート!Z200)","v":""},{"$f":"IF(貴校データ入力シート!AA200=\"\",\"\",貴校データ入力シート!AA200)","v":""},{"$f":"IF(貴校データ入力シート!AB200=\"\",\"\",貴校データ入力シート!AB200)","v":""},{"$f":"SUM(K197:L197)","v":0}]
[null,null,null,null,null,null,null,null,null,null,{"$f":"IF(貴校データ入力シート!G201=\"\",\"\",貴校データ入力シート!G201)","v":""},{"$f":"IF(貴校データ入力シート!H201=\"\",\"\",貴校データ入力シート!H201)","v":""},{"$f":"IF(貴校データ入力シート!I201=\"\",\"\",貴校データ入力シート!I201)","v":""},{"$f":"IF(貴校データ入力シート!J201=\"\",\"\",貴校データ入力シート!J201)","v":""},{"$f":"IF(貴校データ入力シート!K201=\"\",\"\",貴校データ入力シート!K201)","v":""},{"$f":"IF(貴校データ入力シート!L201=\"\",\"\",貴校データ入力シート!L201)","v":""},{"$f":"IF(貴校データ入力シート!M201=\"\",\"\",貴校データ入力シート!M201)","v":""},{"$f":"IF(貴校データ入力シート!N201=\"\",\"\",貴校データ入力シート!N201)","v":""},{"$f":"IF(貴校データ入力シート!O201=\"\",\"\",貴校データ入力シート!O201)","v":""},{"$f":"IF(貴校データ入力シート!P201=\"\",\"\",貴校データ入力シート!P201)","v":""},{"$f":"IF(貴校データ入力シート!Q201=\"\",\"\",貴校データ入力シート!Q201)","v":""},{"$f":"IF(貴校データ入力シート!R201=\"\",\"\",貴校データ入力シート!R201)","v":""},{"$f":"IF(貴校データ入力シート!S201=\"\",\"\",貴校データ入力シート!S201)","v":""},{"$f":"IF(貴校データ入力シート!T201=\"\",\"\",貴校データ入力シート!T201)","v":""},{"$f":"IF(貴校データ入力シート!U201=\"\",\"\",貴校データ入力シート!U201)","v":""},{"$f":"IF(貴校データ入力シート!V201=\"\",\"\",貴校データ入力シート!V201)","v":""},{"$f":"IF(貴校データ入力シート!W201=\"\",\"\",貴校データ入力シート!W201)","v":""},{"$f":"IF(貴校データ入力シート!X201=\"\",\"\",貴校データ入力シート!X201)","v":""},{"$f":"IF(貴校データ入力シート!Y201=\"\",\"\",貴校データ入力シート!Y201)","v":""},{"$f":"IF(貴校データ入力シート!Z201=\"\",\"\",貴校データ入力シート!Z201)","v":""},{"$f":"IF(貴校データ入力シート!AA201=\"\",\"\",貴校データ入力シート!AA201)","v":""},{"$f":"IF(貴校データ入力シート!AB201=\"\",\"\",貴校データ入力シート!AB201)","v":""},null,{"$f":"SUM(K198:L198)","v":0}]
[null,null,null,null,null,null,null,null,null,null,{"$f":"IF(貴校データ入力シート!G202=\"\",\"\",貴校データ入力シート!G202)","v":""},{"$f":"IF(貴校データ入力シート!H202=\"\",\"\",貴校データ入力シート!H202)","v":""},{"$f":"IF(貴校データ入力シート!I202=\"\",\"\",貴校データ入力シート!I202)","v":""},{"$f":"IF(貴校データ入力シート!J202=\"\",\"\",貴校データ入力シート!J202)","v":""},{"$f":"IF(貴校データ入力シート!K202=\"\",\"\",貴校データ入力シート!K202)","v":""},{"$f":"IF(貴校データ入力シート!L202=\"\",\"\",貴校データ入力シート!L202)","v":""},{"$f":"IF(貴校データ入力シート!M202=\"\",\"\",貴校データ入力シート!M202)","v":""},{"$f":"IF(貴校データ入力シート!N202=\"\",\"\",貴校データ入力シート!N202)","v":""},{"$f":"IF(貴校データ入力シート!O202=\"\",\"\",貴校データ入力シート!O202)","v":""},{"$f":"IF(貴校データ入力シート!P202=\"\",\"\",貴校データ入力シート!P202)","v":""},{"$f":"IF(貴校データ入力シート!Q202=\"\",\"\",貴校データ入力シート!Q202)","v":""},{"$f":"IF(貴校データ入力シート!R202=\"\",\"\",貴校データ入力シート!R202)","v":""},{"$f":"IF(貴校データ入力シート!S202=\"\",\"\",貴校データ入力シート!S202)","v":""},{"$f":"IF(貴校データ入力シート!T202=\"\",\"\",貴校データ入力シート!T202)","v":""},{"$f":"IF(貴校データ入力シート!U202=\"\",\"\",貴校データ入力シート!U202)","v":""},{"$f":"IF(貴校データ入力シート!V202=\"\",\"\",貴校データ入力シート!V202)","v":""},{"$f":"IF(貴校データ入力シート!W202=\"\",\"\",貴校データ入力シート!W202)","v":""},{"$f":"IF(貴校データ入力シート!X202=\"\",\"\",貴校データ入力シート!X202)","v":""},{"$f":"IF(貴校データ入力シート!Y202=\"\",\"\",貴校データ入力シート!Y202)","v":""},{"$f":"IF(貴校データ入力シート!Z202=\"\",\"\",貴校データ入力シート!Z202)","v":""},{"$f":"IF(貴校データ入力シート!AA202=\"\",\"\",貴校データ入力シート!AA202)","v":""},{"$f":"IF(貴校データ入力シート!AB202=\"\",\"\",貴校データ入力シート!AB202)","v":""},null,null,{"$f":"SUM(K199:L199)","v":0}]
[73,"（５１）",{"$f":"IF(貴校データ入力シート!C203=\"\",\"\",貴校データ入力シート!C203)","v":"道徳の授業では、自分の考えを深めたり、学級やグループで話し合ったりする活動に取り組んでいますか"},null,null,null,null,null,null,null,{"$f":"IF(貴校データ入力シート!G203=\"\",\"\",貴校データ入力シート!G203)","v":""},{"$f":"IF(貴校データ入力シート!H203=\"\",\"\",貴校データ入力シート!H203)","v":""},{"$f":"IF(貴校データ入力シート!I203=\"\",\"\",貴校データ入力シート!I203)","v":""},{"$f":"IF(貴校データ入力シート!J203=\"\",\"\",貴校データ入力シート!J203)","v":""},{"$f":"IF(貴校データ入力シート!K203=\"\",\"\",貴校データ入力シート!K203)","v":""},{"$f":"IF(貴校データ入力シート!L203=\"\",\"\",貴校データ入力シート!L203)","v":""},{"$f":"IF(貴校データ入力シート!M203=\"\",\"\",貴校データ入力シート!M203)","v":""},{"$f":"IF(貴校データ入力シート!N203=\"\",\"\",貴校データ入力シート!N203)","v":""},{"$f":"IF(貴校データ入力シート!O203=\"\",\"\",貴校データ入力シート!O203)","v":""},{"$f":"IF(貴校データ入力シート!P203=\"\",\"\",貴校データ入力シート!P203)","v":""},{"$f":"IF(貴校データ入力シート!Q203=\"\",\"\",貴校データ入力シート!Q203)","v":""},{"$f":"IF(貴校データ入力シート!R203=\"\",\"\",貴校データ入力シート!R203)","v":""},{"$f":"IF(貴校データ入力シート!S203=\"\",\"\",貴校データ入力シート!S203)","v":""},{"$f":"IF(貴校データ入力シート!T203=\"\",\"\",貴校データ入力シート!T203)","v":""},{"$f":"IF(貴校データ入力シート!U203=\"\",\"\",貴校データ入力シート!U203)","v":""},{"$f":"IF(貴校データ入力シート!V203=\"\",\"\",貴校データ入力シート!V203)","v":""},{"$f":"IF(貴校データ入力シート!W203=\"\",\"\",貴校データ入力シート!W203)","v":""},{"$f":"IF(貴校データ入力シート!X203=\"\",\"\",貴校データ入力シート!X203)","v":""},{"$f":"IF(貴校データ入力シート!Y203=\"\",\"\",貴校データ入力シート!Y203)","v":""},{"$f":"IF(貴校データ入力シート!Z203=\"\",\"\",貴校データ入力シート!Z203)","v":""},{"$f":"IF(貴校データ入力シート!AA203=\"\",\"\",貴校データ入力シート!AA203)","v":""},{"$f":"IF(貴校データ入力シート!AB203=\"\",\"\",貴校データ入力シート!AB203)","v":""},null,null,null,{"$f":"AG201","v":0},{"$f":"AH202","v":0},{"$f":"AI203","v":0}]
[null,null,null,null,null,null,null,null,null,null,{"$f":"IF(貴校データ入力シート!G204=\"\",\"\",貴校データ入力シート!G204)","v":""},{"$f":"IF(貴校データ入力シート!H204=\"\",\"\",貴校データ入力シート!H204)","v":""},{"$f":"IF(貴校データ入力シート!I204=\"\",\"\",貴校データ入力シート!I204)","v":""},{"$f":"IF(貴校データ入力シート!J204=\"\",\"\",貴校データ入力シート!J204)","v":""},{"$f":"IF(貴校データ入力シート!K204=\"\",\"\",貴校データ入力シート!K204)","v":""},{"$f":"IF(貴校データ入力シート!L204=\"\",\"\",貴校データ入力シート!L204)","v":""},{"$f":"IF(貴校データ入力シート!M204=\"\",\"\",貴校データ入力シート!M204)","v":""},{"$f":"IF(貴校データ入力シート!N204=\"\",\"\",貴校データ入力シート!N204)","v":""},{"$f":"IF(貴校データ入力シート!O204=\"\",\"\",貴校データ入力シート!O204)","v":""},{"$f":"IF(貴校データ入力シート!P204=\"\",\"\",貴校データ入力シート!P204)","v":""},{"$f":"IF(貴校データ入力シート!Q204=\"\",\"\",貴校データ入力シート!Q204)","v":""},{"$f":"IF(貴校データ入力シート!R204=\"\",\"\",貴校データ入力シート!R204)","v":""},{"$f":"IF(貴校データ入力シート!S204=\"\",\"\",貴校データ入力シート!S204)","v":""},{"$f":"IF(貴校データ入力シート!T204=\"\",\"\",貴校データ入力シート!T204)","v":""},{"$f":"IF(貴校データ入力シート!U204=\"\",\"\",貴校データ入力シート!U204)","v":""},{"$f":"IF(貴校データ入力シート!V204=\"\",\"\",貴校データ入力シート!V204)","v":""},{"$f":"IF(貴校データ入力シート!W204=\"\",\"\",貴校データ入力シート!W204)","v":""},{"$f":"IF(貴校データ入力シート!X204=\"\",\"\",貴校データ入力シート!X204)","v":""},{"$f":"IF(貴校データ入力シート!Y204=\"\",\"\",貴校データ入力シート!Y204)","v":""},{"$f":"IF(貴校データ入力シート!Z204=\"\",\"\",貴校データ入力シート!Z204)","v":""},{"$f":"IF(貴校データ入力シート!AA204=\"\",\"\",貴校データ入力シート!AA204)","v":""},{"$f":"IF(貴校データ入力シート!AB204=\"\",\"\",貴校データ入力シート!AB204)","v":""},{"$f":"SUM(K201:L201)","v":0}]
[null,null,null,null,null,null,null,null,null,null,{"$f":"IF(貴校データ入力シート!G205=\"\",\"\",貴校データ入力シート!G205)","v":""},{"$f":"IF(貴校データ入力シート!H205=\"\",\"\",貴校データ入力シート!H205)","v":""},{"$f":"IF(貴校データ入力シート!I205=\"\",\"\",貴校データ入力シート!I205)","v":""},{"$f":"IF(貴校データ入力シート!J205=\"\",\"\",貴校データ入力シート!J205)","v":""},{"$f":"IF(貴校データ入力シート!K205=\"\",\"\",貴校データ入力シート!K205)","v":""},{"$f":"IF(貴校データ入力シート!L205=\"\",\"\",貴校データ入力シート!L205)","v":""},{"$f":"IF(貴校データ入力シート!M205=\"\",\"\",貴校データ入力シート!M205)","v":""},{"$f":"IF(貴校データ入力シート!N205=\"\",\"\",貴校データ入力シート!N205)","v":""},{"$f":"IF(貴校データ入力シート!O205=\"\",\"\",貴校データ入力シート!O205)","v":""},{"$f":"IF(貴校データ入力シート!P205=\"\",\"\",貴校データ入力シート!P205)","v":""},{"$f":"IF(貴校データ入力シート!Q205=\"\",\"\",貴校データ入力シート!Q205)","v":""},{"$f":"IF(貴校データ入力シート!R205=\"\",\"\",貴校データ入力シート!R205)","v":""},{"$f":"IF(貴校データ入力シート!S205=\"\",\"\",貴校データ入力シート!S205)","v":""},{"$f":"IF(貴校データ入力シート!T205=\"\",\"\",貴校データ入力シート!T205)","v":""},{"$f":"IF(貴校データ入力シート!U205=\"\",\"\",貴校データ入力シート!U205)","v":""},{"$f":"IF(貴校データ入力シート!V205=\"\",\"\",貴校データ入力シート!V205)","v":""},{"$f":"IF(貴校データ入力シート!W205=\"\",\"\",貴校データ入力シート!W205)","v":""},{"$f":"IF(貴校データ入力シート!X205=\"\",\"\",貴校データ入力シート!X205)","v":""},{"$f":"IF(貴校データ入力シート!Y205=\"\",\"\",貴校データ入力シート!Y205)","v":""},{"$f":"IF(貴校データ入力シート!Z205=\"\",\"\",貴校データ入力シート!Z205)","v":""},{"$f":"IF(貴校データ入力シート!AA205=\"\",\"\",貴校データ入力シート!AA205)","v":""},{"$f":"IF(貴校データ入力シート!AB205=\"\",\"\",貴校データ入力シート!AB205)","v":""},null,{"$f":"SUM(K202:L202)","v":0}]
[null,null,null,null,null,null,null,null,null,null,{"$f":"IF(貴校データ入力シート!G206=\"\",\"\",貴校データ入力シート!G206)","v":""},{"$f":"IF(貴校データ入力シート!H206=\"\",\"\",貴校データ入力シート!H206)","v":""},{"$f":"IF(貴校データ入力シート!I206=\"\",\"\",貴校データ入力シート!I206)","v":""},{"$f":"IF(貴校データ入力シート!J206=\"\",\"\",貴校データ入力シート!J206)","v":""},{"$f":"IF(貴校データ入力シート!K206=\"\",\"\",貴校データ入力シート!K206)","v":""},{"$f":"IF(貴校データ入力シート!L206=\"\",\"\",貴校データ入力シート!L206)","v":""},{"$f":"IF(貴校データ入力シート!M206=\"\",\"\",貴校データ入力シート!M206)","v":""},{"$f":"IF(貴校データ入力シート!N206=\"\",\"\",貴校データ入力シート!N206)","v":""},{"$f":"IF(貴校データ入力シート!O206=\"\",\"\",貴校データ入力シート!O206)","v":""},{"$f":"IF(貴校データ入力シート!P206=\"\",\"\",貴校データ入力シート!P206)","v":""},{"$f":"IF(貴校データ入力シート!Q206=\"\",\"\",貴校データ入力シート!Q206)","v":""},{"$f":"IF(貴校データ入力シート!R206=\"\",\"\",貴校データ入力シート!R206)","v":""},{"$f":"IF(貴校データ入力シート!S206=\"\",\"\",貴校データ入力シート!S206)","v":""},{"$f":"IF(貴校データ入力シート!T206=\"\",\"\",貴校データ入力シート!T206)","v":""},{"$f":"IF(貴校データ入力シート!U206=\"\",\"\",貴校データ入力シート!U206)","v":""},{"$f":"IF(貴校データ入力シート!V206=\"\",\"\",貴校データ入力シート!V206)","v":""},{"$f":"IF(貴校データ入力シート!W206=\"\",\"\",貴校データ入力シート!W206)","v":""},{"$f":"IF(貴校データ入力シート!X206=\"\",\"\",貴校データ入力シート!X206)","v":""},{"$f":"IF(貴校データ入力シート!Y206=\"\",\"\",貴校データ入力シート!Y206)","v":""},{"$f":"IF(貴校データ入力シート!Z206=\"\",\"\",貴校データ入力シート!Z206)","v":""},{"$f":"IF(貴校データ入力シート!AA206=\"\",\"\",貴校データ入力シート!AA206)","v":""},{"$f":"IF(貴校データ入力シート!AB206=\"\",\"\",貴校データ入力シート!AB206)","v":""},null,null,{"$f":"SUM(K203:L203)","v":0}]
[74,"（５２）",{"$f":"IF(貴校データ入力シート!C207=\"\",\"\",貴校データ入力シート!C207)","v":"国語の勉強は得意ですか"},null,null,null,null,null,null,null,{"$f":"IF(貴校データ入力シート!G207=\"\",\"\",貴校データ入力シート!G207)","v":""},{"$f":"IF(貴校データ入力シート!H207=\"\",\"\",貴校データ入力シート!H207)","v":""},{"$f":"IF(貴校データ入力シート!I207=\"\",\"\",貴校データ入力シート!I207)","v":""},{"$f":"IF(貴校データ入力シート!J207=\"\",\"\",貴校データ入力シート!J207)","v":""},{"$f":"IF(貴校データ入力シート!K207=\"\",\"\",貴校データ入力シート!K207)","v":""},{"$f":"IF(貴校データ入力シート!L207=\"\",\"\",貴校データ入力シート!L207)","v":""},{"$f":"IF(貴校データ入力シート!M207=\"\",\"\",貴校データ入力シート!M207)","v":""},{"$f":"IF(貴校データ入力シート!N207=\"\",\"\",貴校データ入力シート!N207)","v":""},{"$f":"IF(貴校データ入力シート!O207=\"\",\"\",貴校データ入力シート!O207)","v":""},{"$f":"IF(貴校データ入力シート!P207=\"\",\"\",貴校データ入力シート!P207)","v":""},{"$f":"IF(貴校データ入力シート!Q207=\"\",\"\",貴校データ入力シート!Q207)","v":""},{"$f":"IF(貴校データ入力シート!R207=\"\",\"\",貴校データ入力シート!R207)","v":""},{"$f":"IF(貴校データ入力シート!S207=\"\",\"\",貴校データ入力シート!S207)","v":""},{"$f":"IF(貴校データ入力シート!T207=\"\",\"\",貴校データ入力シート!T207)","v":""},{"$f":"IF(貴校データ入力シート!U207=\"\",\"\",貴校データ入力シート!U207)","v":""},{"$f":"IF(貴校データ入力シート!V207=\"\",\"\",貴校データ入力シート!V207)","v":""},{"$f":"IF(貴校データ入力シート!W207=\"\",\"\",貴校データ入力シート!W207)","v":""},{"$f":"IF(貴校データ入力シート!X207=\"\",\"\",貴校データ入力シート!X207)","v":""},{"$f":"IF(貴校データ入力シート!Y207=\"\",\"\",貴校データ入力シート!Y207)","v":""},{"$f":"IF(貴校データ入力シート!Z207=\"\",\"\",貴校データ入力シート!Z207)","v":""},{"$f":"IF(貴校データ入力シート!AA207=\"\",\"\",貴校データ入力シート!AA207)","v":""},{"$f":"IF(貴校データ入力シート!AB207=\"\",\"\",貴校データ入力シート!AB207)","v":""},null,null,null,{"$f":"AG205","v":0},{"$f":"AH206","v":0},{"$f":"AI207","v":0}]
[null,null,null,null,null,null,null,null,null,null,{"$f":"IF(貴校データ入力シート!G208=\"\",\"\",貴校データ入力シート!G208)","v":""},{"$f":"IF(貴校データ入力シート!H208=\"\",\"\",貴校データ入力シート!H208)","v":""},{"$f":"IF(貴校データ入力シート!I208=\"\",\"\",貴校データ入力シート!I208)","v":""},{"$f":"IF(貴校データ入力シート!J208=\"\",\"\",貴校データ入力シート!J208)","v":""},{"$f":"IF(貴校データ入力シート!K208=\"\",\"\",貴校データ入力シート!K208)","v":""},{"$f":"IF(貴校データ入力シート!L208=\"\",\"\",貴校データ入力シート!L208)","v":""},{"$f":"IF(貴校データ入力シート!M208=\"\",\"\",貴校データ入力シート!M208)","v":""},{"$f":"IF(貴校データ入力シート!N208=\"\",\"\",貴校データ入力シート!N208)","v":""},{"$f":"IF(貴校データ入力シート!O208=\"\",\"\",貴校データ入力シート!O208)","v":""},{"$f":"IF(貴校データ入力シート!P208=\"\",\"\",貴校データ入力シート!P208)","v":""},{"$f":"IF(貴校データ入力シート!Q208=\"\",\"\",貴校データ入力シート!Q208)","v":""},{"$f":"IF(貴校データ入力シート!R208=\"\",\"\",貴校データ入力シート!R208)","v":""},{"$f":"IF(貴校データ入力シート!S208=\"\",\"\",貴校データ入力シート!S208)","v":""},{"$f":"IF(貴校データ入力シート!T208=\"\",\"\",貴校データ入力シート!T208)","v":""},{"$f":"IF(貴校データ入力シート!U208=\"\",\"\",貴校データ入力シート!U208)","v":""},{"$f":"IF(貴校データ入力シート!V208=\"\",\"\",貴校データ入力シート!V208)","v":""},{"$f":"IF(貴校データ入力シート!W208=\"\",\"\",貴校データ入力シート!W208)","v":""},{"$f":"IF(貴校データ入力シート!X208=\"\",\"\",貴校データ入力シート!X208)","v":""},{"$f":"IF(貴校データ入力シート!Y208=\"\",\"\",貴校データ入力シート!Y208)","v":""},{"$f":"IF(貴校データ入力シート!Z208=\"\",\"\",貴校データ入力シート!Z208)","v":""},{"$f":"IF(貴校データ入力シート!AA208=\"\",\"\",貴校データ入力シート!AA208)","v":""},{"$f":"IF(貴校データ入力シート!AB208=\"\",\"\",貴校データ入力シート!AB208)","v":""},{"$f":"SUM(K205:L205)","v":0}]
[null,null,null,null,null,null,null,null,null,null,{"$f":"IF(貴校データ入力シート!G209=\"\",\"\",貴校データ入力シート!G209)","v":""},{"$f":"IF(貴校データ入力シート!H209=\"\",\"\",貴校データ入力シート!H209)","v":""},{"$f":"IF(貴校データ入力シート!I209=\"\",\"\",貴校データ入力シート!I209)","v":""},{"$f":"IF(貴校データ入力シート!J209=\"\",\"\",貴校データ入力シート!J209)","v":""},{"$f":"IF(貴校データ入力シート!K209=\"\",\"\",貴校データ入力シート!K209)","v":""},{"$f":"IF(貴校データ入力シート!L209=\"\",\"\",貴校データ入力シート!L209)","v":""},{"$f":"IF(貴校データ入力シート!M209=\"\",\"\",貴校データ入力シート!M209)","v":""},{"$f":"IF(貴校データ入力シート!N209=\"\",\"\",貴校データ入力シート!N209)","v":""},{"$f":"IF(貴校データ入力シート!O209=\"\",\"\",貴校データ入力シート!O209)","v":""},{"$f":"IF(貴校データ入力シート!P209=\"\",\"\",貴校データ入力シート!P209)","v":""},{"$f":"IF(貴校データ入力シート!Q209=\"\",\"\",貴校データ入力シート!Q209)","v":""},{"$f":"IF(貴校データ入力シート!R209=\"\",\"\",貴校データ入力シート!R209)","v":""},{"$f":"IF(貴校データ入力シート!S209=\"\",\"\",貴校データ入力シート!S209)","v":""},{"$f":"IF(貴校データ入力シート!T209=\"\",\"\",貴校データ入力シート!T209)","v":""},{"$f":"IF(貴校データ入力シート!U209=\"\",\"\",貴校データ入力シート!U209)","v":""},{"$f":"IF(貴校データ入力シート!V209=\"\",\"\",貴校データ入力シート!V209)","v":""},{"$f":"IF(貴校データ入力シート!W209=\"\",\"\",貴校データ入力シート!W209)","v":""},{"$f":"IF(貴校データ入力シート!X209=\"\",\"\",貴校データ入力シート!X209)","v":""},{"$f":"IF(貴校データ入力シート!Y209=\"\",\"\",貴校データ入力シート!Y209)","v":""},{"$f":"IF(貴校データ入力シート!Z209=\"\",\"\",貴校データ入力シート!Z209)","v":""},{"$f":"IF(貴校データ入力シート!AA209=\"\",\"\",貴校データ入力シート!AA209)","v":""},{"$f":"IF(貴校データ入力シート!AB209=\"\",\"\",貴校データ入力シート!AB209)","v":""},null,{"$f":"SUM(K206:L206)","v":0}]
[null,null,null,null,null,null,null,null,null,null,{"$f":"IF(貴校データ入力シート!G210=\"\",\"\",貴校データ入力シート!G210)","v":""},{"$f":"IF(貴校データ入力シート!H210=\"\",\"\",貴校データ入力シート!H210)","v":""},{"$f":"IF(貴校データ入力シート!I210=\"\",\"\",貴校データ入力シート!I210)","v":""},{"$f":"IF(貴校データ入力シート!J210=\"\",\"\",貴校データ入力シート!J210)","v":""},{"$f":"IF(貴校データ入力シート!K210=\"\",\"\",貴校データ入力シート!K210)","v":""},{"$f":"IF(貴校データ入力シート!L210=\"\",\"\",貴校データ入力シート!L210)","v":""},{"$f":"IF(貴校データ入力シート!M210=\"\",\"\",貴校データ入力シート!M210)","v":""},{"$f":"IF(貴校データ入力シート!N210=\"\",\"\",貴校データ入力シート!N210)","v":""},{"$f":"IF(貴校データ入力シート!O210=\"\",\"\",貴校データ入力シート!O210)","v":""},{"$f":"IF(貴校データ入力シート!P210=\"\",\"\",貴校データ入力シート!P210)","v":""},{"$f":"IF(貴校データ入力シート!Q210=\"\",\"\",貴校データ入力シート!Q210)","v":""},{"$f":"IF(貴校データ入力シート!R210=\"\",\"\",貴校データ入力シート!R210)","v":""},{"$f":"IF(貴校データ入力シート!S210=\"\",\"\",貴校データ入力シート!S210)","v":""},{"$f":"IF(貴校データ入力シート!T210=\"\",\"\",貴校データ入力シート!T210)","v":""},{"$f":"IF(貴校データ入力シート!U210=\"\",\"\",貴校データ入力シート!U210)","v":""},{"$f":"IF(貴校データ入力シート!V210=\"\",\"\",貴校データ入力シート!V210)","v":""},{"$f":"IF(貴校データ入力シート!W210=\"\",\"\",貴校データ入力シート!W210)","v":""},{"$f":"IF(貴校データ入力シート!X210=\"\",\"\",貴校データ入力シート!X210)","v":""},{"$f":"IF(貴校データ入力シート!Y210=\"\",\"\",貴校データ入力シート!Y210)","v":""},{"$f":"IF(貴校データ入力シート!Z210=\"\",\"\",貴校データ入力シート!Z210)","v":""},{"$f":"IF(貴校データ入力シート!AA210=\"\",\"\",貴校データ入力シート!AA210)","v":""},{"$f":"IF(貴校データ入力シート!AB210=\"\",\"\",貴校データ入力シート!AB210)","v":""},null,null,{"$f":"SUM(K207:L207)","v":0}]
[75,"（５３）",{"$f":"IF(貴校データ入力シート!C211=\"\",\"\",貴校データ入力シート!C211)","v":"国語の勉強は好きですか"},null,null,null,null,null,null,null,{"$f":"IF(貴校データ入力シート!G211=\"\",\"\",貴校データ入力シート!G211)","v":""},{"$f":"IF(貴校データ入力シート!H211=\"\",\"\",貴校データ入力シート!H211)","v":""},{"$f":"IF(貴校データ入力シート!I211=\"\",\"\",貴校データ入力シート!I211)","v":""},{"$f":"IF(貴校データ入力シート!J211=\"\",\"\",貴校データ入力シート!J211)","v":""},{"$f":"IF(貴校データ入力シート!K211=\"\",\"\",貴校データ入力シート!K211)","v":""},{"$f":"IF(貴校データ入力シート!L211=\"\",\"\",貴校データ入力シート!L211)","v":""},{"$f":"IF(貴校データ入力シート!M211=\"\",\"\",貴校データ入力シート!M211)","v":""},{"$f":"IF(貴校データ入力シート!N211=\"\",\"\",貴校データ入力シート!N211)","v":""},{"$f":"IF(貴校データ入力シート!O211=\"\",\"\",貴校データ入力シート!O211)","v":""},{"$f":"IF(貴校データ入力シート!P211=\"\",\"\",貴校データ入力シート!P211)","v":""},{"$f":"IF(貴校データ入力シート!Q211=\"\",\"\",貴校データ入力シート!Q211)","v":""},{"$f":"IF(貴校データ入力シート!R211=\"\",\"\",貴校データ入力シート!R211)","v":""},{"$f":"IF(貴校データ入力シート!S211=\"\",\"\",貴校データ入力シート!S211)","v":""},{"$f":"IF(貴校データ入力シート!T211=\"\",\"\",貴校データ入力シート!T211)","v":""},{"$f":"IF(貴校データ入力シート!U211=\"\",\"\",貴校データ入力シート!U211)","v":""},{"$f":"IF(貴校データ入力シート!V211=\"\",\"\",貴校データ入力シート!V211)","v":""},{"$f":"IF(貴校データ入力シート!W211=\"\",\"\",貴校データ入力シート!W211)","v":""},{"$f":"IF(貴校データ入力シート!X211=\"\",\"\",貴校データ入力シート!X211)","v":""},{"$f":"IF(貴校データ入力シート!Y211=\"\",\"\",貴校データ入力シート!Y211)","v":""},{"$f":"IF(貴校データ入力シート!Z211=\"\",\"\",貴校データ入力シート!Z211)","v":""},{"$f":"IF(貴校データ入力シート!AA211=\"\",\"\",貴校データ入力シート!AA211)","v":""},{"$f":"IF(貴校データ入力シート!AB211=\"\",\"\",貴校データ入力シート!AB211)","v":""},null,null,null,{"$f":"AG209","v":0},{"$f":"AH210","v":0},{"$f":"AI211","v":0}]
[null,null,null,null,null,null,null,null,null,null,{"$f":"IF(貴校データ入力シート!G212=\"\",\"\",貴校データ入力シート!G212)","v":""},{"$f":"IF(貴校データ入力シート!H212=\"\",\"\",貴校データ入力シート!H212)","v":""},{"$f":"IF(貴校データ入力シート!I212=\"\",\"\",貴校データ入力シート!I212)","v":""},{"$f":"IF(貴校データ入力シート!J212=\"\",\"\",貴校データ入力シート!J212)","v":""},{"$f":"IF(貴校データ入力シート!K212=\"\",\"\",貴校データ入力シート!K212)","v":""},{"$f":"IF(貴校データ入力シート!L212=\"\",\"\",貴校データ入力シート!L212)","v":""},{"$f":"IF(貴校データ入力シート!M212=\"\",\"\",貴校データ入力シート!M212)","v":""},{"$f":"IF(貴校データ入力シート!N212=\"\",\"\",貴校データ入力シート!N212)","v":""},{"$f":"IF(貴校データ入力シート!O212=\"\",\"\",貴校データ入力シート!O212)","v":""},{"$f":"IF(貴校データ入力シート!P212=\"\",\"\",貴校データ入力シート!P212)","v":""},{"$f":"IF(貴校データ入力シート!Q212=\"\",\"\",貴校データ入力シート!Q212)","v":""},{"$f":"IF(貴校データ入力シート!R212=\"\",\"\",貴校データ入力シート!R212)","v":""},{"$f":"IF(貴校データ入力シート!S212=\"\",\"\",貴校データ入力シート!S212)","v":""},{"$f":"IF(貴校データ入力シート!T212=\"\",\"\",貴校データ入力シート!T212)","v":""},{"$f":"IF(貴校データ入力シート!U212=\"\",\"\",貴校データ入力シート!U212)","v":""},{"$f":"IF(貴校データ入力シート!V212=\"\",\"\",貴校データ入力シート!V212)","v":""},{"$f":"IF(貴校データ入力シート!W212=\"\",\"\",貴校データ入力シート!W212)","v":""},{"$f":"IF(貴校データ入力シート!X212=\"\",\"\",貴校データ入力シート!X212)","v":""},{"$f":"IF(貴校データ入力シート!Y212=\"\",\"\",貴校データ入力シート!Y212)","v":""},{"$f":"IF(貴校データ入力シート!Z212=\"\",\"\",貴校データ入力シート!Z212)","v":""},{"$f":"IF(貴校データ入力シート!AA212=\"\",\"\",貴校データ入力シート!AA212)","v":""},{"$f":"IF(貴校データ入力シート!AB212=\"\",\"\",貴校データ入力シート!AB212)","v":""},{"$f":"SUM(K209:L209)","v":0}]
[null,null,null,null,null,null,null,null,null,null,{"$f":"IF(貴校データ入力シート!G213=\"\",\"\",貴校データ入力シート!G213)","v":""},{"$f":"IF(貴校データ入力シート!H213=\"\",\"\",貴校データ入力シート!H213)","v":""},{"$f":"IF(貴校データ入力シート!I213=\"\",\"\",貴校データ入力シート!I213)","v":""},{"$f":"IF(貴校データ入力シート!J213=\"\",\"\",貴校データ入力シート!J213)","v":""},{"$f":"IF(貴校データ入力シート!K213=\"\",\"\",貴校データ入力シート!K213)","v":""},{"$f":"IF(貴校データ入力シート!L213=\"\",\"\",貴校データ入力シート!L213)","v":""},{"$f":"IF(貴校データ入力シート!M213=\"\",\"\",貴校データ入力シート!M213)","v":""},{"$f":"IF(貴校データ入力シート!N213=\"\",\"\",貴校データ入力シート!N213)","v":""},{"$f":"IF(貴校データ入力シート!O213=\"\",\"\",貴校データ入力シート!O213)","v":""},{"$f":"IF(貴校データ入力シート!P213=\"\",\"\",貴校データ入力シート!P213)","v":""},{"$f":"IF(貴校データ入力シート!Q213=\"\",\"\",貴校データ入力シート!Q213)","v":""},{"$f":"IF(貴校データ入力シート!R213=\"\",\"\",貴校データ入力シート!R213)","v":""},{"$f":"IF(貴校データ入力シート!S213=\"\",\"\",貴校データ入力シート!S213)","v":""},{"$f":"IF(貴校データ入力シート!T213=\"\",\"\",貴校データ入力シート!T213)","v":""},{"$f":"IF(貴校データ入力シート!U213=\"\",\"\",貴校データ入力シート!U213)","v":""},{"$f":"IF(貴校データ入力シート!V213=\"\",\"\",貴校データ入力シート!V213)","v":""},{"$f":"IF(貴校データ入力シート!W213=\"\",\"\",貴校データ入力シート!W213)","v":""},{"$f":"IF(貴校データ入力シート!X213=\"\",\"\",貴校データ入力シート!X213)","v":""},{"$f":"IF(貴校データ入力シート!Y213=\"\",\"\",貴校データ入力シート!Y213)","v":""},{"$f":"IF(貴校データ入力シート!Z213=\"\",\"\",貴校データ入力シート!Z213)","v":""},{"$f":"IF(貴校データ入力シート!AA213=\"\",\"\",貴校データ入力シート!AA213)","v":""},{"$f":"IF(貴校データ入力シート!AB213=\"\",\"\",貴校データ入力シート!AB213)","v":""},null,{"$f":"SUM(K210:L210)","v":0}]
[null,null,null,null,null,null,null,null,null,null,{"$f":"IF(貴校データ入力シート!G214=\"\",\"\",貴校データ入力シート!G214)","v":""},{"$f":"IF(貴校データ入力シート!H214=\"\",\"\",貴校データ入力シート!H214)","v":""},{"$f":"IF(貴校データ入力シート!I214=\"\",\"\",貴校データ入力シート!I214)","v":""},{"$f":"IF(貴校データ入力シート!J214=\"\",\"\",貴校データ入力シート!J214)","v":""},{"$f":"IF(貴校データ入力シート!K214=\"\",\"\",貴校データ入力シート!K214)","v":""},{"$f":"IF(貴校データ入力シート!L214=\"\",\"\",貴校データ入力シート!L214)","v":""},{"$f":"IF(貴校データ入力シート!M214=\"\",\"\",貴校データ入力シート!M214)","v":""},{"$f":"IF(貴校データ入力シート!N214=\"\",\"\",貴校データ入力シート!N214)","v":""},{"$f":"IF(貴校データ入力シート!O214=\"\",\"\",貴校データ入力シート!O214)","v":""},{"$f":"IF(貴校データ入力シート!P214=\"\",\"\",貴校データ入力シート!P214)","v":""},{"$f":"IF(貴校データ入力シート!Q214=\"\",\"\",貴校データ入力シート!Q214)","v":""},{"$f":"IF(貴校データ入力シート!R214=\"\",\"\",貴校データ入力シート!R214)","v":""},{"$f":"IF(貴校データ入力シート!S214=\"\",\"\",貴校データ入力シート!S214)","v":""},{"$f":"IF(貴校データ入力シート!T214=\"\",\"\",貴校データ入力シート!T214)","v":""},{"$f":"IF(貴校データ入力シート!U214=\"\",\"\",貴校データ入力シート!U214)","v":""},{"$f":"IF(貴校データ入力シート!V214=\"\",\"\",貴校データ入力シート!V214)","v":""},{"$f":"IF(貴校データ入力シート!W214=\"\",\"\",貴校データ入力シート!W214)","v":""},{"$f":"IF(貴校データ入力シート!X214=\"\",\"\",貴校データ入力シート!X214)","v":""},{"$f":"IF(貴校データ入力シート!Y214=\"\",\"\",貴校データ入力シート!Y214)","v":""},{"$f":"IF(貴校データ入力シート!Z214=\"\",\"\",貴校データ入力シート!Z214)","v":""},{"$f":"IF(貴校データ入力シート!AA214=\"\",\"\",貴校データ入力シート!AA214)","v":""},{"$f":"IF(貴校データ入力シート!AB214=\"\",\"\",貴校データ入力シート!AB214)","v":""},null,null,{"$f":"SUM(K211:L211)","v":0}]
[76,"（５４）",{"$f":"IF(貴校データ入力シート!C215=\"\",\"\",貴校データ入力シート!C215)","v":"国語の授業の内容はよく分かりますか"},null,null,null,null,null,null,null,{"$f":"IF(貴校データ入力シート!G215=\"\",\"\",貴校データ入力シート!G215)","v":""},{"$f":"IF(貴校データ入力シート!H215=\"\",\"\",貴校データ入力シート!H215)","v":""},{"$f":"IF(貴校データ入力シート!I215=\"\",\"\",貴校データ入力シート!I215)","v":""},{"$f":"IF(貴校データ入力シート!J215=\"\",\"\",貴校データ入力シート!J215)","v":""},{"$f":"IF(貴校データ入力シート!K215=\"\",\"\",貴校データ入力シート!K215)","v":""},{"$f":"IF(貴校データ入力シート!L215=\"\",\"\",貴校データ入力シート!L215)","v":""},{"$f":"IF(貴校データ入力シート!M215=\"\",\"\",貴校データ入力シート!M215)","v":""},{"$f":"IF(貴校データ入力シート!N215=\"\",\"\",貴校データ入力シート!N215)","v":""},{"$f":"IF(貴校データ入力シート!O215=\"\",\"\",貴校データ入力シート!O215)","v":""},{"$f":"IF(貴校データ入力シート!P215=\"\",\"\",貴校データ入力シート!P215)","v":""},{"$f":"IF(貴校データ入力シート!Q215=\"\",\"\",貴校データ入力シート!Q215)","v":""},{"$f":"IF(貴校データ入力シート!R215=\"\",\"\",貴校データ入力シート!R215)","v":""},{"$f":"IF(貴校データ入力シート!S215=\"\",\"\",貴校データ入力シート!S215)","v":""},{"$f":"IF(貴校データ入力シート!T215=\"\",\"\",貴校データ入力シート!T215)","v":""},{"$f":"IF(貴校データ入力シート!U215=\"\",\"\",貴校データ入力シート!U215)","v":""},{"$f":"IF(貴校データ入力シート!V215=\"\",\"\",貴校データ入力シート!V215)","v":""},{"$f":"IF(貴校データ入力シート!W215=\"\",\"\",貴校データ入力シート!W215)","v":""},{"$f":"IF(貴校データ入力シート!X215=\"\",\"\",貴校データ入力シート!X215)","v":""},{"$f":"IF(貴校データ入力シート!Y215=\"\",\"\",貴校データ入力シート!Y215)","v":""},{"$f":"IF(貴校データ入力シート!Z215=\"\",\"\",貴校データ入力シート!Z215)","v":""},{"$f":"IF(貴校データ入力シート!AA215=\"\",\"\",貴校データ入力シート!AA215)","v":""},{"$f":"IF(貴校データ入力シート!AB215=\"\",\"\",貴校データ入力シート!AB215)","v":""},null,null,null,{"$f":"AG213","v":0},{"$f":"AH214","v":0},{"$f":"AI215","v":0}]
[null,null,null,null,null,null,null,null,null,null,{"$f":"IF(貴校データ入力シート!G216=\"\",\"\",貴校データ入力シート!G216)","v":""},{"$f":"IF(貴校データ入力シート!H216=\"\",\"\",貴校データ入力シート!H216)","v":""},{"$f":"IF(貴校データ入力シート!I216=\"\",\"\",貴校データ入力シート!I216)","v":""},{"$f":"IF(貴校データ入力シート!J216=\"\",\"\",貴校データ入力シート!J216)","v":""},{"$f":"IF(貴校データ入力シート!K216=\"\",\"\",貴校データ入力シート!K216)","v":""},{"$f":"IF(貴校データ入力シート!L216=\"\",\"\",貴校データ入力シート!L216)","v":""},{"$f":"IF(貴校データ入力シート!M216=\"\",\"\",貴校データ入力シート!M216)","v":""},{"$f":"IF(貴校データ入力シート!N216=\"\",\"\",貴校データ入力シート!N216)","v":""},{"$f":"IF(貴校データ入力シート!O216=\"\",\"\",貴校データ入力シート!O216)","v":""},{"$f":"IF(貴校データ入力シート!P216=\"\",\"\",貴校データ入力シート!P216)","v":""},{"$f":"IF(貴校データ入力シート!Q216=\"\",\"\",貴校データ入力シート!Q216)","v":""},{"$f":"IF(貴校データ入力シート!R216=\"\",\"\",貴校データ入力シート!R216)","v":""},{"$f":"IF(貴校データ入力シート!S216=\"\",\"\",貴校データ入力シート!S216)","v":""},{"$f":"IF(貴校データ入力シート!T216=\"\",\"\",貴校データ入力シート!T216)","v":""},{"$f":"IF(貴校データ入力シート!U216=\"\",\"\",貴校データ入力シート!U216)","v":""},{"$f":"IF(貴校データ入力シート!V216=\"\",\"\",貴校データ入力シート!V216)","v":""},{"$f":"IF(貴校データ入力シート!W216=\"\",\"\",貴校データ入力シート!W216)","v":""},{"$f":"IF(貴校データ入力シート!X216=\"\",\"\",貴校データ入力シート!X216)","v":""},{"$f":"IF(貴校データ入力シート!Y216=\"\",\"\",貴校データ入力シート!Y216)","v":""},{"$f":"IF(貴校データ入力シート!Z216=\"\",\"\",貴校データ入力シート!Z216)","v":""},{"$f":"IF(貴校データ入力シート!AA216=\"\",\"\",貴校データ入力シート!AA216)","v":""},{"$f":"IF(貴校データ入力シート!AB216=\"\",\"\",貴校データ入力シート!AB216)","v":""},{"$f":"SUM(K213:L213)","v":0}]
[null,null,null,null,null,null,null,null,null,null,{"$f":"IF(貴校データ入力シート!G217=\"\",\"\",貴校データ入力シート!G217)","v":""},{"$f":"IF(貴校データ入力シート!H217=\"\",\"\",貴校データ入力シート!H217)","v":""},{"$f":"IF(貴校データ入力シート!I217=\"\",\"\",貴校データ入力シート!I217)","v":""},{"$f":"IF(貴校データ入力シート!J217=\"\",\"\",貴校データ入力シート!J217)","v":""},{"$f":"IF(貴校データ入力シート!K217=\"\",\"\",貴校データ入力シート!K217)","v":""},{"$f":"IF(貴校データ入力シート!L217=\"\",\"\",貴校データ入力シート!L217)","v":""},{"$f":"IF(貴校データ入力シート!M217=\"\",\"\",貴校データ入力シート!M217)","v":""},{"$f":"IF(貴校データ入力シート!N217=\"\",\"\",貴校データ入力シート!N217)","v":""},{"$f":"IF(貴校データ入力シート!O217=\"\",\"\",貴校データ入力シート!O217)","v":""},{"$f":"IF(貴校データ入力シート!P217=\"\",\"\",貴校データ入力シート!P217)","v":""},{"$f":"IF(貴校データ入力シート!Q217=\"\",\"\",貴校データ入力シート!Q217)","v":""},{"$f":"IF(貴校データ入力シート!R217=\"\",\"\",貴校データ入力シート!R217)","v":""},{"$f":"IF(貴校データ入力シート!S217=\"\",\"\",貴校データ入力シート!S217)","v":""},{"$f":"IF(貴校データ入力シート!T217=\"\",\"\",貴校データ入力シート!T217)","v":""},{"$f":"IF(貴校データ入力シート!U217=\"\",\"\",貴校データ入力シート!U217)","v":""},{"$f":"IF(貴校データ入力シート!V217=\"\",\"\",貴校データ入力シート!V217)","v":""},{"$f":"IF(貴校データ入力シート!W217=\"\",\"\",貴校データ入力シート!W217)","v":""},{"$f":"IF(貴校データ入力シート!X217=\"\",\"\",貴校データ入力シート!X217)","v":""},{"$f":"IF(貴校データ入力シート!Y217=\"\",\"\",貴校データ入力シート!Y217)","v":""},{"$f":"IF(貴校データ入力シート!Z217=\"\",\"\",貴校データ入力シート!Z217)","v":""},{"$f":"IF(貴校データ入力シート!AA217=\"\",\"\",貴校データ入力シート!AA217)","v":""},{"$f":"IF(貴校データ入力シート!AB217=\"\",\"\",貴校データ入力シート!AB217)","v":""},null,{"$f":"SUM(K214:L214)","v":0}]
[null,null,null,null,null,null,null,null,null,null,{"$f":"IF(貴校データ入力シート!G218=\"\",\"\",貴校データ入力シート!G218)","v":""},{"$f":"IF(貴校データ入力シート!H218=\"\",\"\",貴校データ入力シート!H218)","v":""},{"$f":"IF(貴校データ入力シート!I218=\"\",\"\",貴校データ入力シート!I218)","v":""},{"$f":"IF(貴校データ入力シート!J218=\"\",\"\",貴校データ入力シート!J218)","v":""},{"$f":"IF(貴校データ入力シート!K218=\"\",\"\",貴校データ入力シート!K218)","v":""},{"$f":"IF(貴校データ入力シート!L218=\"\",\"\",貴校データ入力シート!L218)","v":""},{"$f":"IF(貴校データ入力シート!M218=\"\",\"\",貴校データ入力シート!M218)","v":""},{"$f":"IF(貴校データ入力シート!N218=\"\",\"\",貴校データ入力シート!N218)","v":""},{"$f":"IF(貴校データ入力シート!O218=\"\",\"\",貴校データ入力シート!O218)","v":""},{"$f":"IF(貴校データ入力シート!P218=\"\",\"\",貴校データ入力シート!P218)","v":""},{"$f":"IF(貴校データ入力シート!Q218=\"\",\"\",貴校データ入力シート!Q218)","v":""},{"$f":"IF(貴校データ入力シート!R218=\"\",\"\",貴校データ入力シート!R218)","v":""},{"$f":"IF(貴校データ入力シート!S218=\"\",\"\",貴校データ入力シート!S218)","v":""},{"$f":"IF(貴校データ入力シート!T218=\"\",\"\",貴校データ入力シート!T218)","v":""},{"$f":"IF(貴校データ入力シート!U218=\"\",\"\",貴校データ入力シート!U218)","v":""},{"$f":"IF(貴校データ入力シート!V218=\"\",\"\",貴校データ入力シート!V218)","v":""},{"$f":"IF(貴校データ入力シート!W218=\"\",\"\",貴校データ入力シート!W218)","v":""},{"$f":"IF(貴校データ入力シート!X218=\"\",\"\",貴校データ入力シート!X218)","v":""},{"$f":"IF(貴校データ入力シート!Y218=\"\",\"\",貴校データ入力シート!Y218)","v":""},{"$f":"IF(貴校データ入力シート!Z218=\"\",\"\",貴校データ入力シート!Z218)","v":""},{"$f":"IF(貴校データ入力シート!AA218=\"\",\"\",貴校データ入力シート!AA218)","v":""},{"$f":"IF(貴校データ入力シート!AB218=\"\",\"\",貴校データ入力シート!AB218)","v":""},null,null,{"$f":"SUM(K215:L215)","v":0}]
[77,"（５５）",{"$f":"IF(貴校データ入力シート!C219=\"\",\"\",貴校データ入力シート!C219)","v":"国語の授業で学習したことは、将来、社会に出たときに役に立つと思いますか"},null,null,null,null,null,null,null,{"$f":"IF(貴校データ入力シート!G219=\"\",\"\",貴校データ入力シート!G219)","v":""},{"$f":"IF(貴校データ入力シート!H219=\"\",\"\",貴校データ入力シート!H219)","v":""},{"$f":"IF(貴校データ入力シート!I219=\"\",\"\",貴校データ入力シート!I219)","v":""},{"$f":"IF(貴校データ入力シート!J219=\"\",\"\",貴校データ入力シート!J219)","v":""},{"$f":"IF(貴校データ入力シート!K219=\"\",\"\",貴校データ入力シート!K219)","v":""},{"$f":"IF(貴校データ入力シート!L219=\"\",\"\",貴校データ入力シート!L219)","v":""},{"$f":"IF(貴校データ入力シート!M219=\"\",\"\",貴校データ入力シート!M219)","v":""},{"$f":"IF(貴校データ入力シート!N219=\"\",\"\",貴校データ入力シート!N219)","v":""},{"$f":"IF(貴校データ入力シート!O219=\"\",\"\",貴校データ入力シート!O219)","v":""},{"$f":"IF(貴校データ入力シート!P219=\"\",\"\",貴校データ入力シート!P219)","v":""},{"$f":"IF(貴校データ入力シート!Q219=\"\",\"\",貴校データ入力シート!Q219)","v":""},{"$f":"IF(貴校データ入力シート!R219=\"\",\"\",貴校データ入力シート!R219)","v":""},{"$f":"IF(貴校データ入力シート!S219=\"\",\"\",貴校データ入力シート!S219)","v":""},{"$f":"IF(貴校データ入力シート!T219=\"\",\"\",貴校データ入力シート!T219)","v":""},{"$f":"IF(貴校データ入力シート!U219=\"\",\"\",貴校データ入力シート!U219)","v":""},{"$f":"IF(貴校データ入力シート!V219=\"\",\"\",貴校データ入力シート!V219)","v":""},{"$f":"IF(貴校データ入力シート!W219=\"\",\"\",貴校データ入力シート!W219)","v":""},{"$f":"IF(貴校データ入力シート!X219=\"\",\"\",貴校データ入力シート!X219)","v":""},{"$f":"IF(貴校データ入力シート!Y219=\"\",\"\",貴校データ入力シート!Y219)","v":""},{"$f":"IF(貴校データ入力シート!Z219=\"\",\"\",貴校データ入力シート!Z219)","v":""},{"$f":"IF(貴校データ入力シート!AA219=\"\",\"\",貴校データ入力シート!AA219)","v":""},{"$f":"IF(貴校データ入力シート!AB219=\"\",\"\",貴校データ入力シート!AB219)","v":""},null,null,null,{"$f":"AG217","v":0},{"$f":"AH218","v":0},{"$f":"AI219","v":0}]
[null,null,null,null,null,null,null,null,null,null,{"$f":"IF(貴校データ入力シート!G220=\"\",\"\",貴校データ入力シート!G220)","v":""},{"$f":"IF(貴校データ入力シート!H220=\"\",\"\",貴校データ入力シート!H220)","v":""},{"$f":"IF(貴校データ入力シート!I220=\"\",\"\",貴校データ入力シート!I220)","v":""},{"$f":"IF(貴校データ入力シート!J220=\"\",\"\",貴校データ入力シート!J220)","v":""},{"$f":"IF(貴校データ入力シート!K220=\"\",\"\",貴校データ入力シート!K220)","v":""},{"$f":"IF(貴校データ入力シート!L220=\"\",\"\",貴校データ入力シート!L220)","v":""},{"$f":"IF(貴校データ入力シート!M220=\"\",\"\",貴校データ入力シート!M220)","v":""},{"$f":"IF(貴校データ入力シート!N220=\"\",\"\",貴校データ入力シート!N220)","v":""},{"$f":"IF(貴校データ入力シート!O220=\"\",\"\",貴校データ入力シート!O220)","v":""},{"$f":"IF(貴校データ入力シート!P220=\"\",\"\",貴校データ入力シート!P220)","v":""},{"$f":"IF(貴校データ入力シート!Q220=\"\",\"\",貴校データ入力シート!Q220)","v":""},{"$f":"IF(貴校データ入力シート!R220=\"\",\"\",貴校データ入力シート!R220)","v":""},{"$f":"IF(貴校データ入力シート!S220=\"\",\"\",貴校データ入力シート!S220)","v":""},{"$f":"IF(貴校データ入力シート!T220=\"\",\"\",貴校データ入力シート!T220)","v":""},{"$f":"IF(貴校データ入力シート!U220=\"\",\"\",貴校データ入力シート!U220)","v":""},{"$f":"IF(貴校データ入力シート!V220=\"\",\"\",貴校データ入力シート!V220)","v":""},{"$f":"IF(貴校データ入力シート!W220=\"\",\"\",貴校データ入力シート!W220)","v":""},{"$f":"IF(貴校データ入力シート!X220=\"\",\"\",貴校データ入力シート!X220)","v":""},{"$f":"IF(貴校データ入力シート!Y220=\"\",\"\",貴校データ入力シート!Y220)","v":""},{"$f":"IF(貴校データ入力シート!Z220=\"\",\"\",貴校データ入力シート!Z220)","v":""},{"$f":"IF(貴校データ入力シート!AA220=\"\",\"\",貴校データ入力シート!AA220)","v":""},{"$f":"IF(貴校データ入力シート!AB220=\"\",\"\",貴校データ入力シート!AB220)","v":""},{"$f":"SUM(K217:L217)","v":0}]
[null,null,null,null,null,null,null,null,null,null,{"$f":"IF(貴校データ入力シート!G221=\"\",\"\",貴校データ入力シート!G221)","v":""},{"$f":"IF(貴校データ入力シート!H221=\"\",\"\",貴校データ入力シート!H221)","v":""},{"$f":"IF(貴校データ入力シート!I221=\"\",\"\",貴校データ入力シート!I221)","v":""},{"$f":"IF(貴校データ入力シート!J221=\"\",\"\",貴校データ入力シート!J221)","v":""},{"$f":"IF(貴校データ入力シート!K221=\"\",\"\",貴校データ入力シート!K221)","v":""},{"$f":"IF(貴校データ入力シート!L221=\"\",\"\",貴校データ入力シート!L221)","v":""},{"$f":"IF(貴校データ入力シート!M221=\"\",\"\",貴校データ入力シート!M221)","v":""},{"$f":"IF(貴校データ入力シート!N221=\"\",\"\",貴校データ入力シート!N221)","v":""},{"$f":"IF(貴校データ入力シート!O221=\"\",\"\",貴校データ入力シート!O221)","v":""},{"$f":"IF(貴校データ入力シート!P221=\"\",\"\",貴校データ入力シート!P221)","v":""},{"$f":"IF(貴校データ入力シート!Q221=\"\",\"\",貴校データ入力シート!Q221)","v":""},{"$f":"IF(貴校データ入力シート!R221=\"\",\"\",貴校データ入力シート!R221)","v":""},{"$f":"IF(貴校データ入力シート!S221=\"\",\"\",貴校データ入力シート!S221)","v":""},{"$f":"IF(貴校データ入力シート!T221=\"\",\"\",貴校データ入力シート!T221)","v":""},{"$f":"IF(貴校データ入力シート!U221=\"\",\"\",貴校データ入力シート!U221)","v":""},{"$f":"IF(貴校データ入力シート!V221=\"\",\"\",貴校データ入力シート!V221)","v":""},{"$f":"IF(貴校データ入力シート!W221=\"\",\"\",貴校データ入力シート!W221)","v":""},{"$f":"IF(貴校データ入力シート!X221=\"\",\"\",貴校データ入力シート!X221)","v":""},{"$f":"IF(貴校データ入力シート!Y221=\"\",\"\",貴校データ入力シート!Y221)","v":""},{"$f":"IF(貴校データ入力シート!Z221=\"\",\"\",貴校データ入力シート!Z221)","v":""},{"$f":"IF(貴校データ入力シート!AA221=\"\",\"\",貴校データ入力シート!AA221)","v":""},{"$f":"IF(貴校データ入力シート!AB221=\"\",\"\",貴校データ入力シート!AB221)","v":""},null,{"$f":"SUM(K218:L218)","v":0}]
[null,null,null,null,null,null,null,null,null,null,{"$f":"IF(貴校データ入力シート!G222=\"\",\"\",貴校データ入力シート!G222)","v":""},{"$f":"IF(貴校データ入力シート!H222=\"\",\"\",貴校データ入力シート!H222)","v":""},{"$f":"IF(貴校データ入力シート!I222=\"\",\"\",貴校データ入力シート!I222)","v":""},{"$f":"IF(貴校データ入力シート!J222=\"\",\"\",貴校データ入力シート!J222)","v":""},{"$f":"IF(貴校データ入力シート!K222=\"\",\"\",貴校データ入力シート!K222)","v":""},{"$f":"IF(貴校データ入力シート!L222=\"\",\"\",貴校データ入力シート!L222)","v":""},{"$f":"IF(貴校データ入力シート!M222=\"\",\"\",貴校データ入力シート!M222)","v":""},{"$f":"IF(貴校データ入力シート!N222=\"\",\"\",貴校データ入力シート!N222)","v":""},{"$f":"IF(貴校データ入力シート!O222=\"\",\"\",貴校データ入力シート!O222)","v":""},{"$f":"IF(貴校データ入力シート!P222=\"\",\"\",貴校データ入力シート!P222)","v":""},{"$f":"IF(貴校データ入力シート!Q222=\"\",\"\",貴校データ入力シート!Q222)","v":""},{"$f":"IF(貴校データ入力シート!R222=\"\",\"\",貴校データ入力シート!R222)","v":""},{"$f":"IF(貴校データ入力シート!S222=\"\",\"\",貴校データ入力シート!S222)","v":""},{"$f":"IF(貴校データ入力シート!T222=\"\",\"\",貴校データ入力シート!T222)","v":""},{"$f":"IF(貴校データ入力シート!U222=\"\",\"\",貴校データ入力シート!U222)","v":""},{"$f":"IF(貴校データ入力シート!V222=\"\",\"\",貴校データ入力シート!V222)","v":""},{"$f":"IF(貴校データ入力シート!W222=\"\",\"\",貴校データ入力シート!W222)","v":""},{"$f":"IF(貴校データ入力シート!X222=\"\",\"\",貴校データ入力シート!X222)","v":""},{"$f":"IF(貴校データ入力シート!Y222=\"\",\"\",貴校データ入力シート!Y222)","v":""},{"$f":"IF(貴校データ入力シート!Z222=\"\",\"\",貴校データ入力シート!Z222)","v":""},{"$f":"IF(貴校データ入力シート!AA222=\"\",\"\",貴校データ入力シート!AA222)","v":""},{"$f":"IF(貴校データ入力シート!AB222=\"\",\"\",貴校データ入力シート!AB222)","v":""},null,null,{"$f":"SUM(K219:L219)","v":0}]
[78,"（５６）",{"$f":"IF(貴校データ入力シート!C223=\"\",\"\",貴校データ入力シート!C223)","v":"５年生までにうけた授業では、国語の授業で、先生は、あなたの良いところや、前よりもできるようになったところはどこかを伝えてくれましたか"},null,null,null,null,null,null,null,{"$f":"IF(貴校データ入力シート!G223=\"\",\"\",貴校データ入力シート!G223)","v":""},{"$f":"IF(貴校データ入力シート!H223=\"\",\"\",貴校データ入力シート!H223)","v":""},{"$f":"IF(貴校データ入力シート!I223=\"\",\"\",貴校データ入力シート!I223)","v":""},{"$f":"IF(貴校データ入力シート!J223=\"\",\"\",貴校データ入力シート!J223)","v":""},{"$f":"IF(貴校データ入力シート!K223=\"\",\"\",貴校データ入力シート!K223)","v":""},{"$f":"IF(貴校データ入力シート!L223=\"\",\"\",貴校データ入力シート!L223)","v":""},{"$f":"IF(貴校データ入力シート!M223=\"\",\"\",貴校データ入力シート!M223)","v":""},{"$f":"IF(貴校データ入力シート!N223=\"\",\"\",貴校データ入力シート!N223)","v":""},{"$f":"IF(貴校データ入力シート!O223=\"\",\"\",貴校データ入力シート!O223)","v":""},{"$f":"IF(貴校データ入力シート!P223=\"\",\"\",貴校データ入力シート!P223)","v":""},{"$f":"IF(貴校データ入力シート!Q223=\"\",\"\",貴校データ入力シート!Q223)","v":""},{"$f":"IF(貴校データ入力シート!R223=\"\",\"\",貴校データ入力シート!R223)","v":""},{"$f":"IF(貴校データ入力シート!S223=\"\",\"\",貴校データ入力シート!S223)","v":""},{"$f":"IF(貴校データ入力シート!T223=\"\",\"\",貴校データ入力シート!T223)","v":""},{"$f":"IF(貴校データ入力シート!U223=\"\",\"\",貴校データ入力シート!U223)","v":""},{"$f":"IF(貴校データ入力シート!V223=\"\",\"\",貴校データ入力シート!V223)","v":""},{"$f":"IF(貴校データ入力シート!W223=\"\",\"\",貴校データ入力シート!W223)","v":""},{"$f":"IF(貴校データ入力シート!X223=\"\",\"\",貴校データ入力シート!X223)","v":""},{"$f":"IF(貴校データ入力シート!Y223=\"\",\"\",貴校データ入力シート!Y223)","v":""},{"$f":"IF(貴校データ入力シート!Z223=\"\",\"\",貴校データ入力シート!Z223)","v":""},{"$f":"IF(貴校データ入力シート!AA223=\"\",\"\",貴校データ入力シート!AA223)","v":""},{"$f":"IF(貴校データ入力シート!AB223=\"\",\"\",貴校データ入力シート!AB223)","v":""},null,null,null,{"$f":"AG221","v":0},{"$f":"AH222","v":0},{"$f":"AI223","v":0}]
[null,null,null,null,null,null,null,null,null,null,{"$f":"IF(貴校データ入力シート!G224=\"\",\"\",貴校データ入力シート!G224)","v":""},{"$f":"IF(貴校データ入力シート!H224=\"\",\"\",貴校データ入力シート!H224)","v":""},{"$f":"IF(貴校データ入力シート!I224=\"\",\"\",貴校データ入力シート!I224)","v":""},{"$f":"IF(貴校データ入力シート!J224=\"\",\"\",貴校データ入力シート!J224)","v":""},{"$f":"IF(貴校データ入力シート!K224=\"\",\"\",貴校データ入力シート!K224)","v":""},{"$f":"IF(貴校データ入力シート!L224=\"\",\"\",貴校データ入力シート!L224)","v":""},{"$f":"IF(貴校データ入力シート!M224=\"\",\"\",貴校データ入力シート!M224)","v":""},{"$f":"IF(貴校データ入力シート!N224=\"\",\"\",貴校データ入力シート!N224)","v":""},{"$f":"IF(貴校データ入力シート!O224=\"\",\"\",貴校データ入力シート!O224)","v":""},{"$f":"IF(貴校データ入力シート!P224=\"\",\"\",貴校データ入力シート!P224)","v":""},{"$f":"IF(貴校データ入力シート!Q224=\"\",\"\",貴校データ入力シート!Q224)","v":""},{"$f":"IF(貴校データ入力シート!R224=\"\",\"\",貴校データ入力シート!R224)","v":""},{"$f":"IF(貴校データ入力シート!S224=\"\",\"\",貴校データ入力シート!S224)","v":""},{"$f":"IF(貴校データ入力シート!T224=\"\",\"\",貴校データ入力シート!T224)","v":""},{"$f":"IF(貴校データ入力シート!U224=\"\",\"\",貴校データ入力シート!U224)","v":""},{"$f":"IF(貴校データ入力シート!V224=\"\",\"\",貴校データ入力シート!V224)","v":""},{"$f":"IF(貴校データ入力シート!W224=\"\",\"\",貴校データ入力シート!W224)","v":""},{"$f":"IF(貴校データ入力シート!X224=\"\",\"\",貴校データ入力シート!X224)","v":""},{"$f":"IF(貴校データ入力シート!Y224=\"\",\"\",貴校データ入力シート!Y224)","v":""},{"$f":"IF(貴校データ入力シート!Z224=\"\",\"\",貴校データ入力シート!Z224)","v":""},{"$f":"IF(貴校データ入力シート!AA224=\"\",\"\",貴校データ入力シート!AA224)","v":""},{"$f":"IF(貴校データ入力シート!AB224=\"\",\"\",貴校データ入力シート!AB224)","v":""},{"$f":"SUM(K221:L221)","v":0}]
[null,null,null,null,null,null,null,null,null,null,{"$f":"IF(貴校データ入力シート!G225=\"\",\"\",貴校データ入力シート!G225)","v":""},{"$f":"IF(貴校データ入力シート!H225=\"\",\"\",貴校データ入力シート!H225)","v":""},{"$f":"IF(貴校データ入力シート!I225=\"\",\"\",貴校データ入力シート!I225)","v":""},{"$f":"IF(貴校データ入力シート!J225=\"\",\"\",貴校データ入力シート!J225)","v":""},{"$f":"IF(貴校データ入力シート!K225=\"\",\"\",貴校データ入力シート!K225)","v":""},{"$f":"IF(貴校データ入力シート!L225=\"\",\"\",貴校データ入力シート!L225)","v":""},{"$f":"IF(貴校データ入力シート!M225=\"\",\"\",貴校データ入力シート!M225)","v":""},{"$f":"IF(貴校データ入力シート!N225=\"\",\"\",貴校データ入力シート!N225)","v":""},{"$f":"IF(貴校データ入力シート!O225=\"\",\"\",貴校データ入力シート!O225)","v":""},{"$f":"IF(貴校データ入力シート!P225=\"\",\"\",貴校データ入力シート!P225)","v":""},{"$f":"IF(貴校データ入力シート!Q225=\"\",\"\",貴校データ入力シート!Q225)","v":""},{"$f":"IF(貴校データ入力シート!R225=\"\",\"\",貴校データ入力シート!R225)","v":""},{"$f":"IF(貴校データ入力シート!S225=\"\",\"\",貴校データ入力シート!S225)","v":""},{"$f":"IF(貴校データ入力シート!T225=\"\",\"\",貴校データ入力シート!T225)","v":""},{"$f":"IF(貴校データ入力シート!U225=\"\",\"\",貴校データ入力シート!U225)","v":""},{"$f":"IF(貴校データ入力シート!V225=\"\",\"\",貴校データ入力シート!V225)","v":""},{"$f":"IF(貴校データ入力シート!W225=\"\",\"\",貴校データ入力シート!W225)","v":""},{"$f":"IF(貴校データ入力シート!X225=\"\",\"\",貴校データ入力シート!X225)","v":""},{"$f":"IF(貴校データ入力シート!Y225=\"\",\"\",貴校データ入力シート!Y225)","v":""},{"$f":"IF(貴校データ入力シート!Z225=\"\",\"\",貴校データ入力シート!Z225)","v":""},{"$f":"IF(貴校データ入力シート!AA225=\"\",\"\",貴校データ入力シート!AA225)","v":""},{"$f":"IF(貴校データ入力シート!AB225=\"\",\"\",貴校データ入力シート!AB225)","v":""},null,{"$f":"SUM(K222:L222)","v":0}]
[null,null,null,null,null,null,null,null,null,null,{"$f":"IF(貴校データ入力シート!G226=\"\",\"\",貴校データ入力シート!G226)","v":""},{"$f":"IF(貴校データ入力シート!H226=\"\",\"\",貴校データ入力シート!H226)","v":""},{"$f":"IF(貴校データ入力シート!I226=\"\",\"\",貴校データ入力シート!I226)","v":""},{"$f":"IF(貴校データ入力シート!J226=\"\",\"\",貴校データ入力シート!J226)","v":""},{"$f":"IF(貴校データ入力シート!K226=\"\",\"\",貴校データ入力シート!K226)","v":""},{"$f":"IF(貴校データ入力シート!L226=\"\",\"\",貴校データ入力シート!L226)","v":""},{"$f":"IF(貴校データ入力シート!M226=\"\",\"\",貴校データ入力シート!M226)","v":""},{"$f":"IF(貴校データ入力シート!N226=\"\",\"\",貴校データ入力シート!N226)","v":""},{"$f":"IF(貴校データ入力シート!O226=\"\",\"\",貴校データ入力シート!O226)","v":""},{"$f":"IF(貴校データ入力シート!P226=\"\",\"\",貴校データ入力シート!P226)","v":""},{"$f":"IF(貴校データ入力シート!Q226=\"\",\"\",貴校データ入力シート!Q226)","v":""},{"$f":"IF(貴校データ入力シート!R226=\"\",\"\",貴校データ入力シート!R226)","v":""},{"$f":"IF(貴校データ入力シート!S226=\"\",\"\",貴校データ入力シート!S226)","v":""},{"$f":"IF(貴校データ入力シート!T226=\"\",\"\",貴校データ入力シート!T226)","v":""},{"$f":"IF(貴校データ入力シート!U226=\"\",\"\",貴校データ入力シート!U226)","v":""},{"$f":"IF(貴校データ入力シート!V226=\"\",\"\",貴校データ入力シート!V226)","v":""},{"$f":"IF(貴校データ入力シート!W226=\"\",\"\",貴校データ入力シート!W226)","v":""},{"$f":"IF(貴校データ入力シート!X226=\"\",\"\",貴校データ入力シート!X226)","v":""},{"$f":"IF(貴校データ入力シート!Y226=\"\",\"\",貴校データ入力シート!Y226)","v":""},{"$f":"IF(貴校データ入力シート!Z226=\"\",\"\",貴校データ入力シート!Z226)","v":""},{"$f":"IF(貴校データ入力シート!AA226=\"\",\"\",貴校データ入力シート!AA226)","v":""},{"$f":"IF(貴校データ入力シート!AB226=\"\",\"\",貴校データ入力シート!AB226)","v":""},null,null,{"$f":"SUM(K223:L223)","v":0}]
[79,"（５７）",{"$f":"IF(貴校データ入力シート!C227=\"\",\"\",貴校データ入力シート!C227)","v":"５年生までにうけた授業では、国語の授業で、先生は、あなたの学習のうまくできていないところはどこかを伝え、どうしたらうまくできるようになるかを教えてくれましたか"},null,null,null,null,null,null,null,{"$f":"IF(貴校データ入力シート!G227=\"\",\"\",貴校データ入力シート!G227)","v":""},{"$f":"IF(貴校データ入力シート!H227=\"\",\"\",貴校データ入力シート!H227)","v":""},{"$f":"IF(貴校データ入力シート!I227=\"\",\"\",貴校データ入力シート!I227)","v":""},{"$f":"IF(貴校データ入力シート!J227=\"\",\"\",貴校データ入力シート!J227)","v":""},{"$f":"IF(貴校データ入力シート!K227=\"\",\"\",貴校データ入力シート!K227)","v":""},{"$f":"IF(貴校データ入力シート!L227=\"\",\"\",貴校データ入力シート!L227)","v":""},{"$f":"IF(貴校データ入力シート!M227=\"\",\"\",貴校データ入力シート!M227)","v":""},{"$f":"IF(貴校データ入力シート!N227=\"\",\"\",貴校データ入力シート!N227)","v":""},{"$f":"IF(貴校データ入力シート!O227=\"\",\"\",貴校データ入力シート!O227)","v":""},{"$f":"IF(貴校データ入力シート!P227=\"\",\"\",貴校データ入力シート!P227)","v":""},{"$f":"IF(貴校データ入力シート!Q227=\"\",\"\",貴校データ入力シート!Q227)","v":""},{"$f":"IF(貴校データ入力シート!R227=\"\",\"\",貴校データ入力シート!R227)","v":""},{"$f":"IF(貴校データ入力シート!S227=\"\",\"\",貴校データ入力シート!S227)","v":""},{"$f":"IF(貴校データ入力シート!T227=\"\",\"\",貴校データ入力シート!T227)","v":""},{"$f":"IF(貴校データ入力シート!U227=\"\",\"\",貴校データ入力シート!U227)","v":""},{"$f":"IF(貴校データ入力シート!V227=\"\",\"\",貴校データ入力シート!V227)","v":""},{"$f":"IF(貴校データ入力シート!W227=\"\",\"\",貴校データ入力シート!W227)","v":""},{"$f":"IF(貴校データ入力シート!X227=\"\",\"\",貴校データ入力シート!X227)","v":""},{"$f":"IF(貴校データ入力シート!Y227=\"\",\"\",貴校データ入力シート!Y227)","v":""},{"$f":"IF(貴校データ入力シート!Z227=\"\",\"\",貴校データ入力シート!Z227)","v":""},{"$f":"IF(貴校データ入力シート!AA227=\"\",\"\",貴校データ入力シート!AA227)","v":""},{"$f":"IF(貴校データ入力シート!AB227=\"\",\"\",貴校データ入力シート!AB227)","v":""},null,null,null,{"$f":"AG225","v":0},{"$f":"AH226","v":0},{"$f":"AI227","v":0}]
[null,null,null,null,null,null,null,null,null,null,{"$f":"IF(貴校データ入力シート!G228=\"\",\"\",貴校データ入力シート!G228)","v":""},{"$f":"IF(貴校データ入力シート!H228=\"\",\"\",貴校データ入力シート!H228)","v":""},{"$f":"IF(貴校データ入力シート!I228=\"\",\"\",貴校データ入力シート!I228)","v":""},{"$f":"IF(貴校データ入力シート!J228=\"\",\"\",貴校データ入力シート!J228)","v":""},{"$f":"IF(貴校データ入力シート!K228=\"\",\"\",貴校データ入力シート!K228)","v":""},{"$f":"IF(貴校データ入力シート!L228=\"\",\"\",貴校データ入力シート!L228)","v":""},{"$f":"IF(貴校データ入力シート!M228=\"\",\"\",貴校データ入力シート!M228)","v":""},{"$f":"IF(貴校データ入力シート!N228=\"\",\"\",貴校データ入力シート!N228)","v":""},{"$f":"IF(貴校データ入力シート!O228=\"\",\"\",貴校データ入力シート!O228)","v":""},{"$f":"IF(貴校データ入力シート!P228=\"\",\"\",貴校データ入力シート!P228)","v":""},{"$f":"IF(貴校データ入力シート!Q228=\"\",\"\",貴校データ入力シート!Q228)","v":""},{"$f":"IF(貴校データ入力シート!R228=\"\",\"\",貴校データ入力シート!R228)","v":""},{"$f":"IF(貴校データ入力シート!S228=\"\",\"\",貴校データ入力シート!S228)","v":""},{"$f":"IF(貴校データ入力シート!T228=\"\",\"\",貴校データ入力シート!T228)","v":""},{"$f":"IF(貴校データ入力シート!U228=\"\",\"\",貴校データ入力シート!U228)","v":""},{"$f":"IF(貴校データ入力シート!V228=\"\",\"\",貴校データ入力シート!V228)","v":""},{"$f":"IF(貴校データ入力シート!W228=\"\",\"\",貴校データ入力シート!W228)","v":""},{"$f":"IF(貴校データ入力シート!X228=\"\",\"\",貴校データ入力シート!X228)","v":""},{"$f":"IF(貴校データ入力シート!Y228=\"\",\"\",貴校データ入力シート!Y228)","v":""},{"$f":"IF(貴校データ入力シート!Z228=\"\",\"\",貴校データ入力シート!Z228)","v":""},{"$f":"IF(貴校データ入力シート!AA228=\"\",\"\",貴校データ入力シート!AA228)","v":""},{"$f":"IF(貴校データ入力シート!AB228=\"\",\"\",貴校データ入力シート!AB228)","v":""},{"$f":"SUM(K225:L225)","v":0}]
[null,null,null,null,null,null,null,null,null,null,{"$f":"IF(貴校データ入力シート!G229=\"\",\"\",貴校データ入力シート!G229)","v":""},{"$f":"IF(貴校データ入力シート!H229=\"\",\"\",貴校データ入力シート!H229)","v":""},{"$f":"IF(貴校データ入力シート!I229=\"\",\"\",貴校データ入力シート!I229)","v":""},{"$f":"IF(貴校データ入力シート!J229=\"\",\"\",貴校データ入力シート!J229)","v":""},{"$f":"IF(貴校データ入力シート!K229=\"\",\"\",貴校データ入力シート!K229)","v":""},{"$f":"IF(貴校データ入力シート!L229=\"\",\"\",貴校データ入力シート!L229)","v":""},{"$f":"IF(貴校データ入力シート!M229=\"\",\"\",貴校データ入力シート!M229)","v":""},{"$f":"IF(貴校データ入力シート!N229=\"\",\"\",貴校データ入力シート!N229)","v":""},{"$f":"IF(貴校データ入力シート!O229=\"\",\"\",貴校データ入力シート!O229)","v":""},{"$f":"IF(貴校データ入力シート!P229=\"\",\"\",貴校データ入力シート!P229)","v":""},{"$f":"IF(貴校データ入力シート!Q229=\"\",\"\",貴校データ入力シート!Q229)","v":""},{"$f":"IF(貴校データ入力シート!R229=\"\",\"\",貴校データ入力シート!R229)","v":""},{"$f":"IF(貴校データ入力シート!S229=\"\",\"\",貴校データ入力シート!S229)","v":""},{"$f":"IF(貴校データ入力シート!T229=\"\",\"\",貴校データ入力シート!T229)","v":""},{"$f":"IF(貴校データ入力シート!U229=\"\",\"\",貴校データ入力シート!U229)","v":""},{"$f":"IF(貴校データ入力シート!V229=\"\",\"\",貴校データ入力シート!V229)","v":""},{"$f":"IF(貴校データ入力シート!W229=\"\",\"\",貴校データ入力シート!W229)","v":""},{"$f":"IF(貴校データ入力シート!X229=\"\",\"\",貴校データ入力シート!X229)","v":""},{"$f":"IF(貴校データ入力シート!Y229=\"\",\"\",貴校データ入力シート!Y229)","v":""},{"$f":"IF(貴校データ入力シート!Z229=\"\",\"\",貴校データ入力シート!Z229)","v":""},{"$f":"IF(貴校データ入力シート!AA229=\"\",\"\",貴校データ入力シート!AA229)","v":""},{"$f":"IF(貴校データ入力シート!AB229=\"\",\"\",貴校データ入力シート!AB229)","v":""},null,{"$f":"SUM(K226:L226)","v":0}]
[null,null,null,null,null,null,null,null,null,null,{"$f":"IF(貴校データ入力シート!G230=\"\",\"\",貴校データ入力シート!G230)","v":""},{"$f":"IF(貴校データ入力シート!H230=\"\",\"\",貴校データ入力シート!H230)","v":""},{"$f":"IF(貴校データ入力シート!I230=\"\",\"\",貴校データ入力シート!I230)","v":""},{"$f":"IF(貴校データ入力シート!J230=\"\",\"\",貴校データ入力シート!J230)","v":""},{"$f":"IF(貴校データ入力シート!K230=\"\",\"\",貴校データ入力シート!K230)","v":""},{"$f":"IF(貴校データ入力シート!L230=\"\",\"\",貴校データ入力シート!L230)","v":""},{"$f":"IF(貴校データ入力シート!M230=\"\",\"\",貴校データ入力シート!M230)","v":""},{"$f":"IF(貴校データ入力シート!N230=\"\",\"\",貴校データ入力シート!N230)","v":""},{"$f":"IF(貴校データ入力シート!O230=\"\",\"\",貴校データ入力シート!O230)","v":""},{"$f":"IF(貴校データ入力シート!P230=\"\",\"\",貴校データ入力シート!P230)","v":""},{"$f":"IF(貴校データ入力シート!Q230=\"\",\"\",貴校データ入力シート!Q230)","v":""},{"$f":"IF(貴校データ入力シート!R230=\"\",\"\",貴校データ入力シート!R230)","v":""},{"$f":"IF(貴校データ入力シート!S230=\"\",\"\",貴校データ入力シート!S230)","v":""},{"$f":"IF(貴校データ入力シート!T230=\"\",\"\",貴校データ入力シート!T230)","v":""},{"$f":"IF(貴校データ入力シート!U230=\"\",\"\",貴校データ入力シート!U230)","v":""},{"$f":"IF(貴校データ入力シート!V230=\"\",\"\",貴校データ入力シート!V230)","v":""},{"$f":"IF(貴校データ入力シート!W230=\"\",\"\",貴校データ入力シート!W230)","v":""},{"$f":"IF(貴校データ入力シート!X230=\"\",\"\",貴校データ入力シート!X230)","v":""},{"$f":"IF(貴校データ入力シート!Y230=\"\",\"\",貴校データ入力シート!Y230)","v":""},{"$f":"IF(貴校データ入力シート!Z230=\"\",\"\",貴校データ入力シート!Z230)","v":""},{"$f":"IF(貴校データ入力シート!AA230=\"\",\"\",貴校データ入力シート!AA230)","v":""},{"$f":"IF(貴校データ入力シート!AB230=\"\",\"\",貴校データ入力シート!AB230)","v":""},null,null,{"$f":"SUM(K227:L227)","v":0}]
[80,"（５８）",{"$f":"IF(貴校データ入力シート!C231=\"\",\"\",貴校データ入力シート!C231)","v":"５年生までにうけた授業では、国語の授業で、文章などを引用して、自分の考えが伝わるように書き表し方を工夫して文章を書いていましたか"},null,null,null,null,null,null,null,{"$f":"IF(貴校データ入力シート!G231=\"\",\"\",貴校データ入力シート!G231)","v":""},{"$f":"IF(貴校データ入力シート!H231=\"\",\"\",貴校データ入力シート!H231)","v":""},{"$f":"IF(貴校データ入力シート!I231=\"\",\"\",貴校データ入力シート!I231)","v":""},{"$f":"IF(貴校データ入力シート!J231=\"\",\"\",貴校データ入力シート!J231)","v":""},{"$f":"IF(貴校データ入力シート!K231=\"\",\"\",貴校データ入力シート!K231)","v":""},{"$f":"IF(貴校データ入力シート!L231=\"\",\"\",貴校データ入力シート!L231)","v":""},{"$f":"IF(貴校データ入力シート!M231=\"\",\"\",貴校データ入力シート!M231)","v":""},{"$f":"IF(貴校データ入力シート!N231=\"\",\"\",貴校データ入力シート!N231)","v":""},{"$f":"IF(貴校データ入力シート!O231=\"\",\"\",貴校データ入力シート!O231)","v":""},{"$f":"IF(貴校データ入力シート!P231=\"\",\"\",貴校データ入力シート!P231)","v":""},{"$f":"IF(貴校データ入力シート!Q231=\"\",\"\",貴校データ入力シート!Q231)","v":""},{"$f":"IF(貴校データ入力シート!R231=\"\",\"\",貴校データ入力シート!R231)","v":""},{"$f":"IF(貴校データ入力シート!S231=\"\",\"\",貴校データ入力シート!S231)","v":""},{"$f":"IF(貴校データ入力シート!T231=\"\",\"\",貴校データ入力シート!T231)","v":""},{"$f":"IF(貴校データ入力シート!U231=\"\",\"\",貴校データ入力シート!U231)","v":""},{"$f":"IF(貴校データ入力シート!V231=\"\",\"\",貴校データ入力シート!V231)","v":""},{"$f":"IF(貴校データ入力シート!W231=\"\",\"\",貴校データ入力シート!W231)","v":""},{"$f":"IF(貴校データ入力シート!X231=\"\",\"\",貴校データ入力シート!X231)","v":""},{"$f":"IF(貴校データ入力シート!Y231=\"\",\"\",貴校データ入力シート!Y231)","v":""},{"$f":"IF(貴校データ入力シート!Z231=\"\",\"\",貴校データ入力シート!Z231)","v":""},{"$f":"IF(貴校データ入力シート!AA231=\"\",\"\",貴校データ入力シート!AA231)","v":""},{"$f":"IF(貴校データ入力シート!AB231=\"\",\"\",貴校データ入力シート!AB231)","v":""},null,null,null,{"$f":"AG229","v":0},{"$f":"AH230","v":0},{"$f":"AI231","v":0}]
[null,null,null,null,null,null,null,null,null,null,{"$f":"IF(貴校データ入力シート!G232=\"\",\"\",貴校データ入力シート!G232)","v":""},{"$f":"IF(貴校データ入力シート!H232=\"\",\"\",貴校データ入力シート!H232)","v":""},{"$f":"IF(貴校データ入力シート!I232=\"\",\"\",貴校データ入力シート!I232)","v":""},{"$f":"IF(貴校データ入力シート!J232=\"\",\"\",貴校データ入力シート!J232)","v":""},{"$f":"IF(貴校データ入力シート!K232=\"\",\"\",貴校データ入力シート!K232)","v":""},{"$f":"IF(貴校データ入力シート!L232=\"\",\"\",貴校データ入力シート!L232)","v":""},{"$f":"IF(貴校データ入力シート!M232=\"\",\"\",貴校データ入力シート!M232)","v":""},{"$f":"IF(貴校データ入力シート!N232=\"\",\"\",貴校データ入力シート!N232)","v":""},{"$f":"IF(貴校データ入力シート!O232=\"\",\"\",貴校データ入力シート!O232)","v":""},{"$f":"IF(貴校データ入力シート!P232=\"\",\"\",貴校データ入力シート!P232)","v":""},{"$f":"IF(貴校データ入力シート!Q232=\"\",\"\",貴校データ入力シート!Q232)","v":""},{"$f":"IF(貴校データ入力シート!R232=\"\",\"\",貴校データ入力シート!R232)","v":""},{"$f":"IF(貴校データ入力シート!S232=\"\",\"\",貴校データ入力シート!S232)","v":""},{"$f":"IF(貴校データ入力シート!T232=\"\",\"\",貴校データ入力シート!T232)","v":""},{"$f":"IF(貴校データ入力シート!U232=\"\",\"\",貴校データ入力シート!U232)","v":""},{"$f":"IF(貴校データ入力シート!V232=\"\",\"\",貴校データ入力シート!V232)","v":""},{"$f":"IF(貴校データ入力シート!W232=\"\",\"\",貴校データ入力シート!W232)","v":""},{"$f":"IF(貴校データ入力シート!X232=\"\",\"\",貴校データ入力シート!X232)","v":""},{"$f":"IF(貴校データ入力シート!Y232=\"\",\"\",貴校データ入力シート!Y232)","v":""},{"$f":"IF(貴校データ入力シート!Z232=\"\",\"\",貴校データ入力シート!Z232)","v":""},{"$f":"IF(貴校データ入力シート!AA232=\"\",\"\",貴校データ入力シート!AA232)","v":""},{"$f":"IF(貴校データ入力シート!AB232=\"\",\"\",貴校データ入力シート!AB232)","v":""},{"$f":"SUM(K229:L229)","v":0}]
[null,null,null,null,null,null,null,null,null,null,{"$f":"IF(貴校データ入力シート!G233=\"\",\"\",貴校データ入力シート!G233)","v":""},{"$f":"IF(貴校データ入力シート!H233=\"\",\"\",貴校データ入力シート!H233)","v":""},{"$f":"IF(貴校データ入力シート!I233=\"\",\"\",貴校データ入力シート!I233)","v":""},{"$f":"IF(貴校データ入力シート!J233=\"\",\"\",貴校データ入力シート!J233)","v":""},{"$f":"IF(貴校データ入力シート!K233=\"\",\"\",貴校データ入力シート!K233)","v":""},{"$f":"IF(貴校データ入力シート!L233=\"\",\"\",貴校データ入力シート!L233)","v":""},{"$f":"IF(貴校データ入力シート!M233=\"\",\"\",貴校データ入力シート!M233)","v":""},{"$f":"IF(貴校データ入力シート!N233=\"\",\"\",貴校データ入力シート!N233)","v":""},{"$f":"IF(貴校データ入力シート!O233=\"\",\"\",貴校データ入力シート!O233)","v":""},{"$f":"IF(貴校データ入力シート!P233=\"\",\"\",貴校データ入力シート!P233)","v":""},{"$f":"IF(貴校データ入力シート!Q233=\"\",\"\",貴校データ入力シート!Q233)","v":""},{"$f":"IF(貴校データ入力シート!R233=\"\",\"\",貴校データ入力シート!R233)","v":""},{"$f":"IF(貴校データ入力シート!S233=\"\",\"\",貴校データ入力シート!S233)","v":""},{"$f":"IF(貴校データ入力シート!T233=\"\",\"\",貴校データ入力シート!T233)","v":""},{"$f":"IF(貴校データ入力シート!U233=\"\",\"\",貴校データ入力シート!U233)","v":""},{"$f":"IF(貴校データ入力シート!V233=\"\",\"\",貴校データ入力シート!V233)","v":""},{"$f":"IF(貴校データ入力シート!W233=\"\",\"\",貴校データ入力シート!W233)","v":""},{"$f":"IF(貴校データ入力シート!X233=\"\",\"\",貴校データ入力シート!X233)","v":""},{"$f":"IF(貴校データ入力シート!Y233=\"\",\"\",貴校データ入力シート!Y233)","v":""},{"$f":"IF(貴校データ入力シート!Z233=\"\",\"\",貴校データ入力シート!Z233)","v":""},{"$f":"IF(貴校データ入力シート!AA233=\"\",\"\",貴校データ入力シート!AA233)","v":""},{"$f":"IF(貴校データ入力シート!AB233=\"\",\"\",貴校データ入力シート!AB233)","v":""},null,{"$f":"SUM(K230:L230)","v":0}]
[null,null,null,null,null,null,null,null,null,null,{"$f":"IF(貴校データ入力シート!G234=\"\",\"\",貴校データ入力シート!G234)","v":""},{"$f":"IF(貴校データ入力シート!H234=\"\",\"\",貴校データ入力シート!H234)","v":""},{"$f":"IF(貴校データ入力シート!I234=\"\",\"\",貴校データ入力シート!I234)","v":""},{"$f":"IF(貴校データ入力シート!J234=\"\",\"\",貴校データ入力シート!J234)","v":""},{"$f":"IF(貴校データ入力シート!K234=\"\",\"\",貴校データ入力シート!K234)","v":""},{"$f":"IF(貴校データ入力シート!L234=\"\",\"\",貴校データ入力シート!L234)","v":""},{"$f":"IF(貴校データ入力シート!M234=\"\",\"\",貴校データ入力シート!M234)","v":""},{"$f":"IF(貴校データ入力シート!N234=\"\",\"\",貴校データ入力シート!N234)","v":""},{"$f":"IF(貴校データ入力シート!O234=\"\",\"\",貴校データ入力シート!O234)","v":""},{"$f":"IF(貴校データ入力シート!P234=\"\",\"\",貴校データ入力シート!P234)","v":""},{"$f":"IF(貴校データ入力シート!Q234=\"\",\"\",貴校データ入力シート!Q234)","v":""},{"$f":"IF(貴校データ入力シート!R234=\"\",\"\",貴校データ入力シート!R234)","v":""},{"$f":"IF(貴校データ入力シート!S234=\"\",\"\",貴校データ入力シート!S234)","v":""},{"$f":"IF(貴校データ入力シート!T234=\"\",\"\",貴校データ入力シート!T234)","v":""},{"$f":"IF(貴校データ入力シート!U234=\"\",\"\",貴校データ入力シート!U234)","v":""},{"$f":"IF(貴校データ入力シート!V234=\"\",\"\",貴校データ入力シート!V234)","v":""},{"$f":"IF(貴校データ入力シート!W234=\"\",\"\",貴校データ入力シート!W234)","v":""},{"$f":"IF(貴校データ入力シート!X234=\"\",\"\",貴校データ入力シート!X234)","v":""},{"$f":"IF(貴校データ入力シート!Y234=\"\",\"\",貴校データ入力シート!Y234)","v":""},{"$f":"IF(貴校データ入力シート!Z234=\"\",\"\",貴校データ入力シート!Z234)","v":""},{"$f":"IF(貴校データ入力シート!AA234=\"\",\"\",貴校データ入力シート!AA234)","v":""},{"$f":"IF(貴校データ入力シート!AB234=\"\",\"\",貴校データ入力シート!AB234)","v":""},null,null,{"$f":"SUM(K231:L231)","v":0}]
[81,"（５９）",{"$f":"IF(貴校データ入力シート!C235=\"\",\"\",貴校データ入力シート!C235)","v":"５年生までにうけた授業では、国語の授業で、文章を読んで理解したことに基づいて、自分の考えをまとめていましたか"},null,null,null,null,null,null,null,{"$f":"IF(貴校データ入力シート!G235=\"\",\"\",貴校データ入力シート!G235)","v":""},{"$f":"IF(貴校データ入力シート!H235=\"\",\"\",貴校データ入力シート!H235)","v":""},{"$f":"IF(貴校データ入力シート!I235=\"\",\"\",貴校データ入力シート!I235)","v":""},{"$f":"IF(貴校データ入力シート!J235=\"\",\"\",貴校データ入力シート!J235)","v":""},{"$f":"IF(貴校データ入力シート!K235=\"\",\"\",貴校データ入力シート!K235)","v":""},{"$f":"IF(貴校データ入力シート!L235=\"\",\"\",貴校データ入力シート!L235)","v":""},{"$f":"IF(貴校データ入力シート!M235=\"\",\"\",貴校データ入力シート!M235)","v":""},{"$f":"IF(貴校データ入力シート!N235=\"\",\"\",貴校データ入力シート!N235)","v":""},{"$f":"IF(貴校データ入力シート!O235=\"\",\"\",貴校データ入力シート!O235)","v":""},{"$f":"IF(貴校データ入力シート!P235=\"\",\"\",貴校データ入力シート!P235)","v":""},{"$f":"IF(貴校データ入力シート!Q235=\"\",\"\",貴校データ入力シート!Q235)","v":""},{"$f":"IF(貴校データ入力シート!R235=\"\",\"\",貴校データ入力シート!R235)","v":""},{"$f":"IF(貴校データ入力シート!S235=\"\",\"\",貴校データ入力シート!S235)","v":""},{"$f":"IF(貴校データ入力シート!T235=\"\",\"\",貴校データ入力シート!T235)","v":""},{"$f":"IF(貴校データ入力シート!U235=\"\",\"\",貴校データ入力シート!U235)","v":""},{"$f":"IF(貴校データ入力シート!V235=\"\",\"\",貴校データ入力シート!V235)","v":""},{"$f":"IF(貴校データ入力シート!W235=\"\",\"\",貴校データ入力シート!W235)","v":""},{"$f":"IF(貴校データ入力シート!X235=\"\",\"\",貴校データ入力シート!X235)","v":""},{"$f":"IF(貴校データ入力シート!Y235=\"\",\"\",貴校データ入力シート!Y235)","v":""},{"$f":"IF(貴校データ入力シート!Z235=\"\",\"\",貴校データ入力シート!Z235)","v":""},{"$f":"IF(貴校データ入力シート!AA235=\"\",\"\",貴校データ入力シート!AA235)","v":""},{"$f":"IF(貴校データ入力シート!AB235=\"\",\"\",貴校データ入力シート!AB235)","v":""},null,null,null,{"$f":"AG233","v":0},{"$f":"AH234","v":0},{"$f":"AI235","v":0}]
[null,null,null,null,null,null,null,null,null,null,{"$f":"IF(貴校データ入力シート!G236=\"\",\"\",貴校データ入力シート!G236)","v":""},{"$f":"IF(貴校データ入力シート!H236=\"\",\"\",貴校データ入力シート!H236)","v":""},{"$f":"IF(貴校データ入力シート!I236=\"\",\"\",貴校データ入力シート!I236)","v":""},{"$f":"IF(貴校データ入力シート!J236=\"\",\"\",貴校データ入力シート!J236)","v":""},{"$f":"IF(貴校データ入力シート!K236=\"\",\"\",貴校データ入力シート!K236)","v":""},{"$f":"IF(貴校データ入力シート!L236=\"\",\"\",貴校データ入力シート!L236)","v":""},{"$f":"IF(貴校データ入力シート!M236=\"\",\"\",貴校データ入力シート!M236)","v":""},{"$f":"IF(貴校データ入力シート!N236=\"\",\"\",貴校データ入力シート!N236)","v":""},{"$f":"IF(貴校データ入力シート!O236=\"\",\"\",貴校データ入力シート!O236)","v":""},{"$f":"IF(貴校データ入力シート!P236=\"\",\"\",貴校データ入力シート!P236)","v":""},{"$f":"IF(貴校データ入力シート!Q236=\"\",\"\",貴校データ入力シート!Q236)","v":""},{"$f":"IF(貴校データ入力シート!R236=\"\",\"\",貴校データ入力シート!R236)","v":""},{"$f":"IF(貴校データ入力シート!S236=\"\",\"\",貴校データ入力シート!S236)","v":""},{"$f":"IF(貴校データ入力シート!T236=\"\",\"\",貴校データ入力シート!T236)","v":""},{"$f":"IF(貴校データ入力シート!U236=\"\",\"\",貴校データ入力シート!U236)","v":""},{"$f":"IF(貴校データ入力シート!V236=\"\",\"\",貴校データ入力シート!V236)","v":""},{"$f":"IF(貴校データ入力シート!W236=\"\",\"\",貴校データ入力シート!W236)","v":""},{"$f":"IF(貴校データ入力シート!X236=\"\",\"\",貴校データ入力シート!X236)","v":""},{"$f":"IF(貴校データ入力シート!Y236=\"\",\"\",貴校データ入力シート!Y236)","v":""},{"$f":"IF(貴校データ入力シート!Z236=\"\",\"\",貴校データ入力シート!Z236)","v":""},{"$f":"IF(貴校データ入力シート!AA236=\"\",\"\",貴校データ入力シート!AA236)","v":""},{"$f":"IF(貴校データ入力シート!AB236=\"\",\"\",貴校データ入力シート!AB236)","v":""},{"$f":"SUM(K233:L233)","v":0}]
[null,null,null,null,null,null,null,null,null,null,{"$f":"IF(貴校データ入力シート!G237=\"\",\"\",貴校データ入力シート!G237)","v":""},{"$f":"IF(貴校データ入力シート!H237=\"\",\"\",貴校データ入力シート!H237)","v":""},{"$f":"IF(貴校データ入力シート!I237=\"\",\"\",貴校データ入力シート!I237)","v":""},{"$f":"IF(貴校データ入力シート!J237=\"\",\"\",貴校データ入力シート!J237)","v":""},{"$f":"IF(貴校データ入力シート!K237=\"\",\"\",貴校データ入力シート!K237)","v":""},{"$f":"IF(貴校データ入力シート!L237=\"\",\"\",貴校データ入力シート!L237)","v":""},{"$f":"IF(貴校データ入力シート!M237=\"\",\"\",貴校データ入力シート!M237)","v":""},{"$f":"IF(貴校データ入力シート!N237=\"\",\"\",貴校データ入力シート!N237)","v":""},{"$f":"IF(貴校データ入力シート!O237=\"\",\"\",貴校データ入力シート!O237)","v":""},{"$f":"IF(貴校データ入力シート!P237=\"\",\"\",貴校データ入力シート!P237)","v":""},{"$f":"IF(貴校データ入力シート!Q237=\"\",\"\",貴校データ入力シート!Q237)","v":""},{"$f":"IF(貴校データ入力シート!R237=\"\",\"\",貴校データ入力シート!R237)","v":""},{"$f":"IF(貴校データ入力シート!S237=\"\",\"\",貴校データ入力シート!S237)","v":""},{"$f":"IF(貴校データ入力シート!T237=\"\",\"\",貴校データ入力シート!T237)","v":""},{"$f":"IF(貴校データ入力シート!U237=\"\",\"\",貴校データ入力シート!U237)","v":""},{"$f":"IF(貴校データ入力シート!V237=\"\",\"\",貴校データ入力シート!V237)","v":""},{"$f":"IF(貴校データ入力シート!W237=\"\",\"\",貴校データ入力シート!W237)","v":""},{"$f":"IF(貴校データ入力シート!X237=\"\",\"\",貴校データ入力シート!X237)","v":""},{"$f":"IF(貴校データ入力シート!Y237=\"\",\"\",貴校データ入力シート!Y237)","v":""},{"$f":"IF(貴校データ入力シート!Z237=\"\",\"\",貴校データ入力シート!Z237)","v":""},{"$f":"IF(貴校データ入力シート!AA237=\"\",\"\",貴校データ入力シート!AA237)","v":""},{"$f":"IF(貴校データ入力シート!AB237=\"\",\"\",貴校データ入力シート!AB237)","v":""},null,{"$f":"SUM(K234:L234)","v":0}]
[null,null,null,null,null,null,null,null,null,null,{"$f":"IF(貴校データ入力シート!G238=\"\",\"\",貴校データ入力シート!G238)","v":""},{"$f":"IF(貴校データ入力シート!H238=\"\",\"\",貴校データ入力シート!H238)","v":""},{"$f":"IF(貴校データ入力シート!I238=\"\",\"\",貴校データ入力シート!I238)","v":""},{"$f":"IF(貴校データ入力シート!J238=\"\",\"\",貴校データ入力シート!J238)","v":""},{"$f":"IF(貴校データ入力シート!K238=\"\",\"\",貴校データ入力シート!K238)","v":""},{"$f":"IF(貴校データ入力シート!L238=\"\",\"\",貴校データ入力シート!L238)","v":""},{"$f":"IF(貴校データ入力シート!M238=\"\",\"\",貴校データ入力シート!M238)","v":""},{"$f":"IF(貴校データ入力シート!N238=\"\",\"\",貴校データ入力シート!N238)","v":""},{"$f":"IF(貴校データ入力シート!O238=\"\",\"\",貴校データ入力シート!O238)","v":""},{"$f":"IF(貴校データ入力シート!P238=\"\",\"\",貴校データ入力シート!P238)","v":""},{"$f":"IF(貴校データ入力シート!Q238=\"\",\"\",貴校データ入力シート!Q238)","v":""},{"$f":"IF(貴校データ入力シート!R238=\"\",\"\",貴校データ入力シート!R238)","v":""},{"$f":"IF(貴校データ入力シート!S238=\"\",\"\",貴校データ入力シート!S238)","v":""},{"$f":"IF(貴校データ入力シート!T238=\"\",\"\",貴校データ入力シート!T238)","v":""},{"$f":"IF(貴校データ入力シート!U238=\"\",\"\",貴校データ入力シート!U238)","v":""},{"$f":"IF(貴校データ入力シート!V238=\"\",\"\",貴校データ入力シート!V238)","v":""},{"$f":"IF(貴校データ入力シート!W238=\"\",\"\",貴校データ入力シート!W238)","v":""},{"$f":"IF(貴校データ入力シート!X238=\"\",\"\",貴校データ入力シート!X238)","v":""},{"$f":"IF(貴校データ入力シート!Y238=\"\",\"\",貴校データ入力シート!Y238)","v":""},{"$f":"IF(貴校データ入力シート!Z238=\"\",\"\",貴校データ入力シート!Z238)","v":""},{"$f":"IF(貴校データ入力シート!AA238=\"\",\"\",貴校データ入力シート!AA238)","v":""},{"$f":"IF(貴校データ入力シート!AB238=\"\",\"\",貴校データ入力シート!AB238)","v":""},null,null,{"$f":"SUM(K235:L235)","v":0}]
[82,"（６０）",{"$f":"IF(貴校データ入力シート!C239=\"\",\"\",貴校データ入力シート!C239)","v":"算数の勉強は得意ですか"},null,null,null,null,null,null,null,{"$f":"IF(貴校データ入力シート!G239=\"\",\"\",貴校データ入力シート!G239)","v":""},{"$f":"IF(貴校データ入力シート!H239=\"\",\"\",貴校データ入力シート!H239)","v":""},{"$f":"IF(貴校データ入力シート!I239=\"\",\"\",貴校データ入力シート!I239)","v":""},{"$f":"IF(貴校データ入力シート!J239=\"\",\"\",貴校データ入力シート!J239)","v":""},{"$f":"IF(貴校データ入力シート!K239=\"\",\"\",貴校データ入力シート!K239)","v":""},{"$f":"IF(貴校データ入力シート!L239=\"\",\"\",貴校データ入力シート!L239)","v":""},{"$f":"IF(貴校データ入力シート!M239=\"\",\"\",貴校データ入力シート!M239)","v":""},{"$f":"IF(貴校データ入力シート!N239=\"\",\"\",貴校データ入力シート!N239)","v":""},{"$f":"IF(貴校データ入力シート!O239=\"\",\"\",貴校データ入力シート!O239)","v":""},{"$f":"IF(貴校データ入力シート!P239=\"\",\"\",貴校データ入力シート!P239)","v":""},{"$f":"IF(貴校データ入力シート!Q239=\"\",\"\",貴校データ入力シート!Q239)","v":""},{"$f":"IF(貴校データ入力シート!R239=\"\",\"\",貴校データ入力シート!R239)","v":""},{"$f":"IF(貴校データ入力シート!S239=\"\",\"\",貴校データ入力シート!S239)","v":""},{"$f":"IF(貴校データ入力シート!T239=\"\",\"\",貴校データ入力シート!T239)","v":""},{"$f":"IF(貴校データ入力シート!U239=\"\",\"\",貴校データ入力シート!U239)","v":""},{"$f":"IF(貴校データ入力シート!V239=\"\",\"\",貴校データ入力シート!V239)","v":""},{"$f":"IF(貴校データ入力シート!W239=\"\",\"\",貴校データ入力シート!W239)","v":""},{"$f":"IF(貴校データ入力シート!X239=\"\",\"\",貴校データ入力シート!X239)","v":""},{"$f":"IF(貴校データ入力シート!Y239=\"\",\"\",貴校データ入力シート!Y239)","v":""},{"$f":"IF(貴校データ入力シート!Z239=\"\",\"\",貴校データ入力シート!Z239)","v":""},{"$f":"IF(貴校データ入力シート!AA239=\"\",\"\",貴校データ入力シート!AA239)","v":""},{"$f":"IF(貴校データ入力シート!AB239=\"\",\"\",貴校データ入力シート!AB239)","v":""},null,null,null,{"$f":"AG237","v":0},{"$f":"AH238","v":0},{"$f":"AI239","v":0}]
[null,null,null,null,null,null,null,null,null,null,{"$f":"IF(貴校データ入力シート!G240=\"\",\"\",貴校データ入力シート!G240)","v":""},{"$f":"IF(貴校データ入力シート!H240=\"\",\"\",貴校データ入力シート!H240)","v":""},{"$f":"IF(貴校データ入力シート!I240=\"\",\"\",貴校データ入力シート!I240)","v":""},{"$f":"IF(貴校データ入力シート!J240=\"\",\"\",貴校データ入力シート!J240)","v":""},{"$f":"IF(貴校データ入力シート!K240=\"\",\"\",貴校データ入力シート!K240)","v":""},{"$f":"IF(貴校データ入力シート!L240=\"\",\"\",貴校データ入力シート!L240)","v":""},{"$f":"IF(貴校データ入力シート!M240=\"\",\"\",貴校データ入力シート!M240)","v":""},{"$f":"IF(貴校データ入力シート!N240=\"\",\"\",貴校データ入力シート!N240)","v":""},{"$f":"IF(貴校データ入力シート!O240=\"\",\"\",貴校データ入力シート!O240)","v":""},{"$f":"IF(貴校データ入力シート!P240=\"\",\"\",貴校データ入力シート!P240)","v":""},{"$f":"IF(貴校データ入力シート!Q240=\"\",\"\",貴校データ入力シート!Q240)","v":""},{"$f":"IF(貴校データ入力シート!R240=\"\",\"\",貴校データ入力シート!R240)","v":""},{"$f":"IF(貴校データ入力シート!S240=\"\",\"\",貴校データ入力シート!S240)","v":""},{"$f":"IF(貴校データ入力シート!T240=\"\",\"\",貴校データ入力シート!T240)","v":""},{"$f":"IF(貴校データ入力シート!U240=\"\",\"\",貴校データ入力シート!U240)","v":""},{"$f":"IF(貴校データ入力シート!V240=\"\",\"\",貴校データ入力シート!V240)","v":""},{"$f":"IF(貴校データ入力シート!W240=\"\",\"\",貴校データ入力シート!W240)","v":""},{"$f":"IF(貴校データ入力シート!X240=\"\",\"\",貴校データ入力シート!X240)","v":""},{"$f":"IF(貴校データ入力シート!Y240=\"\",\"\",貴校データ入力シート!Y240)","v":""},{"$f":"IF(貴校データ入力シート!Z240=\"\",\"\",貴校データ入力シート!Z240)","v":""},{"$f":"IF(貴校データ入力シート!AA240=\"\",\"\",貴校データ入力シート!AA240)","v":""},{"$f":"IF(貴校データ入力シート!AB240=\"\",\"\",貴校データ入力シート!AB240)","v":""},{"$f":"SUM(K237:L237)","v":0}]
[null,null,null,null,null,null,null,null,null,null,{"$f":"IF(貴校データ入力シート!G241=\"\",\"\",貴校データ入力シート!G241)","v":""},{"$f":"IF(貴校データ入力シート!H241=\"\",\"\",貴校データ入力シート!H241)","v":""},{"$f":"IF(貴校データ入力シート!I241=\"\",\"\",貴校データ入力シート!I241)","v":""},{"$f":"IF(貴校データ入力シート!J241=\"\",\"\",貴校データ入力シート!J241)","v":""},{"$f":"IF(貴校データ入力シート!K241=\"\",\"\",貴校データ入力シート!K241)","v":""},{"$f":"IF(貴校データ入力シート!L241=\"\",\"\",貴校データ入力シート!L241)","v":""},{"$f":"IF(貴校データ入力シート!M241=\"\",\"\",貴校データ入力シート!M241)","v":""},{"$f":"IF(貴校データ入力シート!N241=\"\",\"\",貴校データ入力シート!N241)","v":""},{"$f":"IF(貴校データ入力シート!O241=\"\",\"\",貴校データ入力シート!O241)","v":""},{"$f":"IF(貴校データ入力シート!P241=\"\",\"\",貴校データ入力シート!P241)","v":""},{"$f":"IF(貴校データ入力シート!Q241=\"\",\"\",貴校データ入力シート!Q241)","v":""},{"$f":"IF(貴校データ入力シート!R241=\"\",\"\",貴校データ入力シート!R241)","v":""},{"$f":"IF(貴校データ入力シート!S241=\"\",\"\",貴校データ入力シート!S241)","v":""},{"$f":"IF(貴校データ入力シート!T241=\"\",\"\",貴校データ入力シート!T241)","v":""},{"$f":"IF(貴校データ入力シート!U241=\"\",\"\",貴校データ入力シート!U241)","v":""},{"$f":"IF(貴校データ入力シート!V241=\"\",\"\",貴校データ入力シート!V241)","v":""},{"$f":"IF(貴校データ入力シート!W241=\"\",\"\",貴校データ入力シート!W241)","v":""},{"$f":"IF(貴校データ入力シート!X241=\"\",\"\",貴校データ入力シート!X241)","v":""},{"$f":"IF(貴校データ入力シート!Y241=\"\",\"\",貴校データ入力シート!Y241)","v":""},{"$f":"IF(貴校データ入力シート!Z241=\"\",\"\",貴校データ入力シート!Z241)","v":""},{"$f":"IF(貴校データ入力シート!AA241=\"\",\"\",貴校データ入力シート!AA241)","v":""},{"$f":"IF(貴校データ入力シート!AB241=\"\",\"\",貴校データ入力シート!AB241)","v":""},null,{"$f":"SUM(K238:L238)","v":0}]
[null,null,null,null,null,null,null,null,null,null,{"$f":"IF(貴校データ入力シート!G242=\"\",\"\",貴校データ入力シート!G242)","v":""},{"$f":"IF(貴校データ入力シート!H242=\"\",\"\",貴校データ入力シート!H242)","v":""},{"$f":"IF(貴校データ入力シート!I242=\"\",\"\",貴校データ入力シート!I242)","v":""},{"$f":"IF(貴校データ入力シート!J242=\"\",\"\",貴校データ入力シート!J242)","v":""},{"$f":"IF(貴校データ入力シート!K242=\"\",\"\",貴校データ入力シート!K242)","v":""},{"$f":"IF(貴校データ入力シート!L242=\"\",\"\",貴校データ入力シート!L242)","v":""},{"$f":"IF(貴校データ入力シート!M242=\"\",\"\",貴校データ入力シート!M242)","v":""},{"$f":"IF(貴校データ入力シート!N242=\"\",\"\",貴校データ入力シート!N242)","v":""},{"$f":"IF(貴校データ入力シート!O242=\"\",\"\",貴校データ入力シート!O242)","v":""},{"$f":"IF(貴校データ入力シート!P242=\"\",\"\",貴校データ入力シート!P242)","v":""},{"$f":"IF(貴校データ入力シート!Q242=\"\",\"\",貴校データ入力シート!Q242)","v":""},{"$f":"IF(貴校データ入力シート!R242=\"\",\"\",貴校データ入力シート!R242)","v":""},{"$f":"IF(貴校データ入力シート!S242=\"\",\"\",貴校データ入力シート!S242)","v":""},{"$f":"IF(貴校データ入力シート!T242=\"\",\"\",貴校データ入力シート!T242)","v":""},{"$f":"IF(貴校データ入力シート!U242=\"\",\"\",貴校データ入力シート!U242)","v":""},{"$f":"IF(貴校データ入力シート!V242=\"\",\"\",貴校データ入力シート!V242)","v":""},{"$f":"IF(貴校データ入力シート!W242=\"\",\"\",貴校データ入力シート!W242)","v":""},{"$f":"IF(貴校データ入力シート!X242=\"\",\"\",貴校データ入力シート!X242)","v":""},{"$f":"IF(貴校データ入力シート!Y242=\"\",\"\",貴校データ入力シート!Y242)","v":""},{"$f":"IF(貴校データ入力シート!Z242=\"\",\"\",貴校データ入力シート!Z242)","v":""},{"$f":"IF(貴校データ入力シート!AA242=\"\",\"\",貴校データ入力シート!AA242)","v":""},{"$f":"IF(貴校データ入力シート!AB242=\"\",\"\",貴校データ入力シート!AB242)","v":""},null,null,{"$f":"SUM(K239:L239)","v":0}]
[83,"（６１）",{"$f":"IF(貴校データ入力シート!C243=\"\",\"\",貴校データ入力シート!C243)","v":"算数の勉強は好きですか"},null,null,null,null,null,null,null,{"$f":"IF(貴校データ入力シート!G243=\"\",\"\",貴校データ入力シート!G243)","v":""},{"$f":"IF(貴校データ入力シート!H243=\"\",\"\",貴校データ入力シート!H243)","v":""},{"$f":"IF(貴校データ入力シート!I243=\"\",\"\",貴校データ入力シート!I243)","v":""},{"$f":"IF(貴校データ入力シート!J243=\"\",\"\",貴校データ入力シート!J243)","v":""},{"$f":"IF(貴校データ入力シート!K243=\"\",\"\",貴校データ入力シート!K243)","v":""},{"$f":"IF(貴校データ入力シート!L243=\"\",\"\",貴校データ入力シート!L243)","v":""},{"$f":"IF(貴校データ入力シート!M243=\"\",\"\",貴校データ入力シート!M243)","v":""},{"$f":"IF(貴校データ入力シート!N243=\"\",\"\",貴校データ入力シート!N243)","v":""},{"$f":"IF(貴校データ入力シート!O243=\"\",\"\",貴校データ入力シート!O243)","v":""},{"$f":"IF(貴校データ入力シート!P243=\"\",\"\",貴校データ入力シート!P243)","v":""},{"$f":"IF(貴校データ入力シート!Q243=\"\",\"\",貴校データ入力シート!Q243)","v":""},{"$f":"IF(貴校データ入力シート!R243=\"\",\"\",貴校データ入力シート!R243)","v":""},{"$f":"IF(貴校データ入力シート!S243=\"\",\"\",貴校データ入力シート!S243)","v":""},{"$f":"IF(貴校データ入力シート!T243=\"\",\"\",貴校データ入力シート!T243)","v":""},{"$f":"IF(貴校データ入力シート!U243=\"\",\"\",貴校データ入力シート!U243)","v":""},{"$f":"IF(貴校データ入力シート!V243=\"\",\"\",貴校データ入力シート!V243)","v":""},{"$f":"IF(貴校データ入力シート!W243=\"\",\"\",貴校データ入力シート!W243)","v":""},{"$f":"IF(貴校データ入力シート!X243=\"\",\"\",貴校データ入力シート!X243)","v":""},{"$f":"IF(貴校データ入力シート!Y243=\"\",\"\",貴校データ入力シート!Y243)","v":""},{"$f":"IF(貴校データ入力シート!Z243=\"\",\"\",貴校データ入力シート!Z243)","v":""},{"$f":"IF(貴校データ入力シート!AA243=\"\",\"\",貴校データ入力シート!AA243)","v":""},{"$f":"IF(貴校データ入力シート!AB243=\"\",\"\",貴校データ入力シート!AB243)","v":""},null,null,null,{"$f":"AG241","v":0},{"$f":"AH242","v":0},{"$f":"AI243","v":0}]
[null,null,null,null,null,null,null,null,null,null,{"$f":"IF(貴校データ入力シート!G244=\"\",\"\",貴校データ入力シート!G244)","v":""},{"$f":"IF(貴校データ入力シート!H244=\"\",\"\",貴校データ入力シート!H244)","v":""},{"$f":"IF(貴校データ入力シート!I244=\"\",\"\",貴校データ入力シート!I244)","v":""},{"$f":"IF(貴校データ入力シート!J244=\"\",\"\",貴校データ入力シート!J244)","v":""},{"$f":"IF(貴校データ入力シート!K244=\"\",\"\",貴校データ入力シート!K244)","v":""},{"$f":"IF(貴校データ入力シート!L244=\"\",\"\",貴校データ入力シート!L244)","v":""},{"$f":"IF(貴校データ入力シート!M244=\"\",\"\",貴校データ入力シート!M244)","v":""},{"$f":"IF(貴校データ入力シート!N244=\"\",\"\",貴校データ入力シート!N244)","v":""},{"$f":"IF(貴校データ入力シート!O244=\"\",\"\",貴校データ入力シート!O244)","v":""},{"$f":"IF(貴校データ入力シート!P244=\"\",\"\",貴校データ入力シート!P244)","v":""},{"$f":"IF(貴校データ入力シート!Q244=\"\",\"\",貴校データ入力シート!Q244)","v":""},{"$f":"IF(貴校データ入力シート!R244=\"\",\"\",貴校データ入力シート!R244)","v":""},{"$f":"IF(貴校データ入力シート!S244=\"\",\"\",貴校データ入力シート!S244)","v":""},{"$f":"IF(貴校データ入力シート!T244=\"\",\"\",貴校データ入力シート!T244)","v":""},{"$f":"IF(貴校データ入力シート!U244=\"\",\"\",貴校データ入力シート!U244)","v":""},{"$f":"IF(貴校データ入力シート!V244=\"\",\"\",貴校データ入力シート!V244)","v":""},{"$f":"IF(貴校データ入力シート!W244=\"\",\"\",貴校データ入力シート!W244)","v":""},{"$f":"IF(貴校データ入力シート!X244=\"\",\"\",貴校データ入力シート!X244)","v":""},{"$f":"IF(貴校データ入力シート!Y244=\"\",\"\",貴校データ入力シート!Y244)","v":""},{"$f":"IF(貴校データ入力シート!Z244=\"\",\"\",貴校データ入力シート!Z244)","v":""},{"$f":"IF(貴校データ入力シート!AA244=\"\",\"\",貴校データ入力シート!AA244)","v":""},{"$f":"IF(貴校データ入力シート!AB244=\"\",\"\",貴校データ入力シート!AB244)","v":""},{"$f":"SUM(K241:L241)","v":0}]
[null,null,null,null,null,null,null,null,null,null,{"$f":"IF(貴校データ入力シート!G245=\"\",\"\",貴校データ入力シート!G245)","v":""},{"$f":"IF(貴校データ入力シート!H245=\"\",\"\",貴校データ入力シート!H245)","v":""},{"$f":"IF(貴校データ入力シート!I245=\"\",\"\",貴校データ入力シート!I245)","v":""},{"$f":"IF(貴校データ入力シート!J245=\"\",\"\",貴校データ入力シート!J245)","v":""},{"$f":"IF(貴校データ入力シート!K245=\"\",\"\",貴校データ入力シート!K245)","v":""},{"$f":"IF(貴校データ入力シート!L245=\"\",\"\",貴校データ入力シート!L245)","v":""},{"$f":"IF(貴校データ入力シート!M245=\"\",\"\",貴校データ入力シート!M245)","v":""},{"$f":"IF(貴校データ入力シート!N245=\"\",\"\",貴校データ入力シート!N245)","v":""},{"$f":"IF(貴校データ入力シート!O245=\"\",\"\",貴校データ入力シート!O245)","v":""},{"$f":"IF(貴校データ入力シート!P245=\"\",\"\",貴校データ入力シート!P245)","v":""},{"$f":"IF(貴校データ入力シート!Q245=\"\",\"\",貴校データ入力シート!Q245)","v":""},{"$f":"IF(貴校データ入力シート!R245=\"\",\"\",貴校データ入力シート!R245)","v":""},{"$f":"IF(貴校データ入力シート!S245=\"\",\"\",貴校データ入力シート!S245)","v":""},{"$f":"IF(貴校データ入力シート!T245=\"\",\"\",貴校データ入力シート!T245)","v":""},{"$f":"IF(貴校データ入力シート!U245=\"\",\"\",貴校データ入力シート!U245)","v":""},{"$f":"IF(貴校データ入力シート!V245=\"\",\"\",貴校データ入力シート!V245)","v":""},{"$f":"IF(貴校データ入力シート!W245=\"\",\"\",貴校データ入力シート!W245)","v":""},{"$f":"IF(貴校データ入力シート!X245=\"\",\"\",貴校データ入力シート!X245)","v":""},{"$f":"IF(貴校データ入力シート!Y245=\"\",\"\",貴校データ入力シート!Y245)","v":""},{"$f":"IF(貴校データ入力シート!Z245=\"\",\"\",貴校データ入力シート!Z245)","v":""},{"$f":"IF(貴校データ入力シート!AA245=\"\",\"\",貴校データ入力シート!AA245)","v":""},{"$f":"IF(貴校データ入力シート!AB245=\"\",\"\",貴校データ入力シート!AB245)","v":""},null,{"$f":"SUM(K242:L242)","v":0}]
[null,null,null,null,null,null,null,null,null,null,{"$f":"IF(貴校データ入力シート!G246=\"\",\"\",貴校データ入力シート!G246)","v":""},{"$f":"IF(貴校データ入力シート!H246=\"\",\"\",貴校データ入力シート!H246)","v":""},{"$f":"IF(貴校データ入力シート!I246=\"\",\"\",貴校データ入力シート!I246)","v":""},{"$f":"IF(貴校データ入力シート!J246=\"\",\"\",貴校データ入力シート!J246)","v":""},{"$f":"IF(貴校データ入力シート!K246=\"\",\"\",貴校データ入力シート!K246)","v":""},{"$f":"IF(貴校データ入力シート!L246=\"\",\"\",貴校データ入力シート!L246)","v":""},{"$f":"IF(貴校データ入力シート!M246=\"\",\"\",貴校データ入力シート!M246)","v":""},{"$f":"IF(貴校データ入力シート!N246=\"\",\"\",貴校データ入力シート!N246)","v":""},{"$f":"IF(貴校データ入力シート!O246=\"\",\"\",貴校データ入力シート!O246)","v":""},{"$f":"IF(貴校データ入力シート!P246=\"\",\"\",貴校データ入力シート!P246)","v":""},{"$f":"IF(貴校データ入力シート!Q246=\"\",\"\",貴校データ入力シート!Q246)","v":""},{"$f":"IF(貴校データ入力シート!R246=\"\",\"\",貴校データ入力シート!R246)","v":""},{"$f":"IF(貴校データ入力シート!S246=\"\",\"\",貴校データ入力シート!S246)","v":""},{"$f":"IF(貴校データ入力シート!T246=\"\",\"\",貴校データ入力シート!T246)","v":""},{"$f":"IF(貴校データ入力シート!U246=\"\",\"\",貴校データ入力シート!U246)","v":""},{"$f":"IF(貴校データ入力シート!V246=\"\",\"\",貴校データ入力シート!V246)","v":""},{"$f":"IF(貴校データ入力シート!W246=\"\",\"\",貴校データ入力シート!W246)","v":""},{"$f":"IF(貴校データ入力シート!X246=\"\",\"\",貴校データ入力シート!X246)","v":""},{"$f":"IF(貴校データ入力シート!Y246=\"\",\"\",貴校データ入力シート!Y246)","v":""},{"$f":"IF(貴校データ入力シート!Z246=\"\",\"\",貴校データ入力シート!Z246)","v":""},{"$f":"IF(貴校データ入力シート!AA246=\"\",\"\",貴校データ入力シート!AA246)","v":""},{"$f":"IF(貴校データ入力シート!AB246=\"\",\"\",貴校データ入力シート!AB246)","v":""},null,null,{"$f":"SUM(K243:L243)","v":0}]
[84,"（６２）",{"$f":"IF(貴校データ入力シート!C247=\"\",\"\",貴校データ入力シート!C247)","v":"算数の授業の内容はよく分かりますか"},null,null,null,null,null,null,null,{"$f":"IF(貴校データ入力シート!G247=\"\",\"\",貴校データ入力シート!G247)","v":""},{"$f":"IF(貴校データ入力シート!H247=\"\",\"\",貴校データ入力シート!H247)","v":""},{"$f":"IF(貴校データ入力シート!I247=\"\",\"\",貴校データ入力シート!I247)","v":""},{"$f":"IF(貴校データ入力シート!J247=\"\",\"\",貴校データ入力シート!J247)","v":""},{"$f":"IF(貴校データ入力シート!K247=\"\",\"\",貴校データ入力シート!K247)","v":""},{"$f":"IF(貴校データ入力シート!L247=\"\",\"\",貴校データ入力シート!L247)","v":""},{"$f":"IF(貴校データ入力シート!M247=\"\",\"\",貴校データ入力シート!M247)","v":""},{"$f":"IF(貴校データ入力シート!N247=\"\",\"\",貴校データ入力シート!N247)","v":""},{"$f":"IF(貴校データ入力シート!O247=\"\",\"\",貴校データ入力シート!O247)","v":""},{"$f":"IF(貴校データ入力シート!P247=\"\",\"\",貴校データ入力シート!P247)","v":""},{"$f":"IF(貴校データ入力シート!Q247=\"\",\"\",貴校データ入力シート!Q247)","v":""},{"$f":"IF(貴校データ入力シート!R247=\"\",\"\",貴校データ入力シート!R247)","v":""},{"$f":"IF(貴校データ入力シート!S247=\"\",\"\",貴校データ入力シート!S247)","v":""},{"$f":"IF(貴校データ入力シート!T247=\"\",\"\",貴校データ入力シート!T247)","v":""},{"$f":"IF(貴校データ入力シート!U247=\"\",\"\",貴校データ入力シート!U247)","v":""},{"$f":"IF(貴校データ入力シート!V247=\"\",\"\",貴校データ入力シート!V247)","v":""},{"$f":"IF(貴校データ入力シート!W247=\"\",\"\",貴校データ入力シート!W247)","v":""},{"$f":"IF(貴校データ入力シート!X247=\"\",\"\",貴校データ入力シート!X247)","v":""},{"$f":"IF(貴校データ入力シート!Y247=\"\",\"\",貴校データ入力シート!Y247)","v":""},{"$f":"IF(貴校データ入力シート!Z247=\"\",\"\",貴校データ入力シート!Z247)","v":""},{"$f":"IF(貴校データ入力シート!AA247=\"\",\"\",貴校データ入力シート!AA247)","v":""},{"$f":"IF(貴校データ入力シート!AB247=\"\",\"\",貴校データ入力シート!AB247)","v":""},null,null,null,{"$f":"AG245","v":0},{"$f":"AH246","v":0},{"$f":"AI247","v":0}]
[null,null,null,null,null,null,null,null,null,null,{"$f":"IF(貴校データ入力シート!G248=\"\",\"\",貴校データ入力シート!G248)","v":""},{"$f":"IF(貴校データ入力シート!H248=\"\",\"\",貴校データ入力シート!H248)","v":""},{"$f":"IF(貴校データ入力シート!I248=\"\",\"\",貴校データ入力シート!I248)","v":""},{"$f":"IF(貴校データ入力シート!J248=\"\",\"\",貴校データ入力シート!J248)","v":""},{"$f":"IF(貴校データ入力シート!K248=\"\",\"\",貴校データ入力シート!K248)","v":""},{"$f":"IF(貴校データ入力シート!L248=\"\",\"\",貴校データ入力シート!L248)","v":""},{"$f":"IF(貴校データ入力シート!M248=\"\",\"\",貴校データ入力シート!M248)","v":""},{"$f":"IF(貴校データ入力シート!N248=\"\",\"\",貴校データ入力シート!N248)","v":""},{"$f":"IF(貴校データ入力シート!O248=\"\",\"\",貴校データ入力シート!O248)","v":""},{"$f":"IF(貴校データ入力シート!P248=\"\",\"\",貴校データ入力シート!P248)","v":""},{"$f":"IF(貴校データ入力シート!Q248=\"\",\"\",貴校データ入力シート!Q248)","v":""},{"$f":"IF(貴校データ入力シート!R248=\"\",\"\",貴校データ入力シート!R248)","v":""},{"$f":"IF(貴校データ入力シート!S248=\"\",\"\",貴校データ入力シート!S248)","v":""},{"$f":"IF(貴校データ入力シート!T248=\"\",\"\",貴校データ入力シート!T248)","v":""},{"$f":"IF(貴校データ入力シート!U248=\"\",\"\",貴校データ入力シート!U248)","v":""},{"$f":"IF(貴校データ入力シート!V248=\"\",\"\",貴校データ入力シート!V248)","v":""},{"$f":"IF(貴校データ入力シート!W248=\"\",\"\",貴校データ入力シート!W248)","v":""},{"$f":"IF(貴校データ入力シート!X248=\"\",\"\",貴校データ入力シート!X248)","v":""},{"$f":"IF(貴校データ入力シート!Y248=\"\",\"\",貴校データ入力シート!Y248)","v":""},{"$f":"IF(貴校データ入力シート!Z248=\"\",\"\",貴校データ入力シート!Z248)","v":""},{"$f":"IF(貴校データ入力シート!AA248=\"\",\"\",貴校データ入力シート!AA248)","v":""},{"$f":"IF(貴校データ入力シート!AB248=\"\",\"\",貴校データ入力シート!AB248)","v":""},{"$f":"SUM(K245:L245)","v":0}]
[null,null,null,null,null,null,null,null,null,null,{"$f":"IF(貴校データ入力シート!G249=\"\",\"\",貴校データ入力シート!G249)","v":""},{"$f":"IF(貴校データ入力シート!H249=\"\",\"\",貴校データ入力シート!H249)","v":""},{"$f":"IF(貴校データ入力シート!I249=\"\",\"\",貴校データ入力シート!I249)","v":""},{"$f":"IF(貴校データ入力シート!J249=\"\",\"\",貴校データ入力シート!J249)","v":""},{"$f":"IF(貴校データ入力シート!K249=\"\",\"\",貴校データ入力シート!K249)","v":""},{"$f":"IF(貴校データ入力シート!L249=\"\",\"\",貴校データ入力シート!L249)","v":""},{"$f":"IF(貴校データ入力シート!M249=\"\",\"\",貴校データ入力シート!M249)","v":""},{"$f":"IF(貴校データ入力シート!N249=\"\",\"\",貴校データ入力シート!N249)","v":""},{"$f":"IF(貴校データ入力シート!O249=\"\",\"\",貴校データ入力シート!O249)","v":""},{"$f":"IF(貴校データ入力シート!P249=\"\",\"\",貴校データ入力シート!P249)","v":""},{"$f":"IF(貴校データ入力シート!Q249=\"\",\"\",貴校データ入力シート!Q249)","v":""},{"$f":"IF(貴校データ入力シート!R249=\"\",\"\",貴校データ入力シート!R249)","v":""},{"$f":"IF(貴校データ入力シート!S249=\"\",\"\",貴校データ入力シート!S249)","v":""},{"$f":"IF(貴校データ入力シート!T249=\"\",\"\",貴校データ入力シート!T249)","v":""},{"$f":"IF(貴校データ入力シート!U249=\"\",\"\",貴校データ入力シート!U249)","v":""},{"$f":"IF(貴校データ入力シート!V249=\"\",\"\",貴校データ入力シート!V249)","v":""},{"$f":"IF(貴校データ入力シート!W249=\"\",\"\",貴校データ入力シート!W249)","v":""},{"$f":"IF(貴校データ入力シート!X249=\"\",\"\",貴校データ入力シート!X249)","v":""},{"$f":"IF(貴校データ入力シート!Y249=\"\",\"\",貴校データ入力シート!Y249)","v":""},{"$f":"IF(貴校データ入力シート!Z249=\"\",\"\",貴校データ入力シート!Z249)","v":""},{"$f":"IF(貴校データ入力シート!AA249=\"\",\"\",貴校データ入力シート!AA249)","v":""},{"$f":"IF(貴校データ入力シート!AB249=\"\",\"\",貴校データ入力シート!AB249)","v":""},null,{"$f":"SUM(K246:L246)","v":0}]
[null,null,null,null,null,null,null,null,null,null,{"$f":"IF(貴校データ入力シート!G250=\"\",\"\",貴校データ入力シート!G250)","v":""},{"$f":"IF(貴校データ入力シート!H250=\"\",\"\",貴校データ入力シート!H250)","v":""},{"$f":"IF(貴校データ入力シート!I250=\"\",\"\",貴校データ入力シート!I250)","v":""},{"$f":"IF(貴校データ入力シート!J250=\"\",\"\",貴校データ入力シート!J250)","v":""},{"$f":"IF(貴校データ入力シート!K250=\"\",\"\",貴校データ入力シート!K250)","v":""},{"$f":"IF(貴校データ入力シート!L250=\"\",\"\",貴校データ入力シート!L250)","v":""},{"$f":"IF(貴校データ入力シート!M250=\"\",\"\",貴校データ入力シート!M250)","v":""},{"$f":"IF(貴校データ入力シート!N250=\"\",\"\",貴校データ入力シート!N250)","v":""},{"$f":"IF(貴校データ入力シート!O250=\"\",\"\",貴校データ入力シート!O250)","v":""},{"$f":"IF(貴校データ入力シート!P250=\"\",\"\",貴校データ入力シート!P250)","v":""},{"$f":"IF(貴校データ入力シート!Q250=\"\",\"\",貴校データ入力シート!Q250)","v":""},{"$f":"IF(貴校データ入力シート!R250=\"\",\"\",貴校データ入力シート!R250)","v":""},{"$f":"IF(貴校データ入力シート!S250=\"\",\"\",貴校データ入力シート!S250)","v":""},{"$f":"IF(貴校データ入力シート!T250=\"\",\"\",貴校データ入力シート!T250)","v":""},{"$f":"IF(貴校データ入力シート!U250=\"\",\"\",貴校データ入力シート!U250)","v":""},{"$f":"IF(貴校データ入力シート!V250=\"\",\"\",貴校データ入力シート!V250)","v":""},{"$f":"IF(貴校データ入力シート!W250=\"\",\"\",貴校データ入力シート!W250)","v":""},{"$f":"IF(貴校データ入力シート!X250=\"\",\"\",貴校データ入力シート!X250)","v":""},{"$f":"IF(貴校データ入力シート!Y250=\"\",\"\",貴校データ入力シート!Y250)","v":""},{"$f":"IF(貴校データ入力シート!Z250=\"\",\"\",貴校データ入力シート!Z250)","v":""},{"$f":"IF(貴校データ入力シート!AA250=\"\",\"\",貴校データ入力シート!AA250)","v":""},{"$f":"IF(貴校データ入力シート!AB250=\"\",\"\",貴校データ入力シート!AB250)","v":""},null,null,{"$f":"SUM(K247:L247)","v":0}]
[85,"（６３）",{"$f":"IF(貴校データ入力シート!C251=\"\",\"\",貴校データ入力シート!C251)","v":"算数の授業で学習したことは、将来、社会に出たときに役に立つと思いますか"},null,null,null,null,null,null,null,{"$f":"IF(貴校データ入力シート!G251=\"\",\"\",貴校データ入力シート!G251)","v":""},{"$f":"IF(貴校データ入力シート!H251=\"\",\"\",貴校データ入力シート!H251)","v":""},{"$f":"IF(貴校データ入力シート!I251=\"\",\"\",貴校データ入力シート!I251)","v":""},{"$f":"IF(貴校データ入力シート!J251=\"\",\"\",貴校データ入力シート!J251)","v":""},{"$f":"IF(貴校データ入力シート!K251=\"\",\"\",貴校データ入力シート!K251)","v":""},{"$f":"IF(貴校データ入力シート!L251=\"\",\"\",貴校データ入力シート!L251)","v":""},{"$f":"IF(貴校データ入力シート!M251=\"\",\"\",貴校データ入力シート!M251)","v":""},{"$f":"IF(貴校データ入力シート!N251=\"\",\"\",貴校データ入力シート!N251)","v":""},{"$f":"IF(貴校データ入力シート!O251=\"\",\"\",貴校データ入力シート!O251)","v":""},{"$f":"IF(貴校データ入力シート!P251=\"\",\"\",貴校データ入力シート!P251)","v":""},{"$f":"IF(貴校データ入力シート!Q251=\"\",\"\",貴校データ入力シート!Q251)","v":""},{"$f":"IF(貴校データ入力シート!R251=\"\",\"\",貴校データ入力シート!R251)","v":""},{"$f":"IF(貴校データ入力シート!S251=\"\",\"\",貴校データ入力シート!S251)","v":""},{"$f":"IF(貴校データ入力シート!T251=\"\",\"\",貴校データ入力シート!T251)","v":""},{"$f":"IF(貴校データ入力シート!U251=\"\",\"\",貴校データ入力シート!U251)","v":""},{"$f":"IF(貴校データ入力シート!V251=\"\",\"\",貴校データ入力シート!V251)","v":""},{"$f":"IF(貴校データ入力シート!W251=\"\",\"\",貴校データ入力シート!W251)","v":""},{"$f":"IF(貴校データ入力シート!X251=\"\",\"\",貴校データ入力シート!X251)","v":""},{"$f":"IF(貴校データ入力シート!Y251=\"\",\"\",貴校データ入力シート!Y251)","v":""},{"$f":"IF(貴校データ入力シート!Z251=\"\",\"\",貴校データ入力シート!Z251)","v":""},{"$f":"IF(貴校データ入力シート!AA251=\"\",\"\",貴校データ入力シート!AA251)","v":""},{"$f":"IF(貴校データ入力シート!AB251=\"\",\"\",貴校データ入力シート!AB251)","v":""},null,null,null,{"$f":"AG249","v":0},{"$f":"AH250","v":0},{"$f":"AI251","v":0}]
[null,null,null,null,null,null,null,null,null,null,{"$f":"IF(貴校データ入力シート!G252=\"\",\"\",貴校データ入力シート!G252)","v":""},{"$f":"IF(貴校データ入力シート!H252=\"\",\"\",貴校データ入力シート!H252)","v":""},{"$f":"IF(貴校データ入力シート!I252=\"\",\"\",貴校データ入力シート!I252)","v":""},{"$f":"IF(貴校データ入力シート!J252=\"\",\"\",貴校データ入力シート!J252)","v":""},{"$f":"IF(貴校データ入力シート!K252=\"\",\"\",貴校データ入力シート!K252)","v":""},{"$f":"IF(貴校データ入力シート!L252=\"\",\"\",貴校データ入力シート!L252)","v":""},{"$f":"IF(貴校データ入力シート!M252=\"\",\"\",貴校データ入力シート!M252)","v":""},{"$f":"IF(貴校データ入力シート!N252=\"\",\"\",貴校データ入力シート!N252)","v":""},{"$f":"IF(貴校データ入力シート!O252=\"\",\"\",貴校データ入力シート!O252)","v":""},{"$f":"IF(貴校データ入力シート!P252=\"\",\"\",貴校データ入力シート!P252)","v":""},{"$f":"IF(貴校データ入力シート!Q252=\"\",\"\",貴校データ入力シート!Q252)","v":""},{"$f":"IF(貴校データ入力シート!R252=\"\",\"\",貴校データ入力シート!R252)","v":""},{"$f":"IF(貴校データ入力シート!S252=\"\",\"\",貴校データ入力シート!S252)","v":""},{"$f":"IF(貴校データ入力シート!T252=\"\",\"\",貴校データ入力シート!T252)","v":""},{"$f":"IF(貴校データ入力シート!U252=\"\",\"\",貴校データ入力シート!U252)","v":""},{"$f":"IF(貴校データ入力シート!V252=\"\",\"\",貴校データ入力シート!V252)","v":""},{"$f":"IF(貴校データ入力シート!W252=\"\",\"\",貴校データ入力シート!W252)","v":""},{"$f":"IF(貴校データ入力シート!X252=\"\",\"\",貴校データ入力シート!X252)","v":""},{"$f":"IF(貴校データ入力シート!Y252=\"\",\"\",貴校データ入力シート!Y252)","v":""},{"$f":"IF(貴校データ入力シート!Z252=\"\",\"\",貴校データ入力シート!Z252)","v":""},{"$f":"IF(貴校データ入力シート!AA252=\"\",\"\",貴校データ入力シート!AA252)","v":""},{"$f":"IF(貴校データ入力シート!AB252=\"\",\"\",貴校データ入力シート!AB252)","v":""},{"$f":"SUM(K249:L249)","v":0}]
[null,null,null,null,null,null,null,null,null,null,{"$f":"IF(貴校データ入力シート!G253=\"\",\"\",貴校データ入力シート!G253)","v":""},{"$f":"IF(貴校データ入力シート!H253=\"\",\"\",貴校データ入力シート!H253)","v":""},{"$f":"IF(貴校データ入力シート!I253=\"\",\"\",貴校データ入力シート!I253)","v":""},{"$f":"IF(貴校データ入力シート!J253=\"\",\"\",貴校データ入力シート!J253)","v":""},{"$f":"IF(貴校データ入力シート!K253=\"\",\"\",貴校データ入力シート!K253)","v":""},{"$f":"IF(貴校データ入力シート!L253=\"\",\"\",貴校データ入力シート!L253)","v":""},{"$f":"IF(貴校データ入力シート!M253=\"\",\"\",貴校データ入力シート!M253)","v":""},{"$f":"IF(貴校データ入力シート!N253=\"\",\"\",貴校データ入力シート!N253)","v":""},{"$f":"IF(貴校データ入力シート!O253=\"\",\"\",貴校データ入力シート!O253)","v":""},{"$f":"IF(貴校データ入力シート!P253=\"\",\"\",貴校データ入力シート!P253)","v":""},{"$f":"IF(貴校データ入力シート!Q253=\"\",\"\",貴校データ入力シート!Q253)","v":""},{"$f":"IF(貴校データ入力シート!R253=\"\",\"\",貴校データ入力シート!R253)","v":""},{"$f":"IF(貴校データ入力シート!S253=\"\",\"\",貴校データ入力シート!S253)","v":""},{"$f":"IF(貴校データ入力シート!T253=\"\",\"\",貴校データ入力シート!T253)","v":""},{"$f":"IF(貴校データ入力シート!U253=\"\",\"\",貴校データ入力シート!U253)","v":""},{"$f":"IF(貴校データ入力シート!V253=\"\",\"\",貴校データ入力シート!V253)","v":""},{"$f":"IF(貴校データ入力シート!W253=\"\",\"\",貴校データ入力シート!W253)","v":""},{"$f":"IF(貴校データ入力シート!X253=\"\",\"\",貴校データ入力シート!X253)","v":""},{"$f":"IF(貴校データ入力シート!Y253=\"\",\"\",貴校データ入力シート!Y253)","v":""},{"$f":"IF(貴校データ入力シート!Z253=\"\",\"\",貴校データ入力シート!Z253)","v":""},{"$f":"IF(貴校データ入力シート!AA253=\"\",\"\",貴校データ入力シート!AA253)","v":""},{"$f":"IF(貴校データ入力シート!AB253=\"\",\"\",貴校データ入力シート!AB253)","v":""},null,{"$f":"SUM(K250:L250)","v":0}]
[null,null,null,null,null,null,null,null,null,null,{"$f":"IF(貴校データ入力シート!G254=\"\",\"\",貴校データ入力シート!G254)","v":""},{"$f":"IF(貴校データ入力シート!H254=\"\",\"\",貴校データ入力シート!H254)","v":""},{"$f":"IF(貴校データ入力シート!I254=\"\",\"\",貴校データ入力シート!I254)","v":""},{"$f":"IF(貴校データ入力シート!J254=\"\",\"\",貴校データ入力シート!J254)","v":""},{"$f":"IF(貴校データ入力シート!K254=\"\",\"\",貴校データ入力シート!K254)","v":""},{"$f":"IF(貴校データ入力シート!L254=\"\",\"\",貴校データ入力シート!L254)","v":""},{"$f":"IF(貴校データ入力シート!M254=\"\",\"\",貴校データ入力シート!M254)","v":""},{"$f":"IF(貴校データ入力シート!N254=\"\",\"\",貴校データ入力シート!N254)","v":""},{"$f":"IF(貴校データ入力シート!O254=\"\",\"\",貴校データ入力シート!O254)","v":""},{"$f":"IF(貴校データ入力シート!P254=\"\",\"\",貴校データ入力シート!P254)","v":""},{"$f":"IF(貴校データ入力シート!Q254=\"\",\"\",貴校データ入力シート!Q254)","v":""},{"$f":"IF(貴校データ入力シート!R254=\"\",\"\",貴校データ入力シート!R254)","v":""},{"$f":"IF(貴校データ入力シート!S254=\"\",\"\",貴校データ入力シート!S254)","v":""},{"$f":"IF(貴校データ入力シート!T254=\"\",\"\",貴校データ入力シート!T254)","v":""},{"$f":"IF(貴校データ入力シート!U254=\"\",\"\",貴校データ入力シート!U254)","v":""},{"$f":"IF(貴校データ入力シート!V254=\"\",\"\",貴校データ入力シート!V254)","v":""},{"$f":"IF(貴校データ入力シート!W254=\"\",\"\",貴校データ入力シート!W254)","v":""},{"$f":"IF(貴校データ入力シート!X254=\"\",\"\",貴校データ入力シート!X254)","v":""},{"$f":"IF(貴校データ入力シート!Y254=\"\",\"\",貴校データ入力シート!Y254)","v":""},{"$f":"IF(貴校データ入力シート!Z254=\"\",\"\",貴校データ入力シート!Z254)","v":""},{"$f":"IF(貴校データ入力シート!AA254=\"\",\"\",貴校データ入力シート!AA254)","v":""},{"$f":"IF(貴校データ入力シート!AB254=\"\",\"\",貴校データ入力シート!AB254)","v":""},null,null,{"$f":"SUM(K251:L251)","v":0}]
[86,"（６４）",{"$f":"IF(貴校データ入力シート!C255=\"\",\"\",貴校データ入力シート!C255)","v":"５年生までに受けた授業では、算数の授業で学習したことを、普段の生活の中で活用できていましたか"},null,null,null,null,null,null,null,{"$f":"IF(貴校データ入力シート!G255=\"\",\"\",貴校データ入力シート!G255)","v":""},{"$f":"IF(貴校データ入力シート!H255=\"\",\"\",貴校データ入力シート!H255)","v":""},{"$f":"IF(貴校データ入力シート!I255=\"\",\"\",貴校データ入力シート!I255)","v":""},{"$f":"IF(貴校データ入力シート!J255=\"\",\"\",貴校データ入力シート!J255)","v":""},{"$f":"IF(貴校データ入力シート!K255=\"\",\"\",貴校データ入力シート!K255)","v":""},{"$f":"IF(貴校データ入力シート!L255=\"\",\"\",貴校データ入力シート!L255)","v":""},{"$f":"IF(貴校データ入力シート!M255=\"\",\"\",貴校データ入力シート!M255)","v":""},{"$f":"IF(貴校データ入力シート!N255=\"\",\"\",貴校データ入力シート!N255)","v":""},{"$f":"IF(貴校データ入力シート!O255=\"\",\"\",貴校データ入力シート!O255)","v":""},{"$f":"IF(貴校データ入力シート!P255=\"\",\"\",貴校データ入力シート!P255)","v":""},{"$f":"IF(貴校データ入力シート!Q255=\"\",\"\",貴校データ入力シート!Q255)","v":""},{"$f":"IF(貴校データ入力シート!R255=\"\",\"\",貴校データ入力シート!R255)","v":""},{"$f":"IF(貴校データ入力シート!S255=\"\",\"\",貴校データ入力シート!S255)","v":""},{"$f":"IF(貴校データ入力シート!T255=\"\",\"\",貴校データ入力シート!T255)","v":""},{"$f":"IF(貴校データ入力シート!U255=\"\",\"\",貴校データ入力シート!U255)","v":""},{"$f":"IF(貴校データ入力シート!V255=\"\",\"\",貴校データ入力シート!V255)","v":""},{"$f":"IF(貴校データ入力シート!W255=\"\",\"\",貴校データ入力シート!W255)","v":""},{"$f":"IF(貴校データ入力シート!X255=\"\",\"\",貴校データ入力シート!X255)","v":""},{"$f":"IF(貴校データ入力シート!Y255=\"\",\"\",貴校データ入力シート!Y255)","v":""},{"$f":"IF(貴校データ入力シート!Z255=\"\",\"\",貴校データ入力シート!Z255)","v":""},{"$f":"IF(貴校データ入力シート!AA255=\"\",\"\",貴校データ入力シート!AA255)","v":""},{"$f":"IF(貴校データ入力シート!AB255=\"\",\"\",貴校データ入力シート!AB255)","v":""},null,null,null,{"$f":"AG253","v":0},{"$f":"AH254","v":0},{"$f":"AI255","v":0}]
[null,null,null,null,null,null,null,null,null,null,{"$f":"IF(貴校データ入力シート!G256=\"\",\"\",貴校データ入力シート!G256)","v":""},{"$f":"IF(貴校データ入力シート!H256=\"\",\"\",貴校データ入力シート!H256)","v":""},{"$f":"IF(貴校データ入力シート!I256=\"\",\"\",貴校データ入力シート!I256)","v":""},{"$f":"IF(貴校データ入力シート!J256=\"\",\"\",貴校データ入力シート!J256)","v":""},{"$f":"IF(貴校データ入力シート!K256=\"\",\"\",貴校データ入力シート!K256)","v":""},{"$f":"IF(貴校データ入力シート!L256=\"\",\"\",貴校データ入力シート!L256)","v":""},{"$f":"IF(貴校データ入力シート!M256=\"\",\"\",貴校データ入力シート!M256)","v":""},{"$f":"IF(貴校データ入力シート!N256=\"\",\"\",貴校データ入力シート!N256)","v":""},{"$f":"IF(貴校データ入力シート!O256=\"\",\"\",貴校データ入力シート!O256)","v":""},{"$f":"IF(貴校データ入力シート!P256=\"\",\"\",貴校データ入力シート!P256)","v":""},{"$f":"IF(貴校データ入力シート!Q256=\"\",\"\",貴校データ入力シート!Q256)","v":""},{"$f":"IF(貴校データ入力シート!R256=\"\",\"\",貴校データ入力シート!R256)","v":""},{"$f":"IF(貴校データ入力シート!S256=\"\",\"\",貴校データ入力シート!S256)","v":""},{"$f":"IF(貴校データ入力シート!T256=\"\",\"\",貴校データ入力シート!T256)","v":""},{"$f":"IF(貴校データ入力シート!U256=\"\",\"\",貴校データ入力シート!U256)","v":""},{"$f":"IF(貴校データ入力シート!V256=\"\",\"\",貴校データ入力シート!V256)","v":""},{"$f":"IF(貴校データ入力シート!W256=\"\",\"\",貴校データ入力シート!W256)","v":""},{"$f":"IF(貴校データ入力シート!X256=\"\",\"\",貴校データ入力シート!X256)","v":""},{"$f":"IF(貴校データ入力シート!Y256=\"\",\"\",貴校データ入力シート!Y256)","v":""},{"$f":"IF(貴校データ入力シート!Z256=\"\",\"\",貴校データ入力シート!Z256)","v":""},{"$f":"IF(貴校データ入力シート!AA256=\"\",\"\",貴校データ入力シート!AA256)","v":""},{"$f":"IF(貴校データ入力シート!AB256=\"\",\"\",貴校データ入力シート!AB256)","v":""},{"$f":"SUM(K253:L253)","v":0}]
[null,null,null,null,null,null,null,null,null,null,{"$f":"IF(貴校データ入力シート!G257=\"\",\"\",貴校データ入力シート!G257)","v":""},{"$f":"IF(貴校データ入力シート!H257=\"\",\"\",貴校データ入力シート!H257)","v":""},{"$f":"IF(貴校データ入力シート!I257=\"\",\"\",貴校データ入力シート!I257)","v":""},{"$f":"IF(貴校データ入力シート!J257=\"\",\"\",貴校データ入力シート!J257)","v":""},{"$f":"IF(貴校データ入力シート!K257=\"\",\"\",貴校データ入力シート!K257)","v":""},{"$f":"IF(貴校データ入力シート!L257=\"\",\"\",貴校データ入力シート!L257)","v":""},{"$f":"IF(貴校データ入力シート!M257=\"\",\"\",貴校データ入力シート!M257)","v":""},{"$f":"IF(貴校データ入力シート!N257=\"\",\"\",貴校データ入力シート!N257)","v":""},{"$f":"IF(貴校データ入力シート!O257=\"\",\"\",貴校データ入力シート!O257)","v":""},{"$f":"IF(貴校データ入力シート!P257=\"\",\"\",貴校データ入力シート!P257)","v":""},{"$f":"IF(貴校データ入力シート!Q257=\"\",\"\",貴校データ入力シート!Q257)","v":""},{"$f":"IF(貴校データ入力シート!R257=\"\",\"\",貴校データ入力シート!R257)","v":""},{"$f":"IF(貴校データ入力シート!S257=\"\",\"\",貴校データ入力シート!S257)","v":""},{"$f":"IF(貴校データ入力シート!T257=\"\",\"\",貴校データ入力シート!T257)","v":""},{"$f":"IF(貴校データ入力シート!U257=\"\",\"\",貴校データ入力シート!U257)","v":""},{"$f":"IF(貴校データ入力シート!V257=\"\",\"\",貴校データ入力シート!V257)","v":""},{"$f":"IF(貴校データ入力シート!W257=\"\",\"\",貴校データ入力シート!W257)","v":""},{"$f":"IF(貴校データ入力シート!X257=\"\",\"\",貴校データ入力シート!X257)","v":""},{"$f":"IF(貴校データ入力シート!Y257=\"\",\"\",貴校データ入力シート!Y257)","v":""},{"$f":"IF(貴校データ入力シート!Z257=\"\",\"\",貴校データ入力シート!Z257)","v":""},{"$f":"IF(貴校データ入力シート!AA257=\"\",\"\",貴校データ入力シート!AA257)","v":""},{"$f":"IF(貴校データ入力シート!AB257=\"\",\"\",貴校データ入力シート!AB257)","v":""},null,{"$f":"SUM(K254:L254)","v":0}]
[null,null,null,null,null,null,null,null,null,null,{"$f":"IF(貴校データ入力シート!G258=\"\",\"\",貴校データ入力シート!G258)","v":""},{"$f":"IF(貴校データ入力シート!H258=\"\",\"\",貴校データ入力シート!H258)","v":""},{"$f":"IF(貴校データ入力シート!I258=\"\",\"\",貴校データ入力シート!I258)","v":""},{"$f":"IF(貴校データ入力シート!J258=\"\",\"\",貴校データ入力シート!J258)","v":""},{"$f":"IF(貴校データ入力シート!K258=\"\",\"\",貴校データ入力シート!K258)","v":""},{"$f":"IF(貴校データ入力シート!L258=\"\",\"\",貴校データ入力シート!L258)","v":""},{"$f":"IF(貴校データ入力シート!M258=\"\",\"\",貴校データ入力シート!M258)","v":""},{"$f":"IF(貴校データ入力シート!N258=\"\",\"\",貴校データ入力シート!N258)","v":""},{"$f":"IF(貴校データ入力シート!O258=\"\",\"\",貴校データ入力シート!O258)","v":""},{"$f":"IF(貴校データ入力シート!P258=\"\",\"\",貴校データ入力シート!P258)","v":""},{"$f":"IF(貴校データ入力シート!Q258=\"\",\"\",貴校データ入力シート!Q258)","v":""},{"$f":"IF(貴校データ入力シート!R258=\"\",\"\",貴校データ入力シート!R258)","v":""},{"$f":"IF(貴校データ入力シート!S258=\"\",\"\",貴校データ入力シート!S258)","v":""},{"$f":"IF(貴校データ入力シート!T258=\"\",\"\",貴校データ入力シート!T258)","v":""},{"$f":"IF(貴校データ入力シート!U258=\"\",\"\",貴校データ入力シート!U258)","v":""},{"$f":"IF(貴校データ入力シート!V258=\"\",\"\",貴校データ入力シート!V258)","v":""},{"$f":"IF(貴校データ入力シート!W258=\"\",\"\",貴校データ入力シート!W258)","v":""},{"$f":"IF(貴校データ入力シート!X258=\"\",\"\",貴校データ入力シート!X258)","v":""},{"$f":"IF(貴校データ入力シート!Y258=\"\",\"\",貴校データ入力シート!Y258)","v":""},{"$f":"IF(貴校データ入力シート!Z258=\"\",\"\",貴校データ入力シート!Z258)","v":""},{"$f":"IF(貴校データ入力シート!AA258=\"\",\"\",貴校データ入力シート!AA258)","v":""},{"$f":"IF(貴校データ入力シート!AB258=\"\",\"\",貴校データ入力シート!AB258)","v":""},null,null,{"$f":"SUM(K255:L255)","v":0}]
[87,"（６５）",{"$f":"IF(貴校データ入力シート!C259=\"\",\"\",貴校データ入力シート!C259)","v":"５年生までに受けた授業では、算数の問題の解き方が分からないときは、あきらめずにいろいろな方法を考えましたか"},null,null,null,null,null,null,null,{"$f":"IF(貴校データ入力シート!G259=\"\",\"\",貴校データ入力シート!G259)","v":""},{"$f":"IF(貴校データ入力シート!H259=\"\",\"\",貴校データ入力シート!H259)","v":""},{"$f":"IF(貴校データ入力シート!I259=\"\",\"\",貴校データ入力シート!I259)","v":""},{"$f":"IF(貴校データ入力シート!J259=\"\",\"\",貴校データ入力シート!J259)","v":""},{"$f":"IF(貴校データ入力シート!K259=\"\",\"\",貴校データ入力シート!K259)","v":""},{"$f":"IF(貴校データ入力シート!L259=\"\",\"\",貴校データ入力シート!L259)","v":""},{"$f":"IF(貴校データ入力シート!M259=\"\",\"\",貴校データ入力シート!M259)","v":""},{"$f":"IF(貴校データ入力シート!N259=\"\",\"\",貴校データ入力シート!N259)","v":""},{"$f":"IF(貴校データ入力シート!O259=\"\",\"\",貴校データ入力シート!O259)","v":""},{"$f":"IF(貴校データ入力シート!P259=\"\",\"\",貴校データ入力シート!P259)","v":""},{"$f":"IF(貴校データ入力シート!Q259=\"\",\"\",貴校データ入力シート!Q259)","v":""},{"$f":"IF(貴校データ入力シート!R259=\"\",\"\",貴校データ入力シート!R259)","v":""},{"$f":"IF(貴校データ入力シート!S259=\"\",\"\",貴校データ入力シート!S259)","v":""},{"$f":"IF(貴校データ入力シート!T259=\"\",\"\",貴校データ入力シート!T259)","v":""},{"$f":"IF(貴校データ入力シート!U259=\"\",\"\",貴校データ入力シート!U259)","v":""},{"$f":"IF(貴校データ入力シート!V259=\"\",\"\",貴校データ入力シート!V259)","v":""},{"$f":"IF(貴校データ入力シート!W259=\"\",\"\",貴校データ入力シート!W259)","v":""},{"$f":"IF(貴校データ入力シート!X259=\"\",\"\",貴校データ入力シート!X259)","v":""},{"$f":"IF(貴校データ入力シート!Y259=\"\",\"\",貴校データ入力シート!Y259)","v":""},{"$f":"IF(貴校データ入力シート!Z259=\"\",\"\",貴校データ入力シート!Z259)","v":""},{"$f":"IF(貴校データ入力シート!AA259=\"\",\"\",貴校データ入力シート!AA259)","v":""},{"$f":"IF(貴校データ入力シート!AB259=\"\",\"\",貴校データ入力シート!AB259)","v":""},null,null,null,{"$f":"AG257","v":0},{"$f":"AH258","v":0},{"$f":"AI259","v":0}]
[null,null,null,null,null,null,null,null,null,null,{"$f":"IF(貴校データ入力シート!G260=\"\",\"\",貴校データ入力シート!G260)","v":""},{"$f":"IF(貴校データ入力シート!H260=\"\",\"\",貴校データ入力シート!H260)","v":""},{"$f":"IF(貴校データ入力シート!I260=\"\",\"\",貴校データ入力シート!I260)","v":""},{"$f":"IF(貴校データ入力シート!J260=\"\",\"\",貴校データ入力シート!J260)","v":""},{"$f":"IF(貴校データ入力シート!K260=\"\",\"\",貴校データ入力シート!K260)","v":""},{"$f":"IF(貴校データ入力シート!L260=\"\",\"\",貴校データ入力シート!L260)","v":""},{"$f":"IF(貴校データ入力シート!M260=\"\",\"\",貴校データ入力シート!M260)","v":""},{"$f":"IF(貴校データ入力シート!N260=\"\",\"\",貴校データ入力シート!N260)","v":""},{"$f":"IF(貴校データ入力シート!O260=\"\",\"\",貴校データ入力シート!O260)","v":""},{"$f":"IF(貴校データ入力シート!P260=\"\",\"\",貴校データ入力シート!P260)","v":""},{"$f":"IF(貴校データ入力シート!Q260=\"\",\"\",貴校データ入力シート!Q260)","v":""},{"$f":"IF(貴校データ入力シート!R260=\"\",\"\",貴校データ入力シート!R260)","v":""},{"$f":"IF(貴校データ入力シート!S260=\"\",\"\",貴校データ入力シート!S260)","v":""},{"$f":"IF(貴校データ入力シート!T260=\"\",\"\",貴校データ入力シート!T260)","v":""},{"$f":"IF(貴校データ入力シート!U260=\"\",\"\",貴校データ入力シート!U260)","v":""},{"$f":"IF(貴校データ入力シート!V260=\"\",\"\",貴校データ入力シート!V260)","v":""},{"$f":"IF(貴校データ入力シート!W260=\"\",\"\",貴校データ入力シート!W260)","v":""},{"$f":"IF(貴校データ入力シート!X260=\"\",\"\",貴校データ入力シート!X260)","v":""},{"$f":"IF(貴校データ入力シート!Y260=\"\",\"\",貴校データ入力シート!Y260)","v":""},{"$f":"IF(貴校データ入力シート!Z260=\"\",\"\",貴校データ入力シート!Z260)","v":""},{"$f":"IF(貴校データ入力シート!AA260=\"\",\"\",貴校データ入力シート!AA260)","v":""},{"$f":"IF(貴校データ入力シート!AB260=\"\",\"\",貴校データ入力シート!AB260)","v":""},{"$f":"SUM(K257:L257)","v":0}]
[null,null,null,null,null,null,null,null,null,null,{"$f":"IF(貴校データ入力シート!G261=\"\",\"\",貴校データ入力シート!G261)","v":""},{"$f":"IF(貴校データ入力シート!H261=\"\",\"\",貴校データ入力シート!H261)","v":""},{"$f":"IF(貴校データ入力シート!I261=\"\",\"\",貴校データ入力シート!I261)","v":""},{"$f":"IF(貴校データ入力シート!J261=\"\",\"\",貴校データ入力シート!J261)","v":""},{"$f":"IF(貴校データ入力シート!K261=\"\",\"\",貴校データ入力シート!K261)","v":""},{"$f":"IF(貴校データ入力シート!L261=\"\",\"\",貴校データ入力シート!L261)","v":""},{"$f":"IF(貴校データ入力シート!M261=\"\",\"\",貴校データ入力シート!M261)","v":""},{"$f":"IF(貴校データ入力シート!N261=\"\",\"\",貴校データ入力シート!N261)","v":""},{"$f":"IF(貴校データ入力シート!O261=\"\",\"\",貴校データ入力シート!O261)","v":""},{"$f":"IF(貴校データ入力シート!P261=\"\",\"\",貴校データ入力シート!P261)","v":""},{"$f":"IF(貴校データ入力シート!Q261=\"\",\"\",貴校データ入力シート!Q261)","v":""},{"$f":"IF(貴校データ入力シート!R261=\"\",\"\",貴校データ入力シート!R261)","v":""},{"$f":"IF(貴校データ入力シート!S261=\"\",\"\",貴校データ入力シート!S261)","v":""},{"$f":"IF(貴校データ入力シート!T261=\"\",\"\",貴校データ入力シート!T261)","v":""},{"$f":"IF(貴校データ入力シート!U261=\"\",\"\",貴校データ入力シート!U261)","v":""},{"$f":"IF(貴校データ入力シート!V261=\"\",\"\",貴校データ入力シート!V261)","v":""},{"$f":"IF(貴校データ入力シート!W261=\"\",\"\",貴校データ入力シート!W261)","v":""},{"$f":"IF(貴校データ入力シート!X261=\"\",\"\",貴校データ入力シート!X261)","v":""},{"$f":"IF(貴校データ入力シート!Y261=\"\",\"\",貴校データ入力シート!Y261)","v":""},{"$f":"IF(貴校データ入力シート!Z261=\"\",\"\",貴校データ入力シート!Z261)","v":""},{"$f":"IF(貴校データ入力シート!AA261=\"\",\"\",貴校データ入力シート!AA261)","v":""},{"$f":"IF(貴校データ入力シート!AB261=\"\",\"\",貴校データ入力シート!AB261)","v":""},null,{"$f":"SUM(K258:L258)","v":0}]
[null,null,null,null,null,null,null,null,null,null,{"$f":"IF(貴校データ入力シート!G262=\"\",\"\",貴校データ入力シート!G262)","v":""},{"$f":"IF(貴校データ入力シート!H262=\"\",\"\",貴校データ入力シート!H262)","v":""},{"$f":"IF(貴校データ入力シート!I262=\"\",\"\",貴校データ入力シート!I262)","v":""},{"$f":"IF(貴校データ入力シート!J262=\"\",\"\",貴校データ入力シート!J262)","v":""},{"$f":"IF(貴校データ入力シート!K262=\"\",\"\",貴校データ入力シート!K262)","v":""},{"$f":"IF(貴校データ入力シート!L262=\"\",\"\",貴校データ入力シート!L262)","v":""},{"$f":"IF(貴校データ入力シート!M262=\"\",\"\",貴校データ入力シート!M262)","v":""},{"$f":"IF(貴校データ入力シート!N262=\"\",\"\",貴校データ入力シート!N262)","v":""},{"$f":"IF(貴校データ入力シート!O262=\"\",\"\",貴校データ入力シート!O262)","v":""},{"$f":"IF(貴校データ入力シート!P262=\"\",\"\",貴校データ入力シート!P262)","v":""},{"$f":"IF(貴校データ入力シート!Q262=\"\",\"\",貴校データ入力シート!Q262)","v":""},{"$f":"IF(貴校データ入力シート!R262=\"\",\"\",貴校データ入力シート!R262)","v":""},{"$f":"IF(貴校データ入力シート!S262=\"\",\"\",貴校データ入力シート!S262)","v":""},{"$f":"IF(貴校データ入力シート!T262=\"\",\"\",貴校データ入力シート!T262)","v":""},{"$f":"IF(貴校データ入力シート!U262=\"\",\"\",貴校データ入力シート!U262)","v":""},{"$f":"IF(貴校データ入力シート!V262=\"\",\"\",貴校データ入力シート!V262)","v":""},{"$f":"IF(貴校データ入力シート!W262=\"\",\"\",貴校データ入力シート!W262)","v":""},{"$f":"IF(貴校データ入力シート!X262=\"\",\"\",貴校データ入力シート!X262)","v":""},{"$f":"IF(貴校データ入力シート!Y262=\"\",\"\",貴校データ入力シート!Y262)","v":""},{"$f":"IF(貴校データ入力シート!Z262=\"\",\"\",貴校データ入力シート!Z262)","v":""},{"$f":"IF(貴校データ入力シート!AA262=\"\",\"\",貴校データ入力シート!AA262)","v":""},{"$f":"IF(貴校データ入力シート!AB262=\"\",\"\",貴校データ入力シート!AB262)","v":""},null,null,{"$f":"SUM(K259:L259)","v":0}]
[88,"（６６）",{"$f":"IF(貴校データ入力シート!C263=\"\",\"\",貴校データ入力シート!C263)","v":"５年生までに受けた授業では、算数の授業で、どのように考えたのかについて説明する活動をよく行っていましたか"},null,null,null,null,null,null,null,{"$f":"IF(貴校データ入力シート!G263=\"\",\"\",貴校データ入力シート!G263)","v":""},{"$f":"IF(貴校データ入力シート!H263=\"\",\"\",貴校データ入力シート!H263)","v":""},{"$f":"IF(貴校データ入力シート!I263=\"\",\"\",貴校データ入力シート!I263)","v":""},{"$f":"IF(貴校データ入力シート!J263=\"\",\"\",貴校データ入力シート!J263)","v":""},{"$f":"IF(貴校データ入力シート!K263=\"\",\"\",貴校データ入力シート!K263)","v":""},{"$f":"IF(貴校データ入力シート!L263=\"\",\"\",貴校データ入力シート!L263)","v":""},{"$f":"IF(貴校データ入力シート!M263=\"\",\"\",貴校データ入力シート!M263)","v":""},{"$f":"IF(貴校データ入力シート!N263=\"\",\"\",貴校データ入力シート!N263)","v":""},{"$f":"IF(貴校データ入力シート!O263=\"\",\"\",貴校データ入力シート!O263)","v":""},{"$f":"IF(貴校データ入力シート!P263=\"\",\"\",貴校データ入力シート!P263)","v":""},{"$f":"IF(貴校データ入力シート!Q263=\"\",\"\",貴校データ入力シート!Q263)","v":""},{"$f":"IF(貴校データ入力シート!R263=\"\",\"\",貴校データ入力シート!R263)","v":""},{"$f":"IF(貴校データ入力シート!S263=\"\",\"\",貴校データ入力シート!S263)","v":""},{"$f":"IF(貴校データ入力シート!T263=\"\",\"\",貴校データ入力シート!T263)","v":""},{"$f":"IF(貴校データ入力シート!U263=\"\",\"\",貴校データ入力シート!U263)","v":""},{"$f":"IF(貴校データ入力シート!V263=\"\",\"\",貴校データ入力シート!V263)","v":""},{"$f":"IF(貴校データ入力シート!W263=\"\",\"\",貴校データ入力シート!W263)","v":""},{"$f":"IF(貴校データ入力シート!X263=\"\",\"\",貴校データ入力シート!X263)","v":""},{"$f":"IF(貴校データ入力シート!Y263=\"\",\"\",貴校データ入力シート!Y263)","v":""},{"$f":"IF(貴校データ入力シート!Z263=\"\",\"\",貴校データ入力シート!Z263)","v":""},{"$f":"IF(貴校データ入力シート!AA263=\"\",\"\",貴校データ入力シート!AA263)","v":""},{"$f":"IF(貴校データ入力シート!AB263=\"\",\"\",貴校データ入力シート!AB263)","v":""},null,null,null,{"$f":"AG261","v":0},{"$f":"AH262","v":0},{"$f":"AI263","v":0}]
[null,null,null,null,null,null,null,null,null,null,{"$f":"IF(貴校データ入力シート!G264=\"\",\"\",貴校データ入力シート!G264)","v":""},{"$f":"IF(貴校データ入力シート!H264=\"\",\"\",貴校データ入力シート!H264)","v":""},{"$f":"IF(貴校データ入力シート!I264=\"\",\"\",貴校データ入力シート!I264)","v":""},{"$f":"IF(貴校データ入力シート!J264=\"\",\"\",貴校データ入力シート!J264)","v":""},{"$f":"IF(貴校データ入力シート!K264=\"\",\"\",貴校データ入力シート!K264)","v":""},{"$f":"IF(貴校データ入力シート!L264=\"\",\"\",貴校データ入力シート!L264)","v":""},{"$f":"IF(貴校データ入力シート!M264=\"\",\"\",貴校データ入力シート!M264)","v":""},{"$f":"IF(貴校データ入力シート!N264=\"\",\"\",貴校データ入力シート!N264)","v":""},{"$f":"IF(貴校データ入力シート!O264=\"\",\"\",貴校データ入力シート!O264)","v":""},{"$f":"IF(貴校データ入力シート!P264=\"\",\"\",貴校データ入力シート!P264)","v":""},{"$f":"IF(貴校データ入力シート!Q264=\"\",\"\",貴校データ入力シート!Q264)","v":""},{"$f":"IF(貴校データ入力シート!R264=\"\",\"\",貴校データ入力シート!R264)","v":""},{"$f":"IF(貴校データ入力シート!S264=\"\",\"\",貴校データ入力シート!S264)","v":""},{"$f":"IF(貴校データ入力シート!T264=\"\",\"\",貴校データ入力シート!T264)","v":""},{"$f":"IF(貴校データ入力シート!U264=\"\",\"\",貴校データ入力シート!U264)","v":""},{"$f":"IF(貴校データ入力シート!V264=\"\",\"\",貴校データ入力シート!V264)","v":""},{"$f":"IF(貴校データ入力シート!W264=\"\",\"\",貴校データ入力シート!W264)","v":""},{"$f":"IF(貴校データ入力シート!X264=\"\",\"\",貴校データ入力シート!X264)","v":""},{"$f":"IF(貴校データ入力シート!Y264=\"\",\"\",貴校データ入力シート!Y264)","v":""},{"$f":"IF(貴校データ入力シート!Z264=\"\",\"\",貴校データ入力シート!Z264)","v":""},{"$f":"IF(貴校データ入力シート!AA264=\"\",\"\",貴校データ入力シート!AA264)","v":""},{"$f":"IF(貴校データ入力シート!AB264=\"\",\"\",貴校データ入力シート!AB264)","v":""},{"$f":"SUM(K261:L261)","v":0}]
[null,null,null,null,null,null,null,null,null,null,{"$f":"IF(貴校データ入力シート!G265=\"\",\"\",貴校データ入力シート!G265)","v":""},{"$f":"IF(貴校データ入力シート!H265=\"\",\"\",貴校データ入力シート!H265)","v":""},{"$f":"IF(貴校データ入力シート!I265=\"\",\"\",貴校データ入力シート!I265)","v":""},{"$f":"IF(貴校データ入力シート!J265=\"\",\"\",貴校データ入力シート!J265)","v":""},{"$f":"IF(貴校データ入力シート!K265=\"\",\"\",貴校データ入力シート!K265)","v":""},{"$f":"IF(貴校データ入力シート!L265=\"\",\"\",貴校データ入力シート!L265)","v":""},{"$f":"IF(貴校データ入力シート!M265=\"\",\"\",貴校データ入力シート!M265)","v":""},{"$f":"IF(貴校データ入力シート!N265=\"\",\"\",貴校データ入力シート!N265)","v":""},{"$f":"IF(貴校データ入力シート!O265=\"\",\"\",貴校データ入力シート!O265)","v":""},{"$f":"IF(貴校データ入力シート!P265=\"\",\"\",貴校データ入力シート!P265)","v":""},{"$f":"IF(貴校データ入力シート!Q265=\"\",\"\",貴校データ入力シート!Q265)","v":""},{"$f":"IF(貴校データ入力シート!R265=\"\",\"\",貴校データ入力シート!R265)","v":""},{"$f":"IF(貴校データ入力シート!S265=\"\",\"\",貴校データ入力シート!S265)","v":""},{"$f":"IF(貴校データ入力シート!T265=\"\",\"\",貴校データ入力シート!T265)","v":""},{"$f":"IF(貴校データ入力シート!U265=\"\",\"\",貴校データ入力シート!U265)","v":""},{"$f":"IF(貴校データ入力シート!V265=\"\",\"\",貴校データ入力シート!V265)","v":""},{"$f":"IF(貴校データ入力シート!W265=\"\",\"\",貴校データ入力シート!W265)","v":""},{"$f":"IF(貴校データ入力シート!X265=\"\",\"\",貴校データ入力シート!X265)","v":""},{"$f":"IF(貴校データ入力シート!Y265=\"\",\"\",貴校データ入力シート!Y265)","v":""},{"$f":"IF(貴校データ入力シート!Z265=\"\",\"\",貴校データ入力シート!Z265)","v":""},{"$f":"IF(貴校データ入力シート!AA265=\"\",\"\",貴校データ入力シート!AA265)","v":""},{"$f":"IF(貴校データ入力シート!AB265=\"\",\"\",貴校データ入力シート!AB265)","v":""},null,{"$f":"SUM(K262:L262)","v":0}]
[null,null,null,null,null,null,null,null,null,null,{"$f":"IF(貴校データ入力シート!G266=\"\",\"\",貴校データ入力シート!G266)","v":""},{"$f":"IF(貴校データ入力シート!H266=\"\",\"\",貴校データ入力シート!H266)","v":""},{"$f":"IF(貴校データ入力シート!I266=\"\",\"\",貴校データ入力シート!I266)","v":""},{"$f":"IF(貴校データ入力シート!J266=\"\",\"\",貴校データ入力シート!J266)","v":""},{"$f":"IF(貴校データ入力シート!K266=\"\",\"\",貴校データ入力シート!K266)","v":""},{"$f":"IF(貴校データ入力シート!L266=\"\",\"\",貴校データ入力シート!L266)","v":""},{"$f":"IF(貴校データ入力シート!M266=\"\",\"\",貴校データ入力シート!M266)","v":""},{"$f":"IF(貴校データ入力シート!N266=\"\",\"\",貴校データ入力シート!N266)","v":""},{"$f":"IF(貴校データ入力シート!O266=\"\",\"\",貴校データ入力シート!O266)","v":""},{"$f":"IF(貴校データ入力シート!P266=\"\",\"\",貴校データ入力シート!P266)","v":""},{"$f":"IF(貴校データ入力シート!Q266=\"\",\"\",貴校データ入力シート!Q266)","v":""},{"$f":"IF(貴校データ入力シート!R266=\"\",\"\",貴校データ入力シート!R266)","v":""},{"$f":"IF(貴校データ入力シート!S266=\"\",\"\",貴校データ入力シート!S266)","v":""},{"$f":"IF(貴校データ入力シート!T266=\"\",\"\",貴校データ入力シート!T266)","v":""},{"$f":"IF(貴校データ入力シート!U266=\"\",\"\",貴校データ入力シート!U266)","v":""},{"$f":"IF(貴校データ入力シート!V266=\"\",\"\",貴校データ入力シート!V266)","v":""},{"$f":"IF(貴校データ入力シート!W266=\"\",\"\",貴校データ入力シート!W266)","v":""},{"$f":"IF(貴校データ入力シート!X266=\"\",\"\",貴校データ入力シート!X266)","v":""},{"$f":"IF(貴校データ入力シート!Y266=\"\",\"\",貴校データ入力シート!Y266)","v":""},{"$f":"IF(貴校データ入力シート!Z266=\"\",\"\",貴校データ入力シート!Z266)","v":""},{"$f":"IF(貴校データ入力シート!AA266=\"\",\"\",貴校データ入力シート!AA266)","v":""},{"$f":"IF(貴校データ入力シート!AB266=\"\",\"\",貴校データ入力シート!AB266)","v":""},null,null,{"$f":"SUM(K263:L263)","v":0}]
[89,"（６７）",{"$f":"IF(貴校データ入力シート!C267=\"\",\"\",貴校データ入力シート!C267)","v":"５年生までに受けた授業では、図形や数直線など図が示された問題では、問題を解くときに図が役に立つと思いましたか"},null,null,null,null,null,null,null,{"$f":"IF(貴校データ入力シート!G267=\"\",\"\",貴校データ入力シート!G267)","v":""},{"$f":"IF(貴校データ入力シート!H267=\"\",\"\",貴校データ入力シート!H267)","v":""},{"$f":"IF(貴校データ入力シート!I267=\"\",\"\",貴校データ入力シート!I267)","v":""},{"$f":"IF(貴校データ入力シート!J267=\"\",\"\",貴校データ入力シート!J267)","v":""},{"$f":"IF(貴校データ入力シート!K267=\"\",\"\",貴校データ入力シート!K267)","v":""},{"$f":"IF(貴校データ入力シート!L267=\"\",\"\",貴校データ入力シート!L267)","v":""},{"$f":"IF(貴校データ入力シート!M267=\"\",\"\",貴校データ入力シート!M267)","v":""},{"$f":"IF(貴校データ入力シート!N267=\"\",\"\",貴校データ入力シート!N267)","v":""},{"$f":"IF(貴校データ入力シート!O267=\"\",\"\",貴校データ入力シート!O267)","v":""},{"$f":"IF(貴校データ入力シート!P267=\"\",\"\",貴校データ入力シート!P267)","v":""},{"$f":"IF(貴校データ入力シート!Q267=\"\",\"\",貴校データ入力シート!Q267)","v":""},{"$f":"IF(貴校データ入力シート!R267=\"\",\"\",貴校データ入力シート!R267)","v":""},{"$f":"IF(貴校データ入力シート!S267=\"\",\"\",貴校データ入力シート!S267)","v":""},{"$f":"IF(貴校データ入力シート!T267=\"\",\"\",貴校データ入力シート!T267)","v":""},{"$f":"IF(貴校データ入力シート!U267=\"\",\"\",貴校データ入力シート!U267)","v":""},{"$f":"IF(貴校データ入力シート!V267=\"\",\"\",貴校データ入力シート!V267)","v":""},{"$f":"IF(貴校データ入力シート!W267=\"\",\"\",貴校データ入力シート!W267)","v":""},{"$f":"IF(貴校データ入力シート!X267=\"\",\"\",貴校データ入力シート!X267)","v":""},{"$f":"IF(貴校データ入力シート!Y267=\"\",\"\",貴校データ入力シート!Y267)","v":""},{"$f":"IF(貴校データ入力シート!Z267=\"\",\"\",貴校データ入力シート!Z267)","v":""},{"$f":"IF(貴校データ入力シート!AA267=\"\",\"\",貴校データ入力シート!AA267)","v":""},{"$f":"IF(貴校データ入力シート!AB267=\"\",\"\",貴校データ入力シート!AB267)","v":""},null,null,null,{"$f":"AG265","v":0},{"$f":"AH266","v":0},{"$f":"AI267","v":0}]
[null,null,null,null,null,null,null,null,null,null,{"$f":"IF(貴校データ入力シート!G268=\"\",\"\",貴校データ入力シート!G268)","v":""},{"$f":"IF(貴校データ入力シート!H268=\"\",\"\",貴校データ入力シート!H268)","v":""},{"$f":"IF(貴校データ入力シート!I268=\"\",\"\",貴校データ入力シート!I268)","v":""},{"$f":"IF(貴校データ入力シート!J268=\"\",\"\",貴校データ入力シート!J268)","v":""},{"$f":"IF(貴校データ入力シート!K268=\"\",\"\",貴校データ入力シート!K268)","v":""},{"$f":"IF(貴校データ入力シート!L268=\"\",\"\",貴校データ入力シート!L268)","v":""},{"$f":"IF(貴校データ入力シート!M268=\"\",\"\",貴校データ入力シート!M268)","v":""},{"$f":"IF(貴校データ入力シート!N268=\"\",\"\",貴校データ入力シート!N268)","v":""},{"$f":"IF(貴校データ入力シート!O268=\"\",\"\",貴校データ入力シート!O268)","v":""},{"$f":"IF(貴校データ入力シート!P268=\"\",\"\",貴校データ入力シート!P268)","v":""},{"$f":"IF(貴校データ入力シート!Q268=\"\",\"\",貴校データ入力シート!Q268)","v":""},{"$f":"IF(貴校データ入力シート!R268=\"\",\"\",貴校データ入力シート!R268)","v":""},{"$f":"IF(貴校データ入力シート!S268=\"\",\"\",貴校データ入力シート!S268)","v":""},{"$f":"IF(貴校データ入力シート!T268=\"\",\"\",貴校データ入力シート!T268)","v":""},{"$f":"IF(貴校データ入力シート!U268=\"\",\"\",貴校データ入力シート!U268)","v":""},{"$f":"IF(貴校データ入力シート!V268=\"\",\"\",貴校データ入力シート!V268)","v":""},{"$f":"IF(貴校データ入力シート!W268=\"\",\"\",貴校データ入力シート!W268)","v":""},{"$f":"IF(貴校データ入力シート!X268=\"\",\"\",貴校データ入力シート!X268)","v":""},{"$f":"IF(貴校データ入力シート!Y268=\"\",\"\",貴校データ入力シート!Y268)","v":""},{"$f":"IF(貴校データ入力シート!Z268=\"\",\"\",貴校データ入力シート!Z268)","v":""},{"$f":"IF(貴校データ入力シート!AA268=\"\",\"\",貴校データ入力シート!AA268)","v":""},{"$f":"IF(貴校データ入力シート!AB268=\"\",\"\",貴校データ入力シート!AB268)","v":""},{"$f":"SUM(K265:L265)","v":0}]
[null,null,null,null,null,null,null,null,null,null,{"$f":"IF(貴校データ入力シート!G269=\"\",\"\",貴校データ入力シート!G269)","v":""},{"$f":"IF(貴校データ入力シート!H269=\"\",\"\",貴校データ入力シート!H269)","v":""},{"$f":"IF(貴校データ入力シート!I269=\"\",\"\",貴校データ入力シート!I269)","v":""},{"$f":"IF(貴校データ入力シート!J269=\"\",\"\",貴校データ入力シート!J269)","v":""},{"$f":"IF(貴校データ入力シート!K269=\"\",\"\",貴校データ入力シート!K269)","v":""},{"$f":"IF(貴校データ入力シート!L269=\"\",\"\",貴校データ入力シート!L269)","v":""},{"$f":"IF(貴校データ入力シート!M269=\"\",\"\",貴校データ入力シート!M269)","v":""},{"$f":"IF(貴校データ入力シート!N269=\"\",\"\",貴校データ入力シート!N269)","v":""},{"$f":"IF(貴校データ入力シート!O269=\"\",\"\",貴校データ入力シート!O269)","v":""},{"$f":"IF(貴校データ入力シート!P269=\"\",\"\",貴校データ入力シート!P269)","v":""},{"$f":"IF(貴校データ入力シート!Q269=\"\",\"\",貴校データ入力シート!Q269)","v":""},{"$f":"IF(貴校データ入力シート!R269=\"\",\"\",貴校データ入力シート!R269)","v":""},{"$f":"IF(貴校データ入力シート!S269=\"\",\"\",貴校データ入力シート!S269)","v":""},{"$f":"IF(貴校データ入力シート!T269=\"\",\"\",貴校データ入力シート!T269)","v":""},{"$f":"IF(貴校データ入力シート!U269=\"\",\"\",貴校データ入力シート!U269)","v":""},{"$f":"IF(貴校データ入力シート!V269=\"\",\"\",貴校データ入力シート!V269)","v":""},{"$f":"IF(貴校データ入力シート!W269=\"\",\"\",貴校データ入力シート!W269)","v":""},{"$f":"IF(貴校データ入力シート!X269=\"\",\"\",貴校データ入力シート!X269)","v":""},{"$f":"IF(貴校データ入力シート!Y269=\"\",\"\",貴校データ入力シート!Y269)","v":""},{"$f":"IF(貴校データ入力シート!Z269=\"\",\"\",貴校データ入力シート!Z269)","v":""},{"$f":"IF(貴校データ入力シート!AA269=\"\",\"\",貴校データ入力シート!AA269)","v":""},{"$f":"IF(貴校データ入力シート!AB269=\"\",\"\",貴校データ入力シート!AB269)","v":""},null,{"$f":"SUM(K266:L266)","v":0}]
[null,null,null,null,null,null,null,null,null,null,{"$f":"IF(貴校データ入力シート!G270=\"\",\"\",貴校データ入力シート!G270)","v":""},{"$f":"IF(貴校データ入力シート!H270=\"\",\"\",貴校データ入力シート!H270)","v":""},{"$f":"IF(貴校データ入力シート!I270=\"\",\"\",貴校データ入力シート!I270)","v":""},{"$f":"IF(貴校データ入力シート!J270=\"\",\"\",貴校データ入力シート!J270)","v":""},{"$f":"IF(貴校データ入力シート!K270=\"\",\"\",貴校データ入力シート!K270)","v":""},{"$f":"IF(貴校データ入力シート!L270=\"\",\"\",貴校データ入力シート!L270)","v":""},{"$f":"IF(貴校データ入力シート!M270=\"\",\"\",貴校データ入力シート!M270)","v":""},{"$f":"IF(貴校データ入力シート!N270=\"\",\"\",貴校データ入力シート!N270)","v":""},{"$f":"IF(貴校データ入力シート!O270=\"\",\"\",貴校データ入力シート!O270)","v":""},{"$f":"IF(貴校データ入力シート!P270=\"\",\"\",貴校データ入力シート!P270)","v":""},{"$f":"IF(貴校データ入力シート!Q270=\"\",\"\",貴校データ入力シート!Q270)","v":""},{"$f":"IF(貴校データ入力シート!R270=\"\",\"\",貴校データ入力シート!R270)","v":""},{"$f":"IF(貴校データ入力シート!S270=\"\",\"\",貴校データ入力シート!S270)","v":""},{"$f":"IF(貴校データ入力シート!T270=\"\",\"\",貴校データ入力シート!T270)","v":""},{"$f":"IF(貴校データ入力シート!U270=\"\",\"\",貴校データ入力シート!U270)","v":""},{"$f":"IF(貴校データ入力シート!V270=\"\",\"\",貴校データ入力シート!V270)","v":""},{"$f":"IF(貴校データ入力シート!W270=\"\",\"\",貴校データ入力シート!W270)","v":""},{"$f":"IF(貴校データ入力シート!X270=\"\",\"\",貴校データ入力シート!X270)","v":""},{"$f":"IF(貴校データ入力シート!Y270=\"\",\"\",貴校データ入力シート!Y270)","v":""},{"$f":"IF(貴校データ入力シート!Z270=\"\",\"\",貴校データ入力シート!Z270)","v":""},{"$f":"IF(貴校データ入力シート!AA270=\"\",\"\",貴校データ入力シート!AA270)","v":""},{"$f":"IF(貴校データ入力シート!AB270=\"\",\"\",貴校データ入力シート!AB270)","v":""},null,null,{"$f":"SUM(K267:L267)","v":0}]
[100,"（６９）",{"$f":"IF(貴校データ入力シート!C271=\"\",\"\",貴校データ入力シート!C271)","v":"英語の勉強は得意ですか"},null,null,null,null,null,null,null,{"$f":"IF(貴校データ入力シート!G271=\"\",\"\",貴校データ入力シート!G271)","v":""},{"$f":"IF(貴校データ入力シート!H271=\"\",\"\",貴校データ入力シート!H271)","v":""},{"$f":"IF(貴校データ入力シート!I271=\"\",\"\",貴校データ入力シート!I271)","v":""},{"$f":"IF(貴校データ入力シート!J271=\"\",\"\",貴校データ入力シート!J271)","v":""},{"$f":"IF(貴校データ入力シート!K271=\"\",\"\",貴校データ入力シート!K271)","v":""},{"$f":"IF(貴校データ入力シート!L271=\"\",\"\",貴校データ入力シート!L271)","v":""},{"$f":"IF(貴校データ入力シート!M271=\"\",\"\",貴校データ入力シート!M271)","v":""},{"$f":"IF(貴校データ入力シート!N271=\"\",\"\",貴校データ入力シート!N271)","v":""},{"$f":"IF(貴校データ入力シート!O271=\"\",\"\",貴校データ入力シート!O271)","v":""},{"$f":"IF(貴校データ入力シート!P271=\"\",\"\",貴校データ入力シート!P271)","v":""},{"$f":"IF(貴校データ入力シート!Q271=\"\",\"\",貴校データ入力シート!Q271)","v":""},{"$f":"IF(貴校データ入力シート!R271=\"\",\"\",貴校データ入力シート!R271)","v":""},{"$f":"IF(貴校データ入力シート!S271=\"\",\"\",貴校データ入力シート!S271)","v":""},{"$f":"IF(貴校データ入力シート!T271=\"\",\"\",貴校データ入力シート!T271)","v":""},{"$f":"IF(貴校データ入力シート!U271=\"\",\"\",貴校データ入力シート!U271)","v":""},{"$f":"IF(貴校データ入力シート!V271=\"\",\"\",貴校データ入力シート!V271)","v":""},{"$f":"IF(貴校データ入力シート!W271=\"\",\"\",貴校データ入力シート!W271)","v":""},{"$f":"IF(貴校データ入力シート!X271=\"\",\"\",貴校データ入力シート!X271)","v":""},{"$f":"IF(貴校データ入力シート!Y271=\"\",\"\",貴校データ入力シート!Y271)","v":""},{"$f":"IF(貴校データ入力シート!Z271=\"\",\"\",貴校データ入力シート!Z271)","v":""},{"$f":"IF(貴校データ入力シート!AA271=\"\",\"\",貴校データ入力シート!AA271)","v":""},{"$f":"IF(貴校データ入力シート!AB271=\"\",\"\",貴校データ入力シート!AB271)","v":""},null,null,null,{"$f":"AG269","v":0},{"$f":"AH270","v":0},{"$f":"AI271","v":0}]
[null,null,null,null,null,null,null,null,null,null,{"$f":"IF(貴校データ入力シート!G272=\"\",\"\",貴校データ入力シート!G272)","v":""},{"$f":"IF(貴校データ入力シート!H272=\"\",\"\",貴校データ入力シート!H272)","v":""},{"$f":"IF(貴校データ入力シート!I272=\"\",\"\",貴校データ入力シート!I272)","v":""},{"$f":"IF(貴校データ入力シート!J272=\"\",\"\",貴校データ入力シート!J272)","v":""},{"$f":"IF(貴校データ入力シート!K272=\"\",\"\",貴校データ入力シート!K272)","v":""},{"$f":"IF(貴校データ入力シート!L272=\"\",\"\",貴校データ入力シート!L272)","v":""},{"$f":"IF(貴校データ入力シート!M272=\"\",\"\",貴校データ入力シート!M272)","v":""},{"$f":"IF(貴校データ入力シート!N272=\"\",\"\",貴校データ入力シート!N272)","v":""},{"$f":"IF(貴校データ入力シート!O272=\"\",\"\",貴校データ入力シート!O272)","v":""},{"$f":"IF(貴校データ入力シート!P272=\"\",\"\",貴校データ入力シート!P272)","v":""},{"$f":"IF(貴校データ入力シート!Q272=\"\",\"\",貴校データ入力シート!Q272)","v":""},{"$f":"IF(貴校データ入力シート!R272=\"\",\"\",貴校データ入力シート!R272)","v":""},{"$f":"IF(貴校データ入力シート!S272=\"\",\"\",貴校データ入力シート!S272)","v":""},{"$f":"IF(貴校データ入力シート!T272=\"\",\"\",貴校データ入力シート!T272)","v":""},{"$f":"IF(貴校データ入力シート!U272=\"\",\"\",貴校データ入力シート!U272)","v":""},{"$f":"IF(貴校データ入力シート!V272=\"\",\"\",貴校データ入力シート!V272)","v":""},{"$f":"IF(貴校データ入力シート!W272=\"\",\"\",貴校データ入力シート!W272)","v":""},{"$f":"IF(貴校データ入力シート!X272=\"\",\"\",貴校データ入力シート!X272)","v":""},{"$f":"IF(貴校データ入力シート!Y272=\"\",\"\",貴校データ入力シート!Y272)","v":""},{"$f":"IF(貴校データ入力シート!Z272=\"\",\"\",貴校データ入力シート!Z272)","v":""},{"$f":"IF(貴校データ入力シート!AA272=\"\",\"\",貴校データ入力シート!AA272)","v":""},{"$f":"IF(貴校データ入力シート!AB272=\"\",\"\",貴校データ入力シート!AB272)","v":""},{"$f":"SUM(K269:L269)","v":0}]
[null,null,null,null,null,null,null,null,null,null,{"$f":"IF(貴校データ入力シート!G273=\"\",\"\",貴校データ入力シート!G273)","v":""},{"$f":"IF(貴校データ入力シート!H273=\"\",\"\",貴校データ入力シート!H273)","v":""},{"$f":"IF(貴校データ入力シート!I273=\"\",\"\",貴校データ入力シート!I273)","v":""},{"$f":"IF(貴校データ入力シート!J273=\"\",\"\",貴校データ入力シート!J273)","v":""},{"$f":"IF(貴校データ入力シート!K273=\"\",\"\",貴校データ入力シート!K273)","v":""},{"$f":"IF(貴校データ入力シート!L273=\"\",\"\",貴校データ入力シート!L273)","v":""},{"$f":"IF(貴校データ入力シート!M273=\"\",\"\",貴校データ入力シート!M273)","v":""},{"$f":"IF(貴校データ入力シート!N273=\"\",\"\",貴校データ入力シート!N273)","v":""},{"$f":"IF(貴校データ入力シート!O273=\"\",\"\",貴校データ入力シート!O273)","v":""},{"$f":"IF(貴校データ入力シート!P273=\"\",\"\",貴校データ入力シート!P273)","v":""},{"$f":"IF(貴校データ入力シート!Q273=\"\",\"\",貴校データ入力シート!Q273)","v":""},{"$f":"IF(貴校データ入力シート!R273=\"\",\"\",貴校データ入力シート!R273)","v":""},{"$f":"IF(貴校データ入力シート!S273=\"\",\"\",貴校データ入力シート!S273)","v":""},{"$f":"IF(貴校データ入力シート!T273=\"\",\"\",貴校データ入力シート!T273)","v":""},{"$f":"IF(貴校データ入力シート!U273=\"\",\"\",貴校データ入力シート!U273)","v":""},{"$f":"IF(貴校データ入力シート!V273=\"\",\"\",貴校データ入力シート!V273)","v":""},{"$f":"IF(貴校データ入力シート!W273=\"\",\"\",貴校データ入力シート!W273)","v":""},{"$f":"IF(貴校データ入力シート!X273=\"\",\"\",貴校データ入力シート!X273)","v":""},{"$f":"IF(貴校データ入力シート!Y273=\"\",\"\",貴校データ入力シート!Y273)","v":""},{"$f":"IF(貴校データ入力シート!Z273=\"\",\"\",貴校データ入力シート!Z273)","v":""},{"$f":"IF(貴校データ入力シート!AA273=\"\",\"\",貴校データ入力シート!AA273)","v":""},{"$f":"IF(貴校データ入力シート!AB273=\"\",\"\",貴校データ入力シート!AB273)","v":""},null,{"$f":"SUM(K270:L270)","v":0}]
[null,null,null,null,null,null,null,null,null,null,{"$f":"IF(貴校データ入力シート!G274=\"\",\"\",貴校データ入力シート!G274)","v":""},{"$f":"IF(貴校データ入力シート!H274=\"\",\"\",貴校データ入力シート!H274)","v":""},{"$f":"IF(貴校データ入力シート!I274=\"\",\"\",貴校データ入力シート!I274)","v":""},{"$f":"IF(貴校データ入力シート!J274=\"\",\"\",貴校データ入力シート!J274)","v":""},{"$f":"IF(貴校データ入力シート!K274=\"\",\"\",貴校データ入力シート!K274)","v":""},{"$f":"IF(貴校データ入力シート!L274=\"\",\"\",貴校データ入力シート!L274)","v":""},{"$f":"IF(貴校データ入力シート!M274=\"\",\"\",貴校データ入力シート!M274)","v":""},{"$f":"IF(貴校データ入力シート!N274=\"\",\"\",貴校データ入力シート!N274)","v":""},{"$f":"IF(貴校データ入力シート!O274=\"\",\"\",貴校データ入力シート!O274)","v":""},{"$f":"IF(貴校データ入力シート!P274=\"\",\"\",貴校データ入力シート!P274)","v":""},{"$f":"IF(貴校データ入力シート!Q274=\"\",\"\",貴校データ入力シート!Q274)","v":""},{"$f":"IF(貴校データ入力シート!R274=\"\",\"\",貴校データ入力シート!R274)","v":""},{"$f":"IF(貴校データ入力シート!S274=\"\",\"\",貴校データ入力シート!S274)","v":""},{"$f":"IF(貴校データ入力シート!T274=\"\",\"\",貴校データ入力シート!T274)","v":""},{"$f":"IF(貴校データ入力シート!U274=\"\",\"\",貴校データ入力シート!U274)","v":""},{"$f":"IF(貴校データ入力シート!V274=\"\",\"\",貴校データ入力シート!V274)","v":""},{"$f":"IF(貴校データ入力シート!W274=\"\",\"\",貴校データ入力シート!W274)","v":""},{"$f":"IF(貴校データ入力シート!X274=\"\",\"\",貴校データ入力シート!X274)","v":""},{"$f":"IF(貴校データ入力シート!Y274=\"\",\"\",貴校データ入力シート!Y274)","v":""},{"$f":"IF(貴校データ入力シート!Z274=\"\",\"\",貴校データ入力シート!Z274)","v":""},{"$f":"IF(貴校データ入力シート!AA274=\"\",\"\",貴校データ入力シート!AA274)","v":""},{"$f":"IF(貴校データ入力シート!AB274=\"\",\"\",貴校データ入力シート!AB274)","v":""},null,null,{"$f":"SUM(K271:L271)","v":0}]
[101,"（７０）",{"$f":"IF(貴校データ入力シート!C275=\"\",\"\",貴校データ入力シート!C275)","v":"英語の勉強は好きですか"},null,null,null,null,null,null,null,{"$f":"IF(貴校データ入力シート!G275=\"\",\"\",貴校データ入力シート!G275)","v":""},{"$f":"IF(貴校データ入力シート!H275=\"\",\"\",貴校データ入力シート!H275)","v":""},{"$f":"IF(貴校データ入力シート!I275=\"\",\"\",貴校データ入力シート!I275)","v":""},{"$f":"IF(貴校データ入力シート!J275=\"\",\"\",貴校データ入力シート!J275)","v":""},{"$f":"IF(貴校データ入力シート!K275=\"\",\"\",貴校データ入力シート!K275)","v":""},{"$f":"IF(貴校データ入力シート!L275=\"\",\"\",貴校データ入力シート!L275)","v":""},{"$f":"IF(貴校データ入力シート!M275=\"\",\"\",貴校データ入力シート!M275)","v":""},{"$f":"IF(貴校データ入力シート!N275=\"\",\"\",貴校データ入力シート!N275)","v":""},{"$f":"IF(貴校データ入力シート!O275=\"\",\"\",貴校データ入力シート!O275)","v":""},{"$f":"IF(貴校データ入力シート!P275=\"\",\"\",貴校データ入力シート!P275)","v":""},{"$f":"IF(貴校データ入力シート!Q275=\"\",\"\",貴校データ入力シート!Q275)","v":""},{"$f":"IF(貴校データ入力シート!R275=\"\",\"\",貴校データ入力シート!R275)","v":""},{"$f":"IF(貴校データ入力シート!S275=\"\",\"\",貴校データ入力シート!S275)","v":""},{"$f":"IF(貴校データ入力シート!T275=\"\",\"\",貴校データ入力シート!T275)","v":""},{"$f":"IF(貴校データ入力シート!U275=\"\",\"\",貴校データ入力シート!U275)","v":""},{"$f":"IF(貴校データ入力シート!V275=\"\",\"\",貴校データ入力シート!V275)","v":""},{"$f":"IF(貴校データ入力シート!W275=\"\",\"\",貴校データ入力シート!W275)","v":""},{"$f":"IF(貴校データ入力シート!X275=\"\",\"\",貴校データ入力シート!X275)","v":""},{"$f":"IF(貴校データ入力シート!Y275=\"\",\"\",貴校データ入力シート!Y275)","v":""},{"$f":"IF(貴校データ入力シート!Z275=\"\",\"\",貴校データ入力シート!Z275)","v":""},{"$f":"IF(貴校データ入力シート!AA275=\"\",\"\",貴校データ入力シート!AA275)","v":""},{"$f":"IF(貴校データ入力シート!AB275=\"\",\"\",貴校データ入力シート!AB275)","v":""},null,null,null,{"$f":"AG273","v":0},{"$f":"AH274","v":0},{"$f":"AI275","v":0}]
[null,null,null,null,null,null,null,null,null,null,{"$f":"IF(貴校データ入力シート!G276=\"\",\"\",貴校データ入力シート!G276)","v":""},{"$f":"IF(貴校データ入力シート!H276=\"\",\"\",貴校データ入力シート!H276)","v":""},{"$f":"IF(貴校データ入力シート!I276=\"\",\"\",貴校データ入力シート!I276)","v":""},{"$f":"IF(貴校データ入力シート!J276=\"\",\"\",貴校データ入力シート!J276)","v":""},{"$f":"IF(貴校データ入力シート!K276=\"\",\"\",貴校データ入力シート!K276)","v":""},{"$f":"IF(貴校データ入力シート!L276=\"\",\"\",貴校データ入力シート!L276)","v":""},{"$f":"IF(貴校データ入力シート!M276=\"\",\"\",貴校データ入力シート!M276)","v":""},{"$f":"IF(貴校データ入力シート!N276=\"\",\"\",貴校データ入力シート!N276)","v":""},{"$f":"IF(貴校データ入力シート!O276=\"\",\"\",貴校データ入力シート!O276)","v":""},{"$f":"IF(貴校データ入力シート!P276=\"\",\"\",貴校データ入力シート!P276)","v":""},{"$f":"IF(貴校データ入力シート!Q276=\"\",\"\",貴校データ入力シート!Q276)","v":""},{"$f":"IF(貴校データ入力シート!R276=\"\",\"\",貴校データ入力シート!R276)","v":""},{"$f":"IF(貴校データ入力シート!S276=\"\",\"\",貴校データ入力シート!S276)","v":""},{"$f":"IF(貴校データ入力シート!T276=\"\",\"\",貴校データ入力シート!T276)","v":""},{"$f":"IF(貴校データ入力シート!U276=\"\",\"\",貴校データ入力シート!U276)","v":""},{"$f":"IF(貴校データ入力シート!V276=\"\",\"\",貴校データ入力シート!V276)","v":""},{"$f":"IF(貴校データ入力シート!W276=\"\",\"\",貴校データ入力シート!W276)","v":""},{"$f":"IF(貴校データ入力シート!X276=\"\",\"\",貴校データ入力シート!X276)","v":""},{"$f":"IF(貴校データ入力シート!Y276=\"\",\"\",貴校データ入力シート!Y276)","v":""},{"$f":"IF(貴校データ入力シート!Z276=\"\",\"\",貴校データ入力シート!Z276)","v":""},{"$f":"IF(貴校データ入力シート!AA276=\"\",\"\",貴校データ入力シート!AA276)","v":""},{"$f":"IF(貴校データ入力シート!AB276=\"\",\"\",貴校データ入力シート!AB276)","v":""},{"$f":"SUM(K273:L273)","v":0}]
[null,null,null,null,null,null,null,null,null,null,{"$f":"IF(貴校データ入力シート!G277=\"\",\"\",貴校データ入力シート!G277)","v":""},{"$f":"IF(貴校データ入力シート!H277=\"\",\"\",貴校データ入力シート!H277)","v":""},{"$f":"IF(貴校データ入力シート!I277=\"\",\"\",貴校データ入力シート!I277)","v":""},{"$f":"IF(貴校データ入力シート!J277=\"\",\"\",貴校データ入力シート!J277)","v":""},{"$f":"IF(貴校データ入力シート!K277=\"\",\"\",貴校データ入力シート!K277)","v":""},{"$f":"IF(貴校データ入力シート!L277=\"\",\"\",貴校データ入力シート!L277)","v":""},{"$f":"IF(貴校データ入力シート!M277=\"\",\"\",貴校データ入力シート!M277)","v":""},{"$f":"IF(貴校データ入力シート!N277=\"\",\"\",貴校データ入力シート!N277)","v":""},{"$f":"IF(貴校データ入力シート!O277=\"\",\"\",貴校データ入力シート!O277)","v":""},{"$f":"IF(貴校データ入力シート!P277=\"\",\"\",貴校データ入力シート!P277)","v":""},{"$f":"IF(貴校データ入力シート!Q277=\"\",\"\",貴校データ入力シート!Q277)","v":""},{"$f":"IF(貴校データ入力シート!R277=\"\",\"\",貴校データ入力シート!R277)","v":""},{"$f":"IF(貴校データ入力シート!S277=\"\",\"\",貴校データ入力シート!S277)","v":""},{"$f":"IF(貴校データ入力シート!T277=\"\",\"\",貴校データ入力シート!T277)","v":""},{"$f":"IF(貴校データ入力シート!U277=\"\",\"\",貴校データ入力シート!U277)","v":""},{"$f":"IF(貴校データ入力シート!V277=\"\",\"\",貴校データ入力シート!V277)","v":""},{"$f":"IF(貴校データ入力シート!W277=\"\",\"\",貴校データ入力シート!W277)","v":""},{"$f":"IF(貴校データ入力シート!X277=\"\",\"\",貴校データ入力シート!X277)","v":""},{"$f":"IF(貴校データ入力シート!Y277=\"\",\"\",貴校データ入力シート!Y277)","v":""},{"$f":"IF(貴校データ入力シート!Z277=\"\",\"\",貴校データ入力シート!Z277)","v":""},{"$f":"IF(貴校データ入力シート!AA277=\"\",\"\",貴校データ入力シート!AA277)","v":""},{"$f":"IF(貴校データ入力シート!AB277=\"\",\"\",貴校データ入力シート!AB277)","v":""},null,{"$f":"SUM(K274:L274)","v":0}]
[null,null,null,null,null,null,null,null,null,null,{"$f":"IF(貴校データ入力シート!G278=\"\",\"\",貴校データ入力シート!G278)","v":""},{"$f":"IF(貴校データ入力シート!H278=\"\",\"\",貴校データ入力シート!H278)","v":""},{"$f":"IF(貴校データ入力シート!I278=\"\",\"\",貴校データ入力シート!I278)","v":""},{"$f":"IF(貴校データ入力シート!J278=\"\",\"\",貴校データ入力シート!J278)","v":""},{"$f":"IF(貴校データ入力シート!K278=\"\",\"\",貴校データ入力シート!K278)","v":""},{"$f":"IF(貴校データ入力シート!L278=\"\",\"\",貴校データ入力シート!L278)","v":""},{"$f":"IF(貴校データ入力シート!M278=\"\",\"\",貴校データ入力シート!M278)","v":""},{"$f":"IF(貴校データ入力シート!N278=\"\",\"\",貴校データ入力シート!N278)","v":""},{"$f":"IF(貴校データ入力シート!O278=\"\",\"\",貴校データ入力シート!O278)","v":""},{"$f":"IF(貴校データ入力シート!P278=\"\",\"\",貴校データ入力シート!P278)","v":""},{"$f":"IF(貴校データ入力シート!Q278=\"\",\"\",貴校データ入力シート!Q278)","v":""},{"$f":"IF(貴校データ入力シート!R278=\"\",\"\",貴校データ入力シート!R278)","v":""},{"$f":"IF(貴校データ入力シート!S278=\"\",\"\",貴校データ入力シート!S278)","v":""},{"$f":"IF(貴校データ入力シート!T278=\"\",\"\",貴校データ入力シート!T278)","v":""},{"$f":"IF(貴校データ入力シート!U278=\"\",\"\",貴校データ入力シート!U278)","v":""},{"$f":"IF(貴校データ入力シート!V278=\"\",\"\",貴校データ入力シート!V278)","v":""},{"$f":"IF(貴校データ入力シート!W278=\"\",\"\",貴校データ入力シート!W278)","v":""},{"$f":"IF(貴校データ入力シート!X278=\"\",\"\",貴校データ入力シート!X278)","v":""},{"$f":"IF(貴校データ入力シート!Y278=\"\",\"\",貴校データ入力シート!Y278)","v":""},{"$f":"IF(貴校データ入力シート!Z278=\"\",\"\",貴校データ入力シート!Z278)","v":""},{"$f":"IF(貴校データ入力シート!AA278=\"\",\"\",貴校データ入力シート!AA278)","v":""},{"$f":"IF(貴校データ入力シート!AB278=\"\",\"\",貴校データ入力シート!AB278)","v":""},null,null,{"$f":"SUM(K275:L275)","v":0}]
[102,"（７１）",{"$f":"IF(貴校データ入力シート!C279=\"\",\"\",貴校データ入力シート!C279)","v":"将来、積極的に英語を使うような生活をしたり職業に就いたりしたいですか"},null,null,null,null,null,null,null,{"$f":"IF(貴校データ入力シート!G279=\"\",\"\",貴校データ入力シート!G279)","v":""},{"$f":"IF(貴校データ入力シート!H279=\"\",\"\",貴校データ入力シート!H279)","v":""},{"$f":"IF(貴校データ入力シート!I279=\"\",\"\",貴校データ入力シート!I279)","v":""},{"$f":"IF(貴校データ入力シート!J279=\"\",\"\",貴校データ入力シート!J279)","v":""},{"$f":"IF(貴校データ入力シート!K279=\"\",\"\",貴校データ入力シート!K279)","v":""},{"$f":"IF(貴校データ入力シート!L279=\"\",\"\",貴校データ入力シート!L279)","v":""},{"$f":"IF(貴校データ入力シート!M279=\"\",\"\",貴校データ入力シート!M279)","v":""},{"$f":"IF(貴校データ入力シート!N279=\"\",\"\",貴校データ入力シート!N279)","v":""},{"$f":"IF(貴校データ入力シート!O279=\"\",\"\",貴校データ入力シート!O279)","v":""},{"$f":"IF(貴校データ入力シート!P279=\"\",\"\",貴校データ入力シート!P279)","v":""},{"$f":"IF(貴校データ入力シート!Q279=\"\",\"\",貴校データ入力シート!Q279)","v":""},{"$f":"IF(貴校データ入力シート!R279=\"\",\"\",貴校データ入力シート!R279)","v":""},{"$f":"IF(貴校データ入力シート!S279=\"\",\"\",貴校データ入力シート!S279)","v":""},{"$f":"IF(貴校データ入力シート!T279=\"\",\"\",貴校データ入力シート!T279)","v":""},{"$f":"IF(貴校データ入力シート!U279=\"\",\"\",貴校データ入力シート!U279)","v":""},{"$f":"IF(貴校データ入力シート!V279=\"\",\"\",貴校データ入力シート!V279)","v":""},{"$f":"IF(貴校データ入力シート!W279=\"\",\"\",貴校データ入力シート!W279)","v":""},{"$f":"IF(貴校データ入力シート!X279=\"\",\"\",貴校データ入力シート!X279)","v":""},{"$f":"IF(貴校データ入力シート!Y279=\"\",\"\",貴校データ入力シート!Y279)","v":""},{"$f":"IF(貴校データ入力シート!Z279=\"\",\"\",貴校データ入力シート!Z279)","v":""},{"$f":"IF(貴校データ入力シート!AA279=\"\",\"\",貴校データ入力シート!AA279)","v":""},{"$f":"IF(貴校データ入力シート!AB279=\"\",\"\",貴校データ入力シート!AB279)","v":""},null,null,null,{"$f":"AG277","v":0},{"$f":"AH278","v":0},{"$f":"AI279","v":0}]
[null,null,null,null,null,null,null,null,null,null,{"$f":"IF(貴校データ入力シート!G280=\"\",\"\",貴校データ入力シート!G280)","v":""},{"$f":"IF(貴校データ入力シート!H280=\"\",\"\",貴校データ入力シート!H280)","v":""},{"$f":"IF(貴校データ入力シート!I280=\"\",\"\",貴校データ入力シート!I280)","v":""},{"$f":"IF(貴校データ入力シート!J280=\"\",\"\",貴校データ入力シート!J280)","v":""},{"$f":"IF(貴校データ入力シート!K280=\"\",\"\",貴校データ入力シート!K280)","v":""},{"$f":"IF(貴校データ入力シート!L280=\"\",\"\",貴校データ入力シート!L280)","v":""},{"$f":"IF(貴校データ入力シート!M280=\"\",\"\",貴校データ入力シート!M280)","v":""},{"$f":"IF(貴校データ入力シート!N280=\"\",\"\",貴校データ入力シート!N280)","v":""},{"$f":"IF(貴校データ入力シート!O280=\"\",\"\",貴校データ入力シート!O280)","v":""},{"$f":"IF(貴校データ入力シート!P280=\"\",\"\",貴校データ入力シート!P280)","v":""},{"$f":"IF(貴校データ入力シート!Q280=\"\",\"\",貴校データ入力シート!Q280)","v":""},{"$f":"IF(貴校データ入力シート!R280=\"\",\"\",貴校データ入力シート!R280)","v":""},{"$f":"IF(貴校データ入力シート!S280=\"\",\"\",貴校データ入力シート!S280)","v":""},{"$f":"IF(貴校データ入力シート!T280=\"\",\"\",貴校データ入力シート!T280)","v":""},{"$f":"IF(貴校データ入力シート!U280=\"\",\"\",貴校データ入力シート!U280)","v":""},{"$f":"IF(貴校データ入力シート!V280=\"\",\"\",貴校データ入力シート!V280)","v":""},{"$f":"IF(貴校データ入力シート!W280=\"\",\"\",貴校データ入力シート!W280)","v":""},{"$f":"IF(貴校データ入力シート!X280=\"\",\"\",貴校データ入力シート!X280)","v":""},{"$f":"IF(貴校データ入力シート!Y280=\"\",\"\",貴校データ入力シート!Y280)","v":""},{"$f":"IF(貴校データ入力シート!Z280=\"\",\"\",貴校データ入力シート!Z280)","v":""},{"$f":"IF(貴校データ入力シート!AA280=\"\",\"\",貴校データ入力シート!AA280)","v":""},{"$f":"IF(貴校データ入力シート!AB280=\"\",\"\",貴校データ入力シート!AB280)","v":""},{"$f":"SUM(K277:L277)","v":0}]
[null,null,null,null,null,null,null,null,null,null,{"$f":"IF(貴校データ入力シート!G281=\"\",\"\",貴校データ入力シート!G281)","v":""},{"$f":"IF(貴校データ入力シート!H281=\"\",\"\",貴校データ入力シート!H281)","v":""},{"$f":"IF(貴校データ入力シート!I281=\"\",\"\",貴校データ入力シート!I281)","v":""},{"$f":"IF(貴校データ入力シート!J281=\"\",\"\",貴校データ入力シート!J281)","v":""},{"$f":"IF(貴校データ入力シート!K281=\"\",\"\",貴校データ入力シート!K281)","v":""},{"$f":"IF(貴校データ入力シート!L281=\"\",\"\",貴校データ入力シート!L281)","v":""},{"$f":"IF(貴校データ入力シート!M281=\"\",\"\",貴校データ入力シート!M281)","v":""},{"$f":"IF(貴校データ入力シート!N281=\"\",\"\",貴校データ入力シート!N281)","v":""},{"$f":"IF(貴校データ入力シート!O281=\"\",\"\",貴校データ入力シート!O281)","v":""},{"$f":"IF(貴校データ入力シート!P281=\"\",\"\",貴校データ入力シート!P281)","v":""},{"$f":"IF(貴校データ入力シート!Q281=\"\",\"\",貴校データ入力シート!Q281)","v":""},{"$f":"IF(貴校データ入力シート!R281=\"\",\"\",貴校データ入力シート!R281)","v":""},{"$f":"IF(貴校データ入力シート!S281=\"\",\"\",貴校データ入力シート!S281)","v":""},{"$f":"IF(貴校データ入力シート!T281=\"\",\"\",貴校データ入力シート!T281)","v":""},{"$f":"IF(貴校データ入力シート!U281=\"\",\"\",貴校データ入力シート!U281)","v":""},{"$f":"IF(貴校データ入力シート!V281=\"\",\"\",貴校データ入力シート!V281)","v":""},{"$f":"IF(貴校データ入力シート!W281=\"\",\"\",貴校データ入力シート!W281)","v":""},{"$f":"IF(貴校データ入力シート!X281=\"\",\"\",貴校データ入力シート!X281)","v":""},{"$f":"IF(貴校データ入力シート!Y281=\"\",\"\",貴校データ入力シート!Y281)","v":""},{"$f":"IF(貴校データ入力シート!Z281=\"\",\"\",貴校データ入力シート!Z281)","v":""},{"$f":"IF(貴校データ入力シート!AA281=\"\",\"\",貴校データ入力シート!AA281)","v":""},{"$f":"IF(貴校データ入力シート!AB281=\"\",\"\",貴校データ入力シート!AB281)","v":""},null,{"$f":"SUM(K278:L278)","v":0}]
[null,null,null,null,null,null,null,null,null,null,{"$f":"IF(貴校データ入力シート!G282=\"\",\"\",貴校データ入力シート!G282)","v":""},{"$f":"IF(貴校データ入力シート!H282=\"\",\"\",貴校データ入力シート!H282)","v":""},{"$f":"IF(貴校データ入力シート!I282=\"\",\"\",貴校データ入力シート!I282)","v":""},{"$f":"IF(貴校データ入力シート!J282=\"\",\"\",貴校データ入力シート!J282)","v":""},{"$f":"IF(貴校データ入力シート!K282=\"\",\"\",貴校データ入力シート!K282)","v":""},{"$f":"IF(貴校データ入力シート!L282=\"\",\"\",貴校データ入力シート!L282)","v":""},{"$f":"IF(貴校データ入力シート!M282=\"\",\"\",貴校データ入力シート!M282)","v":""},{"$f":"IF(貴校データ入力シート!N282=\"\",\"\",貴校データ入力シート!N282)","v":""},{"$f":"IF(貴校データ入力シート!O282=\"\",\"\",貴校データ入力シート!O282)","v":""},{"$f":"IF(貴校データ入力シート!P282=\"\",\"\",貴校データ入力シート!P282)","v":""},{"$f":"IF(貴校データ入力シート!Q282=\"\",\"\",貴校データ入力シート!Q282)","v":""},{"$f":"IF(貴校データ入力シート!R282=\"\",\"\",貴校データ入力シート!R282)","v":""},{"$f":"IF(貴校データ入力シート!S282=\"\",\"\",貴校データ入力シート!S282)","v":""},{"$f":"IF(貴校データ入力シート!T282=\"\",\"\",貴校データ入力シート!T282)","v":""},{"$f":"IF(貴校データ入力シート!U282=\"\",\"\",貴校データ入力シート!U282)","v":""},{"$f":"IF(貴校データ入力シート!V282=\"\",\"\",貴校データ入力シート!V282)","v":""},{"$f":"IF(貴校データ入力シート!W282=\"\",\"\",貴校データ入力シート!W282)","v":""},{"$f":"IF(貴校データ入力シート!X282=\"\",\"\",貴校データ入力シート!X282)","v":""},{"$f":"IF(貴校データ入力シート!Y282=\"\",\"\",貴校データ入力シート!Y282)","v":""},{"$f":"IF(貴校データ入力シート!Z282=\"\",\"\",貴校データ入力シート!Z282)","v":""},{"$f":"IF(貴校データ入力シート!AA282=\"\",\"\",貴校データ入力シート!AA282)","v":""},{"$f":"IF(貴校データ入力シート!AB282=\"\",\"\",貴校データ入力シート!AB282)","v":""},null,null,{"$f":"SUM(K279:L279)","v":0}]
[103,"（７２）",{"$f":"IF(貴校データ入力シート!C283=\"\",\"\",貴校データ入力シート!C283)","v":"これまで、学校の授業以外で、英語を使う機会がありましたか（地域の人や外国にいる人と英語で話す、英語で手紙や電子メールを書く、英語のテレビや動画、ホームページを見る、PC・タブレットなどのICT機器を利用して他者と英語で交流する、英会話教室に通うなど）"},null,null,null,null,null,null,null,{"$f":"IF(貴校データ入力シート!G283=\"\",\"\",貴校データ入力シート!G283)","v":""},{"$f":"IF(貴校データ入力シート!H283=\"\",\"\",貴校データ入力シート!H283)","v":""},{"$f":"IF(貴校データ入力シート!I283=\"\",\"\",貴校データ入力シート!I283)","v":""},{"$f":"IF(貴校データ入力シート!J283=\"\",\"\",貴校データ入力シート!J283)","v":""},{"$f":"IF(貴校データ入力シート!K283=\"\",\"\",貴校データ入力シート!K283)","v":""},{"$f":"IF(貴校データ入力シート!L283=\"\",\"\",貴校データ入力シート!L283)","v":""},{"$f":"IF(貴校データ入力シート!M283=\"\",\"\",貴校データ入力シート!M283)","v":""},{"$f":"IF(貴校データ入力シート!N283=\"\",\"\",貴校データ入力シート!N283)","v":""},{"$f":"IF(貴校データ入力シート!O283=\"\",\"\",貴校データ入力シート!O283)","v":""},{"$f":"IF(貴校データ入力シート!P283=\"\",\"\",貴校データ入力シート!P283)","v":""},{"$f":"IF(貴校データ入力シート!Q283=\"\",\"\",貴校データ入力シート!Q283)","v":""},{"$f":"IF(貴校データ入力シート!R283=\"\",\"\",貴校データ入力シート!R283)","v":""},{"$f":"IF(貴校データ入力シート!S283=\"\",\"\",貴校データ入力シート!S283)","v":""},{"$f":"IF(貴校データ入力シート!T283=\"\",\"\",貴校データ入力シート!T283)","v":""},{"$f":"IF(貴校データ入力シート!U283=\"\",\"\",貴校データ入力シート!U283)","v":""},{"$f":"IF(貴校データ入力シート!V283=\"\",\"\",貴校データ入力シート!V283)","v":""},{"$f":"IF(貴校データ入力シート!W283=\"\",\"\",貴校データ入力シート!W283)","v":""},{"$f":"IF(貴校データ入力シート!X283=\"\",\"\",貴校データ入力シート!X283)","v":""},{"$f":"IF(貴校データ入力シート!Y283=\"\",\"\",貴校データ入力シート!Y283)","v":""},{"$f":"IF(貴校データ入力シート!Z283=\"\",\"\",貴校データ入力シート!Z283)","v":""},{"$f":"IF(貴校データ入力シート!AA283=\"\",\"\",貴校データ入力シート!AA283)","v":""},{"$f":"IF(貴校データ入力シート!AB283=\"\",\"\",貴校データ入力シート!AB283)","v":""},null,null,null,{"$f":"AG281","v":0},{"$f":"AH282","v":0},{"$f":"AI283","v":0}]
[null,null,null,null,null,null,null,null,null,null,{"$f":"IF(貴校データ入力シート!G284=\"\",\"\",貴校データ入力シート!G284)","v":""},{"$f":"IF(貴校データ入力シート!H284=\"\",\"\",貴校データ入力シート!H284)","v":""},{"$f":"IF(貴校データ入力シート!I284=\"\",\"\",貴校データ入力シート!I284)","v":""},{"$f":"IF(貴校データ入力シート!J284=\"\",\"\",貴校データ入力シート!J284)","v":""},{"$f":"IF(貴校データ入力シート!K284=\"\",\"\",貴校データ入力シート!K284)","v":""},{"$f":"IF(貴校データ入力シート!L284=\"\",\"\",貴校データ入力シート!L284)","v":""},{"$f":"IF(貴校データ入力シート!M284=\"\",\"\",貴校データ入力シート!M284)","v":""},{"$f":"IF(貴校データ入力シート!N284=\"\",\"\",貴校データ入力シート!N284)","v":""},{"$f":"IF(貴校データ入力シート!O284=\"\",\"\",貴校データ入力シート!O284)","v":""},{"$f":"IF(貴校データ入力シート!P284=\"\",\"\",貴校データ入力シート!P284)","v":""},{"$f":"IF(貴校データ入力シート!Q284=\"\",\"\",貴校データ入力シート!Q284)","v":""},{"$f":"IF(貴校データ入力シート!R284=\"\",\"\",貴校データ入力シート!R284)","v":""},{"$f":"IF(貴校データ入力シート!S284=\"\",\"\",貴校データ入力シート!S284)","v":""},{"$f":"IF(貴校データ入力シート!T284=\"\",\"\",貴校データ入力シート!T284)","v":""},{"$f":"IF(貴校データ入力シート!U284=\"\",\"\",貴校データ入力シート!U284)","v":""},{"$f":"IF(貴校データ入力シート!V284=\"\",\"\",貴校データ入力シート!V284)","v":""},{"$f":"IF(貴校データ入力シート!W284=\"\",\"\",貴校データ入力シート!W284)","v":""},{"$f":"IF(貴校データ入力シート!X284=\"\",\"\",貴校データ入力シート!X284)","v":""},{"$f":"IF(貴校データ入力シート!Y284=\"\",\"\",貴校データ入力シート!Y284)","v":""},{"$f":"IF(貴校データ入力シート!Z284=\"\",\"\",貴校データ入力シート!Z284)","v":""},{"$f":"IF(貴校データ入力シート!AA284=\"\",\"\",貴校データ入力シート!AA284)","v":""},{"$f":"IF(貴校データ入力シート!AB284=\"\",\"\",貴校データ入力シート!AB284)","v":""},{"$f":"SUM(K281:L281)","v":0}]
[null,null,null,null,null,null,null,null,null,null,{"$f":"IF(貴校データ入力シート!G285=\"\",\"\",貴校データ入力シート!G285)","v":""},{"$f":"IF(貴校データ入力シート!H285=\"\",\"\",貴校データ入力シート!H285)","v":""},{"$f":"IF(貴校データ入力シート!I285=\"\",\"\",貴校データ入力シート!I285)","v":""},{"$f":"IF(貴校データ入力シート!J285=\"\",\"\",貴校データ入力シート!J285)","v":""},{"$f":"IF(貴校データ入力シート!K285=\"\",\"\",貴校データ入力シート!K285)","v":""},{"$f":"IF(貴校データ入力シート!L285=\"\",\"\",貴校データ入力シート!L285)","v":""},{"$f":"IF(貴校データ入力シート!M285=\"\",\"\",貴校データ入力シート!M285)","v":""},{"$f":"IF(貴校データ入力シート!N285=\"\",\"\",貴校データ入力シート!N285)","v":""},{"$f":"IF(貴校データ入力シート!O285=\"\",\"\",貴校データ入力シート!O285)","v":""},{"$f":"IF(貴校データ入力シート!P285=\"\",\"\",貴校データ入力シート!P285)","v":""},{"$f":"IF(貴校データ入力シート!Q285=\"\",\"\",貴校データ入力シート!Q285)","v":""},{"$f":"IF(貴校データ入力シート!R285=\"\",\"\",貴校データ入力シート!R285)","v":""},{"$f":"IF(貴校データ入力シート!S285=\"\",\"\",貴校データ入力シート!S285)","v":""},{"$f":"IF(貴校データ入力シート!T285=\"\",\"\",貴校データ入力シート!T285)","v":""},{"$f":"IF(貴校データ入力シート!U285=\"\",\"\",貴校データ入力シート!U285)","v":""},{"$f":"IF(貴校データ入力シート!V285=\"\",\"\",貴校データ入力シート!V285)","v":""},{"$f":"IF(貴校データ入力シート!W285=\"\",\"\",貴校データ入力シート!W285)","v":""},{"$f":"IF(貴校データ入力シート!X285=\"\",\"\",貴校データ入力シート!X285)","v":""},{"$f":"IF(貴校データ入力シート!Y285=\"\",\"\",貴校データ入力シート!Y285)","v":""},{"$f":"IF(貴校データ入力シート!Z285=\"\",\"\",貴校データ入力シート!Z285)","v":""},{"$f":"IF(貴校データ入力シート!AA285=\"\",\"\",貴校データ入力シート!AA285)","v":""},{"$f":"IF(貴校データ入力シート!AB285=\"\",\"\",貴校データ入力シート!AB285)","v":""},null,{"$f":"SUM(K282:L282)","v":0}]
[null,null,null,null,null,null,null,null,null,null,{"$f":"IF(貴校データ入力シート!G286=\"\",\"\",貴校データ入力シート!G286)","v":""},{"$f":"IF(貴校データ入力シート!H286=\"\",\"\",貴校データ入力シート!H286)","v":""},{"$f":"IF(貴校データ入力シート!I286=\"\",\"\",貴校データ入力シート!I286)","v":""},{"$f":"IF(貴校データ入力シート!J286=\"\",\"\",貴校データ入力シート!J286)","v":""},{"$f":"IF(貴校データ入力シート!K286=\"\",\"\",貴校データ入力シート!K286)","v":""},{"$f":"IF(貴校データ入力シート!L286=\"\",\"\",貴校データ入力シート!L286)","v":""},{"$f":"IF(貴校データ入力シート!M286=\"\",\"\",貴校データ入力シート!M286)","v":""},{"$f":"IF(貴校データ入力シート!N286=\"\",\"\",貴校データ入力シート!N286)","v":""},{"$f":"IF(貴校データ入力シート!O286=\"\",\"\",貴校データ入力シート!O286)","v":""},{"$f":"IF(貴校データ入力シート!P286=\"\",\"\",貴校データ入力シート!P286)","v":""},{"$f":"IF(貴校データ入力シート!Q286=\"\",\"\",貴校データ入力シート!Q286)","v":""},{"$f":"IF(貴校データ入力シート!R286=\"\",\"\",貴校データ入力シート!R286)","v":""},{"$f":"IF(貴校データ入力シート!S286=\"\",\"\",貴校データ入力シート!S286)","v":""},{"$f":"IF(貴校データ入力シート!T286=\"\",\"\",貴校データ入力シート!T286)","v":""},{"$f":"IF(貴校データ入力シート!U286=\"\",\"\",貴校データ入力シート!U286)","v":""},{"$f":"IF(貴校データ入力シート!V286=\"\",\"\",貴校データ入力シート!V286)","v":""},{"$f":"IF(貴校データ入力シート!W286=\"\",\"\",貴校データ入力シート!W286)","v":""},{"$f":"IF(貴校データ入力シート!X286=\"\",\"\",貴校データ入力シート!X286)","v":""},{"$f":"IF(貴校データ入力シート!Y286=\"\",\"\",貴校データ入力シート!Y286)","v":""},{"$f":"IF(貴校データ入力シート!Z286=\"\",\"\",貴校データ入力シート!Z286)","v":""},{"$f":"IF(貴校データ入力シート!AA286=\"\",\"\",貴校データ入力シート!AA286)","v":""},{"$f":"IF(貴校データ入力シート!AB286=\"\",\"\",貴校データ入力シート!AB286)","v":""},null,null,{"$f":"SUM(K283:L283)","v":0}]
[104,"（７３）",{"$f":"IF(貴校データ入力シート!C287=\"\",\"\",貴校データ入力シート!C287)","v":"家庭学習の課題（宿題）として、どの程度、PC・タブレットなどのICT機器を使用して、英語の音声を聞いたり英語を話す練習をしたりしていますか"},null,null,null,null,null,null,null,{"$f":"IF(貴校データ入力シート!G287=\"\",\"\",貴校データ入力シート!G287)","v":""},{"$f":"IF(貴校データ入力シート!H287=\"\",\"\",貴校データ入力シート!H287)","v":""},{"$f":"IF(貴校データ入力シート!I287=\"\",\"\",貴校データ入力シート!I287)","v":""},{"$f":"IF(貴校データ入力シート!J287=\"\",\"\",貴校データ入力シート!J287)","v":""},{"$f":"IF(貴校データ入力シート!K287=\"\",\"\",貴校データ入力シート!K287)","v":""},{"$f":"IF(貴校データ入力シート!L287=\"\",\"\",貴校データ入力シート!L287)","v":""},{"$f":"IF(貴校データ入力シート!M287=\"\",\"\",貴校データ入力シート!M287)","v":""},{"$f":"IF(貴校データ入力シート!N287=\"\",\"\",貴校データ入力シート!N287)","v":""},{"$f":"IF(貴校データ入力シート!O287=\"\",\"\",貴校データ入力シート!O287)","v":""},{"$f":"IF(貴校データ入力シート!P287=\"\",\"\",貴校データ入力シート!P287)","v":""},{"$f":"IF(貴校データ入力シート!Q287=\"\",\"\",貴校データ入力シート!Q287)","v":""},{"$f":"IF(貴校データ入力シート!R287=\"\",\"\",貴校データ入力シート!R287)","v":""},{"$f":"IF(貴校データ入力シート!S287=\"\",\"\",貴校データ入力シート!S287)","v":""},{"$f":"IF(貴校データ入力シート!T287=\"\",\"\",貴校データ入力シート!T287)","v":""},{"$f":"IF(貴校データ入力シート!U287=\"\",\"\",貴校データ入力シート!U287)","v":""},{"$f":"IF(貴校データ入力シート!V287=\"\",\"\",貴校データ入力シート!V287)","v":""},{"$f":"IF(貴校データ入力シート!W287=\"\",\"\",貴校データ入力シート!W287)","v":""},{"$f":"IF(貴校データ入力シート!X287=\"\",\"\",貴校データ入力シート!X287)","v":""},{"$f":"IF(貴校データ入力シート!Y287=\"\",\"\",貴校データ入力シート!Y287)","v":""},{"$f":"IF(貴校データ入力シート!Z287=\"\",\"\",貴校データ入力シート!Z287)","v":""},{"$f":"IF(貴校データ入力シート!AA287=\"\",\"\",貴校データ入力シート!AA287)","v":""},{"$f":"IF(貴校データ入力シート!AB287=\"\",\"\",貴校データ入力シート!AB287)","v":""},null,null,null,{"$f":"AG285","v":0},{"$f":"AH286","v":0},{"$f":"AI287","v":0},1]
[null,null,null,null,null,null,null,null,null,null,{"$f":"IF(貴校データ入力シート!G288=\"\",\"\",貴校データ入力シート!G288)","v":""},{"$f":"IF(貴校データ入力シート!H288=\"\",\"\",貴校データ入力シート!H288)","v":""},{"$f":"IF(貴校データ入力シート!I288=\"\",\"\",貴校データ入力シート!I288)","v":""},{"$f":"IF(貴校データ入力シート!J288=\"\",\"\",貴校データ入力シート!J288)","v":""},{"$f":"IF(貴校データ入力シート!K288=\"\",\"\",貴校データ入力シート!K288)","v":""},{"$f":"IF(貴校データ入力シート!L288=\"\",\"\",貴校データ入力シート!L288)","v":""},{"$f":"IF(貴校データ入力シート!M288=\"\",\"\",貴校データ入力シート!M288)","v":""},{"$f":"IF(貴校データ入力シート!N288=\"\",\"\",貴校データ入力シート!N288)","v":""},{"$f":"IF(貴校データ入力シート!O288=\"\",\"\",貴校データ入力シート!O288)","v":""},{"$f":"IF(貴校データ入力シート!P288=\"\",\"\",貴校データ入力シート!P288)","v":""},{"$f":"IF(貴校データ入力シート!Q288=\"\",\"\",貴校データ入力シート!Q288)","v":""},{"$f":"IF(貴校データ入力シート!R288=\"\",\"\",貴校データ入力シート!R288)","v":""},{"$f":"IF(貴校データ入力シート!S288=\"\",\"\",貴校データ入力シート!S288)","v":""},{"$f":"IF(貴校データ入力シート!T288=\"\",\"\",貴校データ入力シート!T288)","v":""},{"$f":"IF(貴校データ入力シート!U288=\"\",\"\",貴校データ入力シート!U288)","v":""},{"$f":"IF(貴校データ入力シート!V288=\"\",\"\",貴校データ入力シート!V288)","v":""},{"$f":"IF(貴校データ入力シート!W288=\"\",\"\",貴校データ入力シート!W288)","v":""},{"$f":"IF(貴校データ入力シート!X288=\"\",\"\",貴校データ入力シート!X288)","v":""},{"$f":"IF(貴校データ入力シート!Y288=\"\",\"\",貴校データ入力シート!Y288)","v":""},{"$f":"IF(貴校データ入力シート!Z288=\"\",\"\",貴校データ入力シート!Z288)","v":""},{"$f":"IF(貴校データ入力シート!AA288=\"\",\"\",貴校データ入力シート!AA288)","v":""},{"$f":"IF(貴校データ入力シート!AB288=\"\",\"\",貴校データ入力シート!AB288)","v":""},{"$f":"SUM(K285:L285)","v":0}]
[null,null,null,null,null,null,null,null,null,null,{"$f":"IF(貴校データ入力シート!G289=\"\",\"\",貴校データ入力シート!G289)","v":""},{"$f":"IF(貴校データ入力シート!H289=\"\",\"\",貴校データ入力シート!H289)","v":""},{"$f":"IF(貴校データ入力シート!I289=\"\",\"\",貴校データ入力シート!I289)","v":""},{"$f":"IF(貴校データ入力シート!J289=\"\",\"\",貴校データ入力シート!J289)","v":""},{"$f":"IF(貴校データ入力シート!K289=\"\",\"\",貴校データ入力シート!K289)","v":""},{"$f":"IF(貴校データ入力シート!L289=\"\",\"\",貴校データ入力シート!L289)","v":""},{"$f":"IF(貴校データ入力シート!M289=\"\",\"\",貴校データ入力シート!M289)","v":""},{"$f":"IF(貴校データ入力シート!N289=\"\",\"\",貴校データ入力シート!N289)","v":""},{"$f":"IF(貴校データ入力シート!O289=\"\",\"\",貴校データ入力シート!O289)","v":""},{"$f":"IF(貴校データ入力シート!P289=\"\",\"\",貴校データ入力シート!P289)","v":""},{"$f":"IF(貴校データ入力シート!Q289=\"\",\"\",貴校データ入力シート!Q289)","v":""},{"$f":"IF(貴校データ入力シート!R289=\"\",\"\",貴校データ入力シート!R289)","v":""},{"$f":"IF(貴校データ入力シート!S289=\"\",\"\",貴校データ入力シート!S289)","v":""},{"$f":"IF(貴校データ入力シート!T289=\"\",\"\",貴校データ入力シート!T289)","v":""},{"$f":"IF(貴校データ入力シート!U289=\"\",\"\",貴校データ入力シート!U289)","v":""},{"$f":"IF(貴校データ入力シート!V289=\"\",\"\",貴校データ入力シート!V289)","v":""},{"$f":"IF(貴校データ入力シート!W289=\"\",\"\",貴校データ入力シート!W289)","v":""},{"$f":"IF(貴校データ入力シート!X289=\"\",\"\",貴校データ入力シート!X289)","v":""},{"$f":"IF(貴校データ入力シート!Y289=\"\",\"\",貴校データ入力シート!Y289)","v":""},{"$f":"IF(貴校データ入力シート!Z289=\"\",\"\",貴校データ入力シート!Z289)","v":""},{"$f":"IF(貴校データ入力シート!AA289=\"\",\"\",貴校データ入力シート!AA289)","v":""},{"$f":"IF(貴校データ入力シート!AB289=\"\",\"\",貴校データ入力シート!AB289)","v":""},null,{"$f":"SUM(K286:L286)","v":0}]
[null,null,null,null,null,null,null,null,null,null,{"$f":"IF(貴校データ入力シート!G290=\"\",\"\",貴校データ入力シート!G290)","v":""},{"$f":"IF(貴校データ入力シート!H290=\"\",\"\",貴校データ入力シート!H290)","v":""},{"$f":"IF(貴校データ入力シート!I290=\"\",\"\",貴校データ入力シート!I290)","v":""},{"$f":"IF(貴校データ入力シート!J290=\"\",\"\",貴校データ入力シート!J290)","v":""},{"$f":"IF(貴校データ入力シート!K290=\"\",\"\",貴校データ入力シート!K290)","v":""},{"$f":"IF(貴校データ入力シート!L290=\"\",\"\",貴校データ入力シート!L290)","v":""},{"$f":"IF(貴校データ入力シート!M290=\"\",\"\",貴校データ入力シート!M290)","v":""},{"$f":"IF(貴校データ入力シート!N290=\"\",\"\",貴校データ入力シート!N290)","v":""},{"$f":"IF(貴校データ入力シート!O290=\"\",\"\",貴校データ入力シート!O290)","v":""},{"$f":"IF(貴校データ入力シート!P290=\"\",\"\",貴校データ入力シート!P290)","v":""},{"$f":"IF(貴校データ入力シート!Q290=\"\",\"\",貴校データ入力シート!Q290)","v":""},{"$f":"IF(貴校データ入力シート!R290=\"\",\"\",貴校データ入力シート!R290)","v":""},{"$f":"IF(貴校データ入力シート!S290=\"\",\"\",貴校データ入力シート!S290)","v":""},{"$f":"IF(貴校データ入力シート!T290=\"\",\"\",貴校データ入力シート!T290)","v":""},{"$f":"IF(貴校データ入力シート!U290=\"\",\"\",貴校データ入力シート!U290)","v":""},{"$f":"IF(貴校データ入力シート!V290=\"\",\"\",貴校データ入力シート!V290)","v":""},{"$f":"IF(貴校データ入力シート!W290=\"\",\"\",貴校データ入力シート!W290)","v":""},{"$f":"IF(貴校データ入力シート!X290=\"\",\"\",貴校データ入力シート!X290)","v":""},{"$f":"IF(貴校データ入力シート!Y290=\"\",\"\",貴校データ入力シート!Y290)","v":""},{"$f":"IF(貴校データ入力シート!Z290=\"\",\"\",貴校データ入力シート!Z290)","v":""},{"$f":"IF(貴校データ入力シート!AA290=\"\",\"\",貴校データ入力シート!AA290)","v":""},{"$f":"IF(貴校データ入力シート!AB290=\"\",\"\",貴校データ入力シート!AB290)","v":""},null,null,{"$f":"SUM(K287:L287)","v":0}]
[105,{"$f":"IF(貴校データ入力シート!B291=\"\",\"\",貴校データ入力シート!B291)","v":"（国１）"},{"$f":"IF(貴校データ入力シート!C291=\"\",\"\",貴校データ入力シート!C291)","v":"今回の国語の問題では、解答を文章で書く問題がありました。それらの問題について、どのように解答しましたか"},null,null,null,null,null,null,null,{"$f":"IF(貴校データ入力シート!G291=\"\",\"\",貴校データ入力シート!G291)","v":""},{"$f":"IF(貴校データ入力シート!H291=\"\",\"\",貴校データ入力シート!H291)","v":""},{"$f":"IF(貴校データ入力シート!I291=\"\",\"\",貴校データ入力シート!I291)","v":""},{"$f":"IF(貴校データ入力シート!J291=\"\",\"\",貴校データ入力シート!J291)","v":""},{"$f":"IF(貴校データ入力シート!K291=\"\",\"\",貴校データ入力シート!K291)","v":""},{"$f":"IF(貴校データ入力シート!L291=\"\",\"\",貴校データ入力シート!L291)","v":""},{"$f":"IF(貴校データ入力シート!M291=\"\",\"\",貴校データ入力シート!M291)","v":""},{"$f":"IF(貴校データ入力シート!N291=\"\",\"\",貴校データ入力シート!N291)","v":""},{"$f":"IF(貴校データ入力シート!O291=\"\",\"\",貴校データ入力シート!O291)","v":""},{"$f":"IF(貴校データ入力シート!P291=\"\",\"\",貴校データ入力シート!P291)","v":""},{"$f":"IF(貴校データ入力シート!Q291=\"\",\"\",貴校データ入力シート!Q291)","v":""},{"$f":"IF(貴校データ入力シート!R291=\"\",\"\",貴校データ入力シート!R291)","v":""},{"$f":"IF(貴校データ入力シート!S291=\"\",\"\",貴校データ入力シート!S291)","v":""},{"$f":"IF(貴校データ入力シート!T291=\"\",\"\",貴校データ入力シート!T291)","v":""},{"$f":"IF(貴校データ入力シート!U291=\"\",\"\",貴校データ入力シート!U291)","v":""},{"$f":"IF(貴校データ入力シート!V291=\"\",\"\",貴校データ入力シート!V291)","v":""},{"$f":"IF(貴校データ入力シート!W291=\"\",\"\",貴校データ入力シート!W291)","v":""},{"$f":"IF(貴校データ入力シート!X291=\"\",\"\",貴校データ入力シート!X291)","v":""},{"$f":"IF(貴校データ入力シート!Y291=\"\",\"\",貴校データ入力シート!Y291)","v":""},{"$f":"IF(貴校データ入力シート!Z291=\"\",\"\",貴校データ入力シート!Z291)","v":""},{"$f":"IF(貴校データ入力シート!AA291=\"\",\"\",貴校データ入力シート!AA291)","v":""},{"$f":"IF(貴校データ入力シート!AB291=\"\",\"\",貴校データ入力シート!AB291)","v":""},null,null,null,{"$f":"AG289","v":0},{"$f":"AH290","v":0},{"$f":"AI291","v":0},1]
[null,null,null,null,null,null,null,null,null,null,{"$f":"IF(貴校データ入力シート!G292=\"\",\"\",貴校データ入力シート!G292)","v":""},{"$f":"IF(貴校データ入力シート!H292=\"\",\"\",貴校データ入力シート!H292)","v":""},{"$f":"IF(貴校データ入力シート!I292=\"\",\"\",貴校データ入力シート!I292)","v":""},{"$f":"IF(貴校データ入力シート!J292=\"\",\"\",貴校データ入力シート!J292)","v":""},{"$f":"IF(貴校データ入力シート!K292=\"\",\"\",貴校データ入力シート!K292)","v":""},{"$f":"IF(貴校データ入力シート!L292=\"\",\"\",貴校データ入力シート!L292)","v":""},{"$f":"IF(貴校データ入力シート!M292=\"\",\"\",貴校データ入力シート!M292)","v":""},{"$f":"IF(貴校データ入力シート!N292=\"\",\"\",貴校データ入力シート!N292)","v":""},{"$f":"IF(貴校データ入力シート!O292=\"\",\"\",貴校データ入力シート!O292)","v":""},{"$f":"IF(貴校データ入力シート!P292=\"\",\"\",貴校データ入力シート!P292)","v":""},{"$f":"IF(貴校データ入力シート!Q292=\"\",\"\",貴校データ入力シート!Q292)","v":""},{"$f":"IF(貴校データ入力シート!R292=\"\",\"\",貴校データ入力シート!R292)","v":""},{"$f":"IF(貴校データ入力シート!S292=\"\",\"\",貴校データ入力シート!S292)","v":""},{"$f":"IF(貴校データ入力シート!T292=\"\",\"\",貴校データ入力シート!T292)","v":""},{"$f":"IF(貴校データ入力シート!U292=\"\",\"\",貴校データ入力シート!U292)","v":""},{"$f":"IF(貴校データ入力シート!V292=\"\",\"\",貴校データ入力シート!V292)","v":""},{"$f":"IF(貴校データ入力シート!W292=\"\",\"\",貴校データ入力シート!W292)","v":""},{"$f":"IF(貴校データ入力シート!X292=\"\",\"\",貴校データ入力シート!X292)","v":""},{"$f":"IF(貴校データ入力シート!Y292=\"\",\"\",貴校データ入力シート!Y292)","v":""},{"$f":"IF(貴校データ入力シート!Z292=\"\",\"\",貴校データ入力シート!Z292)","v":""},{"$f":"IF(貴校データ入力シート!AA292=\"\",\"\",貴校データ入力シート!AA292)","v":""},{"$f":"IF(貴校データ入力シート!AB292=\"\",\"\",貴校データ入力シート!AB292)","v":""},{"$f":"SUM(K289:L289)","v":0}]
[null,null,null,null,null,null,null,null,null,null,{"$f":"IF(貴校データ入力シート!G293=\"\",\"\",貴校データ入力シート!G293)","v":""},{"$f":"IF(貴校データ入力シート!H293=\"\",\"\",貴校データ入力シート!H293)","v":""},{"$f":"IF(貴校データ入力シート!I293=\"\",\"\",貴校データ入力シート!I293)","v":""},{"$f":"IF(貴校データ入力シート!J293=\"\",\"\",貴校データ入力シート!J293)","v":""},{"$f":"IF(貴校データ入力シート!K293=\"\",\"\",貴校データ入力シート!K293)","v":""},{"$f":"IF(貴校データ入力シート!L293=\"\",\"\",貴校データ入力シート!L293)","v":""},{"$f":"IF(貴校データ入力シート!M293=\"\",\"\",貴校データ入力シート!M293)","v":""},{"$f":"IF(貴校データ入力シート!N293=\"\",\"\",貴校データ入力シート!N293)","v":""},{"$f":"IF(貴校データ入力シート!O293=\"\",\"\",貴校データ入力シート!O293)","v":""},{"$f":"IF(貴校データ入力シート!P293=\"\",\"\",貴校データ入力シート!P293)","v":""},{"$f":"IF(貴校データ入力シート!Q293=\"\",\"\",貴校データ入力シート!Q293)","v":""},{"$f":"IF(貴校データ入力シート!R293=\"\",\"\",貴校データ入力シート!R293)","v":""},{"$f":"IF(貴校データ入力シート!S293=\"\",\"\",貴校データ入力シート!S293)","v":""},{"$f":"IF(貴校データ入力シート!T293=\"\",\"\",貴校データ入力シート!T293)","v":""},{"$f":"IF(貴校データ入力シート!U293=\"\",\"\",貴校データ入力シート!U293)","v":""},{"$f":"IF(貴校データ入力シート!V293=\"\",\"\",貴校データ入力シート!V293)","v":""},{"$f":"IF(貴校データ入力シート!W293=\"\",\"\",貴校データ入力シート!W293)","v":""},{"$f":"IF(貴校データ入力シート!X293=\"\",\"\",貴校データ入力シート!X293)","v":""},{"$f":"IF(貴校データ入力シート!Y293=\"\",\"\",貴校データ入力シート!Y293)","v":""},{"$f":"IF(貴校データ入力シート!Z293=\"\",\"\",貴校データ入力シート!Z293)","v":""},{"$f":"IF(貴校データ入力シート!AA293=\"\",\"\",貴校データ入力シート!AA293)","v":""},{"$f":"IF(貴校データ入力シート!AB293=\"\",\"\",貴校データ入力シート!AB293)","v":""},null,{"$f":"SUM(K290:L290)","v":0}]
[null,null,null,null,null,null,null,null,null,null,{"$f":"IF(貴校データ入力シート!G294=\"\",\"\",貴校データ入力シート!G294)","v":""},{"$f":"IF(貴校データ入力シート!H294=\"\",\"\",貴校データ入力シート!H294)","v":""},{"$f":"IF(貴校データ入力シート!I294=\"\",\"\",貴校データ入力シート!I294)","v":""},{"$f":"IF(貴校データ入力シート!J294=\"\",\"\",貴校データ入力シート!J294)","v":""},{"$f":"IF(貴校データ入力シート!K294=\"\",\"\",貴校データ入力シート!K294)","v":""},{"$f":"IF(貴校データ入力シート!L294=\"\",\"\",貴校データ入力シート!L294)","v":""},{"$f":"IF(貴校データ入力シート!M294=\"\",\"\",貴校データ入力シート!M294)","v":""},{"$f":"IF(貴校データ入力シート!N294=\"\",\"\",貴校データ入力シート!N294)","v":""},{"$f":"IF(貴校データ入力シート!O294=\"\",\"\",貴校データ入力シート!O294)","v":""},{"$f":"IF(貴校データ入力シート!P294=\"\",\"\",貴校データ入力シート!P294)","v":""},{"$f":"IF(貴校データ入力シート!Q294=\"\",\"\",貴校データ入力シート!Q294)","v":""},{"$f":"IF(貴校データ入力シート!R294=\"\",\"\",貴校データ入力シート!R294)","v":""},{"$f":"IF(貴校データ入力シート!S294=\"\",\"\",貴校データ入力シート!S294)","v":""},{"$f":"IF(貴校データ入力シート!T294=\"\",\"\",貴校データ入力シート!T294)","v":""},{"$f":"IF(貴校データ入力シート!U294=\"\",\"\",貴校データ入力シート!U294)","v":""},{"$f":"IF(貴校データ入力シート!V294=\"\",\"\",貴校データ入力シート!V294)","v":""},{"$f":"IF(貴校データ入力シート!W294=\"\",\"\",貴校データ入力シート!W294)","v":""},{"$f":"IF(貴校データ入力シート!X294=\"\",\"\",貴校データ入力シート!X294)","v":""},{"$f":"IF(貴校データ入力シート!Y294=\"\",\"\",貴校データ入力シート!Y294)","v":""},{"$f":"IF(貴校データ入力シート!Z294=\"\",\"\",貴校データ入力シート!Z294)","v":""},{"$f":"IF(貴校データ入力シート!AA294=\"\",\"\",貴校データ入力シート!AA294)","v":""},{"$f":"IF(貴校データ入力シート!AB294=\"\",\"\",貴校データ入力シート!AB294)","v":""},null,null,{"$f":"SUM(K291:L291)","v":0}]
[106,{"$f":"IF(貴校データ入力シート!B295=\"\",\"\",貴校データ入力シート!B295)","v":"（国２）"},{"$f":"IF(貴校データ入力シート!C295=\"\",\"\",貴校データ入力シート!C295)","v":"解答時間は十分でしたか（国語）"},null,null,null,null,null,null,null,{"$f":"IF(貴校データ入力シート!G295=\"\",\"\",貴校データ入力シート!G295)","v":""},{"$f":"IF(貴校データ入力シート!H295=\"\",\"\",貴校データ入力シート!H295)","v":""},{"$f":"IF(貴校データ入力シート!I295=\"\",\"\",貴校データ入力シート!I295)","v":""},{"$f":"IF(貴校データ入力シート!J295=\"\",\"\",貴校データ入力シート!J295)","v":""},{"$f":"IF(貴校データ入力シート!K295=\"\",\"\",貴校データ入力シート!K295)","v":""},{"$f":"IF(貴校データ入力シート!L295=\"\",\"\",貴校データ入力シート!L295)","v":""},{"$f":"IF(貴校データ入力シート!M295=\"\",\"\",貴校データ入力シート!M295)","v":""},{"$f":"IF(貴校データ入力シート!N295=\"\",\"\",貴校データ入力シート!N295)","v":""},{"$f":"IF(貴校データ入力シート!O295=\"\",\"\",貴校データ入力シート!O295)","v":""},{"$f":"IF(貴校データ入力シート!P295=\"\",\"\",貴校データ入力シート!P295)","v":""},{"$f":"IF(貴校データ入力シート!Q295=\"\",\"\",貴校データ入力シート!Q295)","v":""},{"$f":"IF(貴校データ入力シート!R295=\"\",\"\",貴校データ入力シート!R295)","v":""},{"$f":"IF(貴校データ入力シート!S295=\"\",\"\",貴校データ入力シート!S295)","v":""},{"$f":"IF(貴校データ入力シート!T295=\"\",\"\",貴校データ入力シート!T295)","v":""},{"$f":"IF(貴校データ入力シート!U295=\"\",\"\",貴校データ入力シート!U295)","v":""},{"$f":"IF(貴校データ入力シート!V295=\"\",\"\",貴校データ入力シート!V295)","v":""},{"$f":"IF(貴校データ入力シート!W295=\"\",\"\",貴校データ入力シート!W295)","v":""},{"$f":"IF(貴校データ入力シート!X295=\"\",\"\",貴校データ入力シート!X295)","v":""},{"$f":"IF(貴校データ入力シート!Y295=\"\",\"\",貴校データ入力シート!Y295)","v":""},{"$f":"IF(貴校データ入力シート!Z295=\"\",\"\",貴校データ入力シート!Z295)","v":""},{"$f":"IF(貴校データ入力シート!AA295=\"\",\"\",貴校データ入力シート!AA295)","v":""},{"$f":"IF(貴校データ入力シート!AB295=\"\",\"\",貴校データ入力シート!AB295)","v":""},null,null,null,{"$f":"AG293","v":0},{"$f":"AH294","v":0},{"$f":"AI295","v":0}]
[null,null,null,null,null,null,null,null,null,null,{"$f":"IF(貴校データ入力シート!G296=\"\",\"\",貴校データ入力シート!G296)","v":""},{"$f":"IF(貴校データ入力シート!H296=\"\",\"\",貴校データ入力シート!H296)","v":""},{"$f":"IF(貴校データ入力シート!I296=\"\",\"\",貴校データ入力シート!I296)","v":""},{"$f":"IF(貴校データ入力シート!J296=\"\",\"\",貴校データ入力シート!J296)","v":""},{"$f":"IF(貴校データ入力シート!K296=\"\",\"\",貴校データ入力シート!K296)","v":""},{"$f":"IF(貴校データ入力シート!L296=\"\",\"\",貴校データ入力シート!L296)","v":""},{"$f":"IF(貴校データ入力シート!M296=\"\",\"\",貴校データ入力シート!M296)","v":""},{"$f":"IF(貴校データ入力シート!N296=\"\",\"\",貴校データ入力シート!N296)","v":""},{"$f":"IF(貴校データ入力シート!O296=\"\",\"\",貴校データ入力シート!O296)","v":""},{"$f":"IF(貴校データ入力シート!P296=\"\",\"\",貴校データ入力シート!P296)","v":""},{"$f":"IF(貴校データ入力シート!Q296=\"\",\"\",貴校データ入力シート!Q296)","v":""},{"$f":"IF(貴校データ入力シート!R296=\"\",\"\",貴校データ入力シート!R296)","v":""},{"$f":"IF(貴校データ入力シート!S296=\"\",\"\",貴校データ入力シート!S296)","v":""},{"$f":"IF(貴校データ入力シート!T296=\"\",\"\",貴校データ入力シート!T296)","v":""},{"$f":"IF(貴校データ入力シート!U296=\"\",\"\",貴校データ入力シート!U296)","v":""},{"$f":"IF(貴校データ入力シート!V296=\"\",\"\",貴校データ入力シート!V296)","v":""},{"$f":"IF(貴校データ入力シート!W296=\"\",\"\",貴校データ入力シート!W296)","v":""},{"$f":"IF(貴校データ入力シート!X296=\"\",\"\",貴校データ入力シート!X296)","v":""},{"$f":"IF(貴校データ入力シート!Y296=\"\",\"\",貴校データ入力シート!Y296)","v":""},{"$f":"IF(貴校データ入力シート!Z296=\"\",\"\",貴校データ入力シート!Z296)","v":""},{"$f":"IF(貴校データ入力シート!AA296=\"\",\"\",貴校データ入力シート!AA296)","v":""},{"$f":"IF(貴校データ入力シート!AB296=\"\",\"\",貴校データ入力シート!AB296)","v":""},{"$f":"SUM(K293:L293)","v":0}]
[null,null,null,null,null,null,null,null,null,null,{"$f":"IF(貴校データ入力シート!G297=\"\",\"\",貴校データ入力シート!G297)","v":""},{"$f":"IF(貴校データ入力シート!H297=\"\",\"\",貴校データ入力シート!H297)","v":""},{"$f":"IF(貴校データ入力シート!I297=\"\",\"\",貴校データ入力シート!I297)","v":""},{"$f":"IF(貴校データ入力シート!J297=\"\",\"\",貴校データ入力シート!J297)","v":""},{"$f":"IF(貴校データ入力シート!K297=\"\",\"\",貴校データ入力シート!K297)","v":""},{"$f":"IF(貴校データ入力シート!L297=\"\",\"\",貴校データ入力シート!L297)","v":""},{"$f":"IF(貴校データ入力シート!M297=\"\",\"\",貴校データ入力シート!M297)","v":""},{"$f":"IF(貴校データ入力シート!N297=\"\",\"\",貴校データ入力シート!N297)","v":""},{"$f":"IF(貴校データ入力シート!O297=\"\",\"\",貴校データ入力シート!O297)","v":""},{"$f":"IF(貴校データ入力シート!P297=\"\",\"\",貴校データ入力シート!P297)","v":""},{"$f":"IF(貴校データ入力シート!Q297=\"\",\"\",貴校データ入力シート!Q297)","v":""},{"$f":"IF(貴校データ入力シート!R297=\"\",\"\",貴校データ入力シート!R297)","v":""},{"$f":"IF(貴校データ入力シート!S297=\"\",\"\",貴校データ入力シート!S297)","v":""},{"$f":"IF(貴校データ入力シート!T297=\"\",\"\",貴校データ入力シート!T297)","v":""},{"$f":"IF(貴校データ入力シート!U297=\"\",\"\",貴校データ入力シート!U297)","v":""},{"$f":"IF(貴校データ入力シート!V297=\"\",\"\",貴校データ入力シート!V297)","v":""},{"$f":"IF(貴校データ入力シート!W297=\"\",\"\",貴校データ入力シート!W297)","v":""},{"$f":"IF(貴校データ入力シート!X297=\"\",\"\",貴校データ入力シート!X297)","v":""},{"$f":"IF(貴校データ入力シート!Y297=\"\",\"\",貴校データ入力シート!Y297)","v":""},{"$f":"IF(貴校データ入力シート!Z297=\"\",\"\",貴校データ入力シート!Z297)","v":""},{"$f":"IF(貴校データ入力シート!AA297=\"\",\"\",貴校データ入力シート!AA297)","v":""},{"$f":"IF(貴校データ入力シート!AB297=\"\",\"\",貴校データ入力シート!AB297)","v":""},null,{"$f":"SUM(K294:L294)","v":0}]
[null,null,null,null,null,null,null,null,null,null,{"$f":"IF(貴校データ入力シート!G298=\"\",\"\",貴校データ入力シート!G298)","v":""},{"$f":"IF(貴校データ入力シート!H298=\"\",\"\",貴校データ入力シート!H298)","v":""},{"$f":"IF(貴校データ入力シート!I298=\"\",\"\",貴校データ入力シート!I298)","v":""},{"$f":"IF(貴校データ入力シート!J298=\"\",\"\",貴校データ入力シート!J298)","v":""},{"$f":"IF(貴校データ入力シート!K298=\"\",\"\",貴校データ入力シート!K298)","v":""},{"$f":"IF(貴校データ入力シート!L298=\"\",\"\",貴校データ入力シート!L298)","v":""},{"$f":"IF(貴校データ入力シート!M298=\"\",\"\",貴校データ入力シート!M298)","v":""},{"$f":"IF(貴校データ入力シート!N298=\"\",\"\",貴校データ入力シート!N298)","v":""},{"$f":"IF(貴校データ入力シート!O298=\"\",\"\",貴校データ入力シート!O298)","v":""},{"$f":"IF(貴校データ入力シート!P298=\"\",\"\",貴校データ入力シート!P298)","v":""},{"$f":"IF(貴校データ入力シート!Q298=\"\",\"\",貴校データ入力シート!Q298)","v":""},{"$f":"IF(貴校データ入力シート!R298=\"\",\"\",貴校データ入力シート!R298)","v":""},{"$f":"IF(貴校データ入力シート!S298=\"\",\"\",貴校データ入力シート!S298)","v":""},{"$f":"IF(貴校データ入力シート!T298=\"\",\"\",貴校データ入力シート!T298)","v":""},{"$f":"IF(貴校データ入力シート!U298=\"\",\"\",貴校データ入力シート!U298)","v":""},{"$f":"IF(貴校データ入力シート!V298=\"\",\"\",貴校データ入力シート!V298)","v":""},{"$f":"IF(貴校データ入力シート!W298=\"\",\"\",貴校データ入力シート!W298)","v":""},{"$f":"IF(貴校データ入力シート!X298=\"\",\"\",貴校データ入力シート!X298)","v":""},{"$f":"IF(貴校データ入力シート!Y298=\"\",\"\",貴校データ入力シート!Y298)","v":""},{"$f":"IF(貴校データ入力シート!Z298=\"\",\"\",貴校データ入力シート!Z298)","v":""},{"$f":"IF(貴校データ入力シート!AA298=\"\",\"\",貴校データ入力シート!AA298)","v":""},{"$f":"IF(貴校データ入力シート!AB298=\"\",\"\",貴校データ入力シート!AB298)","v":""},null,null,{"$f":"SUM(K295:L295)","v":0}]
[107,{"$f":"IF(貴校データ入力シート!B299=\"\",\"\",貴校データ入力シート!B299)","v":"（算１）"},{"$f":"IF(貴校データ入力シート!C299=\"\",\"\",貴校データ入力シート!C299)","v":"今回の算数の問題では、言葉や数、式を使って、わけや求め方などを書く問題がありました。それらの問題について、どのように解答しましたか"},null,null,null,null,null,null,null,{"$f":"IF(貴校データ入力シート!G299=\"\",\"\",貴校データ入力シート!G299)","v":""},{"$f":"IF(貴校データ入力シート!H299=\"\",\"\",貴校データ入力シート!H299)","v":""},{"$f":"IF(貴校データ入力シート!I299=\"\",\"\",貴校データ入力シート!I299)","v":""},{"$f":"IF(貴校データ入力シート!J299=\"\",\"\",貴校データ入力シート!J299)","v":""},{"$f":"IF(貴校データ入力シート!K299=\"\",\"\",貴校データ入力シート!K299)","v":""},{"$f":"IF(貴校データ入力シート!L299=\"\",\"\",貴校データ入力シート!L299)","v":""},{"$f":"IF(貴校データ入力シート!M299=\"\",\"\",貴校データ入力シート!M299)","v":""},{"$f":"IF(貴校データ入力シート!N299=\"\",\"\",貴校データ入力シート!N299)","v":""},{"$f":"IF(貴校データ入力シート!O299=\"\",\"\",貴校データ入力シート!O299)","v":""},{"$f":"IF(貴校データ入力シート!P299=\"\",\"\",貴校データ入力シート!P299)","v":""},{"$f":"IF(貴校データ入力シート!Q299=\"\",\"\",貴校データ入力シート!Q299)","v":""},{"$f":"IF(貴校データ入力シート!R299=\"\",\"\",貴校データ入力シート!R299)","v":""},{"$f":"IF(貴校データ入力シート!S299=\"\",\"\",貴校データ入力シート!S299)","v":""},{"$f":"IF(貴校データ入力シート!T299=\"\",\"\",貴校データ入力シート!T299)","v":""},{"$f":"IF(貴校データ入力シート!U299=\"\",\"\",貴校データ入力シート!U299)","v":""},{"$f":"IF(貴校データ入力シート!V299=\"\",\"\",貴校データ入力シート!V299)","v":""},{"$f":"IF(貴校データ入力シート!W299=\"\",\"\",貴校データ入力シート!W299)","v":""},{"$f":"IF(貴校データ入力シート!X299=\"\",\"\",貴校データ入力シート!X299)","v":""},{"$f":"IF(貴校データ入力シート!Y299=\"\",\"\",貴校データ入力シート!Y299)","v":""},{"$f":"IF(貴校データ入力シート!Z299=\"\",\"\",貴校データ入力シート!Z299)","v":""},{"$f":"IF(貴校データ入力シート!AA299=\"\",\"\",貴校データ入力シート!AA299)","v":""},{"$f":"IF(貴校データ入力シート!AB299=\"\",\"\",貴校データ入力シート!AB299)","v":""},null,null,null,{"$f":"AG297","v":0},{"$f":"AH298","v":0},{"$f":"AI299","v":0},1]
[null,null,null,null,null,null,null,null,null,null,{"$f":"IF(貴校データ入力シート!G300=\"\",\"\",貴校データ入力シート!G300)","v":""},{"$f":"IF(貴校データ入力シート!H300=\"\",\"\",貴校データ入力シート!H300)","v":""},{"$f":"IF(貴校データ入力シート!I300=\"\",\"\",貴校データ入力シート!I300)","v":""},{"$f":"IF(貴校データ入力シート!J300=\"\",\"\",貴校データ入力シート!J300)","v":""},{"$f":"IF(貴校データ入力シート!K300=\"\",\"\",貴校データ入力シート!K300)","v":""},{"$f":"IF(貴校データ入力シート!L300=\"\",\"\",貴校データ入力シート!L300)","v":""},{"$f":"IF(貴校データ入力シート!M300=\"\",\"\",貴校データ入力シート!M300)","v":""},{"$f":"IF(貴校データ入力シート!N300=\"\",\"\",貴校データ入力シート!N300)","v":""},{"$f":"IF(貴校データ入力シート!O300=\"\",\"\",貴校データ入力シート!O300)","v":""},{"$f":"IF(貴校データ入力シート!P300=\"\",\"\",貴校データ入力シート!P300)","v":""},{"$f":"IF(貴校データ入力シート!Q300=\"\",\"\",貴校データ入力シート!Q300)","v":""},{"$f":"IF(貴校データ入力シート!R300=\"\",\"\",貴校データ入力シート!R300)","v":""},{"$f":"IF(貴校データ入力シート!S300=\"\",\"\",貴校データ入力シート!S300)","v":""},{"$f":"IF(貴校データ入力シート!T300=\"\",\"\",貴校データ入力シート!T300)","v":""},{"$f":"IF(貴校データ入力シート!U300=\"\",\"\",貴校データ入力シート!U300)","v":""},{"$f":"IF(貴校データ入力シート!V300=\"\",\"\",貴校データ入力シート!V300)","v":""},{"$f":"IF(貴校データ入力シート!W300=\"\",\"\",貴校データ入力シート!W300)","v":""},{"$f":"IF(貴校データ入力シート!X300=\"\",\"\",貴校データ入力シート!X300)","v":""},{"$f":"IF(貴校データ入力シート!Y300=\"\",\"\",貴校データ入力シート!Y300)","v":""},{"$f":"IF(貴校データ入力シート!Z300=\"\",\"\",貴校データ入力シート!Z300)","v":""},{"$f":"IF(貴校データ入力シート!AA300=\"\",\"\",貴校データ入力シート!AA300)","v":""},{"$f":"IF(貴校データ入力シート!AB300=\"\",\"\",貴校データ入力シート!AB300)","v":""},{"$f":"SUM(K297:L297)","v":0}]
[null,null,null,null,null,null,null,null,null,null,{"$f":"IF(貴校データ入力シート!G301=\"\",\"\",貴校データ入力シート!G301)","v":""},{"$f":"IF(貴校データ入力シート!H301=\"\",\"\",貴校データ入力シート!H301)","v":""},{"$f":"IF(貴校データ入力シート!I301=\"\",\"\",貴校データ入力シート!I301)","v":""},{"$f":"IF(貴校データ入力シート!J301=\"\",\"\",貴校データ入力シート!J301)","v":""},{"$f":"IF(貴校データ入力シート!K301=\"\",\"\",貴校データ入力シート!K301)","v":""},{"$f":"IF(貴校データ入力シート!L301=\"\",\"\",貴校データ入力シート!L301)","v":""},{"$f":"IF(貴校データ入力シート!M301=\"\",\"\",貴校データ入力シート!M301)","v":""},{"$f":"IF(貴校データ入力シート!N301=\"\",\"\",貴校データ入力シート!N301)","v":""},{"$f":"IF(貴校データ入力シート!O301=\"\",\"\",貴校データ入力シート!O301)","v":""},{"$f":"IF(貴校データ入力シート!P301=\"\",\"\",貴校データ入力シート!P301)","v":""},{"$f":"IF(貴校データ入力シート!Q301=\"\",\"\",貴校データ入力シート!Q301)","v":""},{"$f":"IF(貴校データ入力シート!R301=\"\",\"\",貴校データ入力シート!R301)","v":""},{"$f":"IF(貴校データ入力シート!S301=\"\",\"\",貴校データ入力シート!S301)","v":""},{"$f":"IF(貴校データ入力シート!T301=\"\",\"\",貴校データ入力シート!T301)","v":""},{"$f":"IF(貴校データ入力シート!U301=\"\",\"\",貴校データ入力シート!U301)","v":""},{"$f":"IF(貴校データ入力シート!V301=\"\",\"\",貴校データ入力シート!V301)","v":""},{"$f":"IF(貴校データ入力シート!W301=\"\",\"\",貴校データ入力シート!W301)","v":""},{"$f":"IF(貴校データ入力シート!X301=\"\",\"\",貴校データ入力シート!X301)","v":""},{"$f":"IF(貴校データ入力シート!Y301=\"\",\"\",貴校データ入力シート!Y301)","v":""},{"$f":"IF(貴校データ入力シート!Z301=\"\",\"\",貴校データ入力シート!Z301)","v":""},{"$f":"IF(貴校データ入力シート!AA301=\"\",\"\",貴校データ入力シート!AA301)","v":""},{"$f":"IF(貴校データ入力シート!AB301=\"\",\"\",貴校データ入力シート!AB301)","v":""},null,{"$f":"SUM(K298:L298)","v":0}]
[null,null,null,null,null,null,null,null,null,null,{"$f":"IF(貴校データ入力シート!G302=\"\",\"\",貴校データ入力シート!G302)","v":""},{"$f":"IF(貴校データ入力シート!H302=\"\",\"\",貴校データ入力シート!H302)","v":""},{"$f":"IF(貴校データ入力シート!I302=\"\",\"\",貴校データ入力シート!I302)","v":""},{"$f":"IF(貴校データ入力シート!J302=\"\",\"\",貴校データ入力シート!J302)","v":""},{"$f":"IF(貴校データ入力シート!K302=\"\",\"\",貴校データ入力シート!K302)","v":""},{"$f":"IF(貴校データ入力シート!L302=\"\",\"\",貴校データ入力シート!L302)","v":""},{"$f":"IF(貴校データ入力シート!M302=\"\",\"\",貴校データ入力シート!M302)","v":""},{"$f":"IF(貴校データ入力シート!N302=\"\",\"\",貴校データ入力シート!N302)","v":""},{"$f":"IF(貴校データ入力シート!O302=\"\",\"\",貴校データ入力シート!O302)","v":""},{"$f":"IF(貴校データ入力シート!P302=\"\",\"\",貴校データ入力シート!P302)","v":""},{"$f":"IF(貴校データ入力シート!Q302=\"\",\"\",貴校データ入力シート!Q302)","v":""},{"$f":"IF(貴校データ入力シート!R302=\"\",\"\",貴校データ入力シート!R302)","v":""},{"$f":"IF(貴校データ入力シート!S302=\"\",\"\",貴校データ入力シート!S302)","v":""},{"$f":"IF(貴校データ入力シート!T302=\"\",\"\",貴校データ入力シート!T302)","v":""},{"$f":"IF(貴校データ入力シート!U302=\"\",\"\",貴校データ入力シート!U302)","v":""},{"$f":"IF(貴校データ入力シート!V302=\"\",\"\",貴校データ入力シート!V302)","v":""},{"$f":"IF(貴校データ入力シート!W302=\"\",\"\",貴校データ入力シート!W302)","v":""},{"$f":"IF(貴校データ入力シート!X302=\"\",\"\",貴校データ入力シート!X302)","v":""},{"$f":"IF(貴校データ入力シート!Y302=\"\",\"\",貴校データ入力シート!Y302)","v":""},{"$f":"IF(貴校データ入力シート!Z302=\"\",\"\",貴校データ入力シート!Z302)","v":""},{"$f":"IF(貴校データ入力シート!AA302=\"\",\"\",貴校データ入力シート!AA302)","v":""},{"$f":"IF(貴校データ入力シート!AB302=\"\",\"\",貴校データ入力シート!AB302)","v":""},null,null,{"$f":"SUM(K299:L299)","v":0}]
[108,{"$f":"IF(貴校データ入力シート!B303=\"\",\"\",貴校データ入力シート!B303)","v":"（算２）"},{"$f":"IF(貴校データ入力シート!C303=\"\",\"\",貴校データ入力シート!C303)","v":"解答時間は十分でしたか（算数）"},null,null,null,null,null,null,null,{"$f":"IF(貴校データ入力シート!G303=\"\",\"\",貴校データ入力シート!G303)","v":""},{"$f":"IF(貴校データ入力シート!H303=\"\",\"\",貴校データ入力シート!H303)","v":""},{"$f":"IF(貴校データ入力シート!I303=\"\",\"\",貴校データ入力シート!I303)","v":""},{"$f":"IF(貴校データ入力シート!J303=\"\",\"\",貴校データ入力シート!J303)","v":""},{"$f":"IF(貴校データ入力シート!K303=\"\",\"\",貴校データ入力シート!K303)","v":""},{"$f":"IF(貴校データ入力シート!L303=\"\",\"\",貴校データ入力シート!L303)","v":""},{"$f":"IF(貴校データ入力シート!M303=\"\",\"\",貴校データ入力シート!M303)","v":""},{"$f":"IF(貴校データ入力シート!N303=\"\",\"\",貴校データ入力シート!N303)","v":""},{"$f":"IF(貴校データ入力シート!O303=\"\",\"\",貴校データ入力シート!O303)","v":""},{"$f":"IF(貴校データ入力シート!P303=\"\",\"\",貴校データ入力シート!P303)","v":""},{"$f":"IF(貴校データ入力シート!Q303=\"\",\"\",貴校データ入力シート!Q303)","v":""},{"$f":"IF(貴校データ入力シート!R303=\"\",\"\",貴校データ入力シート!R303)","v":""},{"$f":"IF(貴校データ入力シート!S303=\"\",\"\",貴校データ入力シート!S303)","v":""},{"$f":"IF(貴校データ入力シート!T303=\"\",\"\",貴校データ入力シート!T303)","v":""},{"$f":"IF(貴校データ入力シート!U303=\"\",\"\",貴校データ入力シート!U303)","v":""},{"$f":"IF(貴校データ入力シート!V303=\"\",\"\",貴校データ入力シート!V303)","v":""},{"$f":"IF(貴校データ入力シート!W303=\"\",\"\",貴校データ入力シート!W303)","v":""},{"$f":"IF(貴校データ入力シート!X303=\"\",\"\",貴校データ入力シート!X303)","v":""},{"$f":"IF(貴校データ入力シート!Y303=\"\",\"\",貴校データ入力シート!Y303)","v":""},{"$f":"IF(貴校データ入力シート!Z303=\"\",\"\",貴校データ入力シート!Z303)","v":""},{"$f":"IF(貴校データ入力シート!AA303=\"\",\"\",貴校データ入力シート!AA303)","v":""},{"$f":"IF(貴校データ入力シート!AB303=\"\",\"\",貴校データ入力シート!AB303)","v":""},null,null,null,{"$f":"AG301","v":0},{"$f":"AH302","v":0},{"$f":"AI303","v":0}]
[null,null,null,null,null,null,null,null,null,null,{"$f":"IF(貴校データ入力シート!G304=\"\",\"\",貴校データ入力シート!G304)","v":""},{"$f":"IF(貴校データ入力シート!H304=\"\",\"\",貴校データ入力シート!H304)","v":""},{"$f":"IF(貴校データ入力シート!I304=\"\",\"\",貴校データ入力シート!I304)","v":""},{"$f":"IF(貴校データ入力シート!J304=\"\",\"\",貴校データ入力シート!J304)","v":""},{"$f":"IF(貴校データ入力シート!K304=\"\",\"\",貴校データ入力シート!K304)","v":""},{"$f":"IF(貴校データ入力シート!L304=\"\",\"\",貴校データ入力シート!L304)","v":""},{"$f":"IF(貴校データ入力シート!M304=\"\",\"\",貴校データ入力シート!M304)","v":""},{"$f":"IF(貴校データ入力シート!N304=\"\",\"\",貴校データ入力シート!N304)","v":""},{"$f":"IF(貴校データ入力シート!O304=\"\",\"\",貴校データ入力シート!O304)","v":""},{"$f":"IF(貴校データ入力シート!P304=\"\",\"\",貴校データ入力シート!P304)","v":""},{"$f":"IF(貴校データ入力シート!Q304=\"\",\"\",貴校データ入力シート!Q304)","v":""},{"$f":"IF(貴校データ入力シート!R304=\"\",\"\",貴校データ入力シート!R304)","v":""},{"$f":"IF(貴校データ入力シート!S304=\"\",\"\",貴校データ入力シート!S304)","v":""},{"$f":"IF(貴校データ入力シート!T304=\"\",\"\",貴校データ入力シート!T304)","v":""},{"$f":"IF(貴校データ入力シート!U304=\"\",\"\",貴校データ入力シート!U304)","v":""},{"$f":"IF(貴校データ入力シート!V304=\"\",\"\",貴校データ入力シート!V304)","v":""},{"$f":"IF(貴校データ入力シート!W304=\"\",\"\",貴校データ入力シート!W304)","v":""},{"$f":"IF(貴校データ入力シート!X304=\"\",\"\",貴校データ入力シート!X304)","v":""},{"$f":"IF(貴校データ入力シート!Y304=\"\",\"\",貴校データ入力シート!Y304)","v":""},{"$f":"IF(貴校データ入力シート!Z304=\"\",\"\",貴校データ入力シート!Z304)","v":""},{"$f":"IF(貴校データ入力シート!AA304=\"\",\"\",貴校データ入力シート!AA304)","v":""},{"$f":"IF(貴校データ入力シート!AB304=\"\",\"\",貴校データ入力シート!AB304)","v":""},{"$f":"SUM(K301:L301)","v":0}]
[null,null,null,null,null,null,null,null,null,null,{"$f":"IF(貴校データ入力シート!G305=\"\",\"\",貴校データ入力シート!G305)","v":""},{"$f":"IF(貴校データ入力シート!H305=\"\",\"\",貴校データ入力シート!H305)","v":""},{"$f":"IF(貴校データ入力シート!I305=\"\",\"\",貴校データ入力シート!I305)","v":""},{"$f":"IF(貴校データ入力シート!J305=\"\",\"\",貴校データ入力シート!J305)","v":""},{"$f":"IF(貴校データ入力シート!K305=\"\",\"\",貴校データ入力シート!K305)","v":""},{"$f":"IF(貴校データ入力シート!L305=\"\",\"\",貴校データ入力シート!L305)","v":""},{"$f":"IF(貴校データ入力シート!M305=\"\",\"\",貴校データ入力シート!M305)","v":""},{"$f":"IF(貴校データ入力シート!N305=\"\",\"\",貴校データ入力シート!N305)","v":""},{"$f":"IF(貴校データ入力シート!O305=\"\",\"\",貴校データ入力シート!O305)","v":""},{"$f":"IF(貴校データ入力シート!P305=\"\",\"\",貴校データ入力シート!P305)","v":""},{"$f":"IF(貴校データ入力シート!Q305=\"\",\"\",貴校データ入力シート!Q305)","v":""},{"$f":"IF(貴校データ入力シート!R305=\"\",\"\",貴校データ入力シート!R305)","v":""},{"$f":"IF(貴校データ入力シート!S305=\"\",\"\",貴校データ入力シート!S305)","v":""},{"$f":"IF(貴校データ入力シート!T305=\"\",\"\",貴校データ入力シート!T305)","v":""},{"$f":"IF(貴校データ入力シート!U305=\"\",\"\",貴校データ入力シート!U305)","v":""},{"$f":"IF(貴校データ入力シート!V305=\"\",\"\",貴校データ入力シート!V305)","v":""},{"$f":"IF(貴校データ入力シート!W305=\"\",\"\",貴校データ入力シート!W305)","v":""},{"$f":"IF(貴校データ入力シート!X305=\"\",\"\",貴校データ入力シート!X305)","v":""},{"$f":"IF(貴校データ入力シート!Y305=\"\",\"\",貴校データ入力シート!Y305)","v":""},{"$f":"IF(貴校データ入力シート!Z305=\"\",\"\",貴校データ入力シート!Z305)","v":""},{"$f":"IF(貴校データ入力シート!AA305=\"\",\"\",貴校データ入力シート!AA305)","v":""},{"$f":"IF(貴校データ入力シート!AB305=\"\",\"\",貴校データ入力シート!AB305)","v":""},null,{"$f":"SUM(K302:L302)","v":0}]
[null,null,null,null,null,null,null,null,null,null,{"$f":"IF(貴校データ入力シート!G306=\"\",\"\",貴校データ入力シート!G306)","v":""},{"$f":"IF(貴校データ入力シート!H306=\"\",\"\",貴校データ入力シート!H306)","v":""},{"$f":"IF(貴校データ入力シート!I306=\"\",\"\",貴校データ入力シート!I306)","v":""},{"$f":"IF(貴校データ入力シート!J306=\"\",\"\",貴校データ入力シート!J306)","v":""},{"$f":"IF(貴校データ入力シート!K306=\"\",\"\",貴校データ入力シート!K306)","v":""},{"$f":"IF(貴校データ入力シート!L306=\"\",\"\",貴校データ入力シート!L306)","v":""},{"$f":"IF(貴校データ入力シート!M306=\"\",\"\",貴校データ入力シート!M306)","v":""},{"$f":"IF(貴校データ入力シート!N306=\"\",\"\",貴校データ入力シート!N306)","v":""},{"$f":"IF(貴校データ入力シート!O306=\"\",\"\",貴校データ入力シート!O306)","v":""},{"$f":"IF(貴校データ入力シート!P306=\"\",\"\",貴校データ入力シート!P306)","v":""},{"$f":"IF(貴校データ入力シート!Q306=\"\",\"\",貴校データ入力シート!Q306)","v":""},{"$f":"IF(貴校データ入力シート!R306=\"\",\"\",貴校データ入力シート!R306)","v":""},{"$f":"IF(貴校データ入力シート!S306=\"\",\"\",貴校データ入力シート!S306)","v":""},{"$f":"IF(貴校データ入力シート!T306=\"\",\"\",貴校データ入力シート!T306)","v":""},{"$f":"IF(貴校データ入力シート!U306=\"\",\"\",貴校データ入力シート!U306)","v":""},{"$f":"IF(貴校データ入力シート!V306=\"\",\"\",貴校データ入力シート!V306)","v":""},{"$f":"IF(貴校データ入力シート!W306=\"\",\"\",貴校データ入力シート!W306)","v":""},{"$f":"IF(貴校データ入力シート!X306=\"\",\"\",貴校データ入力シート!X306)","v":""},{"$f":"IF(貴校データ入力シート!Y306=\"\",\"\",貴校データ入力シート!Y306)","v":""},{"$f":"IF(貴校データ入力シート!Z306=\"\",\"\",貴校データ入力シート!Z306)","v":""},{"$f":"IF(貴校データ入力シート!AA306=\"\",\"\",貴校データ入力シート!AA306)","v":""},{"$f":"IF(貴校データ入力シート!AB306=\"\",\"\",貴校データ入力シート!AB306)","v":""},null,null,{"$f":"SUM(K303:L303)","v":0}]

{"sheet":"作業","index":4,"n_rows":292,"n_cols":20,"rows_kept":292,"cut":false,"hidden":true,"merged":[[272,0,275,0],[272,1,275,1],[272,2,275,9],[260,0,263,0],[260,1,263,1],[260,2,263,9],[264,0,267,0],[264,1,267,1],[264,2,267,9],[268,0,271,0],[268,1,271,1],[268,2,271,9],[248,0,251,0],[248,1,251,1],[248,2,251,9],[252,0,255,0],[252,1,255,1],[252,2,255,9],[256,0,259,0],[256,1,259,1],[256,2,259,9],[236,0,239,0],[236,1,239,1],[236,2,239,9],[240,0,243,0],[240,1,243,1],[240,2,243,9],[244,0,247,0],[244,1,247,1],[244,2,247,9],[280,0,283,0],[280,1,283,1],[280,2,283,9],[212,0,215,0],[212,1,215,1],[212,2,215,9],[276,0,279,0],[276,1,279,1],[276,2,279,9],[216,0,219,0],[216,1,219,1],[216,2,219,9],[220,0,223,0],[220,1,223,1],[220,2,223,9],[224,0,227,0],[224,1,227,1],[224,2,227,9],[228,0,231,0],[228,1,231,1],[228,2,231,9],[232,0,235,0],[232,1,235,1],[232,2,235,9],[188,0,191,0],[188,1,191,1],[188,2,191,9],[204,0,207,0],[204,1,207,1],[204,2,207,9],[208,0,211,0],[208,1,211,1],[208,2,211,9],[192,0,195,0],[192,1,195,1],[192,2,195,9],[196,0,199,0],[196,1,199,1],[196,2,199,9],[200,0,203,0],[200,1,203,1],[200,2,203,9],[176,0,179,0],[176,1,179,1],[176,2,179,9],[180,0,183,0],[180,1,183,1],[180,2,183,9],[184,0,187,0],[184,1,187,1],[184,2,187,9],[168,0,171,0],[168,1,171,1],[168,2,171,9],[172,0,175,0],[172,1,175,1],[172,2,175,9],[160,0,163,0],[160,1,163,1],[160,2,163,9],[164,0,167,0],[164,1,167,1],[164,2,167,9],[156,0,159,0],[156,1,159,1],[156,2,159,9],[144,0,147,0],[144,1,147,1],[144,2,147,9],[148,0,151,0],[148,1,151,1],[148,2,151,9],[136,0,139,0],[136,1,139,1],[136,2,139,9],[140,0,143,0],[140,1,143,1],[140,2,143,9],[152,0,155,0],[152,1,155,1],[152,2,155,9],[120,0,123,0],[120,1,123,1],[120,2,123,9],[132,0,135,0],[132,1,135,1],[132,2,135,9],[124,0,127,0],[124,1,127,1],[124,2,127,9],[128,0,131,0],[128,1,131,1],[128,2,131,9],[108,0,111,0],[108,1,111,1],[108,2,111,9],[112,0,115,0],[112,1,115,1],[112,2,115,9],[116,0,119,0],[116,1,119,1],[116,2,119,9],[100,0,103,0],[100,1,103,1],[100,2,103,9],[104,0,107,0],[104,1,107,1],[104,2,107,9],[92,0,95,0],[92,1,95,1],[92,2,95,9],[96,0,99,0],[96,1,99,1],[96,2,99,9],[88,0,91,0],[88,1,91,1],[88,2,91,9],[76,0,79,0],[76,1,79,1],[76,2,79,9],[80,0,83,0],[80,1,83,1],[80,2,83,9],[68,0,71,0],[68,1,71,1],[68,2,71,9],[72,0,75,0],[72,1,75,1],[72,2,75,9],[84,0,87,0],[84,1,87,1],[84,2,87,9],[60,0,63,0],[60,1,63,1],[60,2,63,9],[64,0,67,0],[64,1,67,1],[64,2,67,9],[52,0,55,0],[52,1,55,1],[52,2,55,9],[56,0,59,0],[56,1,59,1],[56,2,59,9],[44,0,47,0],[44,1,47,1],[44,2,47,9],[48,0,51,0],[48,1,51,1],[48,2,51,9],[36,0,39,0],[36,1,39,1],[36,2,39,9],[40,0,43,0],[40,1,43,1],[40,2,43,9],[32,0,35,0],[32,1,35,1],[32,2,35,9],[20,0,23,0],[20,1,23,1],[20,2,23,9],[24,0,27,0],[24,1,27,1],[24,2,27,9],[284,1,287,1],[284,2,287,9],[288,1,291,1],[288,2,291,9],[284,0,287,0],[288,0,291,0],[0,0,3,0],[0,1,3,1],[0,2,3,9],[12,0,15,0],[12,1,15,1],[12,2,15,9],[16,0,19,0],[16,1,19,1],[16,2,19,9],[4,0,7,0],[4,1,7,1],[4,2,7,9],[8,0,11,0],[8,1,11,1],[8,2,11,9],[28,0,31,0],[28,1,31,1],[28,2,31,9]]}
[1,{"$f":"IF(貴校データ入力シート!B15=0,\"\",貴校データ入力シート!B15)","v":"（１）"},{"$f":"IF(貴校データ入力シート!C15=0,\"\",貴校データ入力シート!C15)","v":"朝食を毎日食べていますか"},null,null,null,null,null,null,null,null,"している","どちらかといえば、している","あまりしていない","全くしていない","その他","無回答"]
[null,null,null,null,null,null,null,null,null,null,"貴校"]
[null,null,null,null,null,null,null,null,null,null,"島根県"]
[null,null,null,null,null,null,null,null,null,null,"全国"]
[2,{"$f":"IF(貴校データ入力シート!B19=0,\"\",貴校データ入力シート!B19)","v":"（２）"},{"$f":"IF(貴校データ入力シート!C19=0,\"\",貴校データ入力シート!C19)","v":"毎日、同じくらいの時刻に寝ていますか"},null,null,null,null,null,null,null,null,"している","どちらかといえば、している","あまりしていない","全くしていない","その他","無回答"]
[null,null,null,null,null,null,null,null,null,null,"貴校"]
[null,null,null,null,null,null,null,null,null,null,"島根県"]
[null,null,null,null,null,null,null,null,null,null,"全国"]
[3,{"$f":"IF(貴校データ入力シート!B23=0,\"\",貴校データ入力シート!B23)","v":"（３）"},{"$f":"IF(貴校データ入力シート!C23=0,\"\",貴校データ入力シート!C23)","v":"毎日、同じくらいの時刻に起きていますか"},null,null,null,null,null,null,null,null,"している","どちらかといえば、している","あまりしていない","全くしていない","その他","無回答"]
[null,null,null,null,null,null,null,null,null,null,"貴校"]
[null,null,null,null,null,null,null,null,null,null,"島根県"]
[null,null,null,null,null,null,null,null,null,null,"全国"]
[4,{"$f":"IF(貴校データ入力シート!B27=0,\"\",貴校データ入力シート!B27)","v":"（４）"},{"$f":"IF(貴校データ入力シート!C27=0,\"\",貴校データ入力シート!C27)","v":"普段（月曜日から金曜日）、１日当たりどれくらいの時間、スマートフォンや携帯電話、パソコン、タブレット、ゲーム機、テレビ等（以下、「スマートフォン等」）でSNSや動画視聴などをしますか（スマートフォン等を使って学習する時間やゲームをする時間は除く）"},null,null,null,null,null,null,null,null,"４時間以上","３時間以上、４時間より少ない","２時間以上、３時間より少ない","１時間以上、２時間より少ない","３０分以上、１時間より少ない","３０分より少ない","スマートフォン等を持っていない","その他","無回答"]
[null,null,null,null,null,null,null,null,null,null,"貴校"]
[null,null,null,null,null,null,null,null,null,null,"島根県"]
[null,null,null,null,null,null,null,null,null,null,"全国"]
[5,{"$f":"IF(貴校データ入力シート!B31=0,\"\",貴校データ入力シート!B31)","v":"（５）"},{"$f":"IF(貴校データ入力シート!C31=0,\"\",貴校データ入力シート!C31)","v":"あなたの家では主に何語で話していますか(日本語の割合)"},null,null,null,null,null,null,null,null,"日本語","その他の言語","その他","無回答"]
[null,null,null,null,null,null,null,null,null,null,"貴校"]
[null,null,null,null,null,null,null,null,null,null,"島根県"]
[null,null,null,null,null,null,null,null,null,null,"全国"]
[6,{"$f":"IF(貴校データ入力シート!B35=0,\"\",貴校データ入力シート!B35)","v":"（６）"},{"$f":"IF(貴校データ入力シート!C35=0,\"\",貴校データ入力シート!C35)","v":"学校の勉強のことについて、あなたの親や家族は、どれくらいあなたと話しますか"},null,null,null,null,null,null,null,null,"ほぼ毎日","週に１～２回","月に１～２回","年に１～２回","ほとんど、または、全くない","その他","無回答"]
[null,null,null,null,null,null,null,null,null,null,"貴校"]
[null,null,null,null,null,null,null,null,null,null,"島根県"]
[null,null,null,null,null,null,null,null,null,null,"全国"]
[7,{"$f":"IF(貴校データ入力シート!B39=0,\"\",貴校データ入力シート!B39)","v":"（７）"},{"$f":"IF(貴校データ入力シート!C39=0,\"\",貴校データ入力シート!C39)","v":"学校での悩みについて、あなたの親や家族は、どれくらいあなたと話しますか"},null,null,null,null,null,null,null,null,"ほぼ毎日","週に１～２回","月に１～２回","年に１～２回","ほとんど、または、全くない","その他","無回答"]
[null,null,null,null,null,null,null,null,null,null,"貴校"]
[null,null,null,null,null,null,null,null,null,null,"島根県"]
[null,null,null,null,null,null,null,null,null,null,"全国"]
[8,{"$f":"IF(貴校データ入力シート!B43=0,\"\",貴校データ入力シート!B43)","v":"（８）"},{"$f":"IF(貴校データ入力シート!C43=0,\"\",貴校データ入力シート!C43)","v":"自分には、よいところがあると思いますか"},null,null,null,null,null,null,null,null,"当てはまる","どちらかといえば、当てはまる","どちらかといえば、当てはまらない","当てはまらない","その他","無回答"]
[null,null,null,null,null,null,null,null,null,null,"貴校"]
[null,null,null,null,null,null,null,null,null,null,"島根県"]
[null,null,null,null,null,null,null,null,null,null,"全国"]
[9,{"$f":"IF(貴校データ入力シート!B47=0,\"\",貴校データ入力シート!B47)","v":"（９）"},{"$f":"IF(貴校データ入力シート!C47=0,\"\",貴校データ入力シート!C47)","v":"先生は、あなたのよいところを認めてくれていると思いますか"},null,null,null,null,null,null,null,null,"当てはまる","どちらかといえば、当てはまる","どちらかといえば、当てはまらない","当てはまらない","その他","無回答"]
[null,null,null,null,null,null,null,null,null,null,"貴校"]
[null,null,null,null,null,null,null,null,null,null,"島根県"]
[null,null,null,null,null,null,null,null,null,null,"全国"]
[10,{"$f":"IF(貴校データ入力シート!B51=0,\"\",貴校データ入力シート!B51)","v":"（１０）"},{"$f":"IF(貴校データ入力シート!C51=0,\"\",貴校データ入力シート!C51)","v":"将来の夢や目標を持っていますか"},null,null,null,null,null,null,null,null,"当てはまる","どちらかといえば、当てはまる","どちらかといえば、当てはまらない","当てはまらない","その他","無回答"]
[null,null,null,null,null,null,null,null,null,null,"貴校"]
[null,null,null,null,null,null,null,null,null,null,"島根県"]
[null,null,null,null,null,null,null,null,null,null,"全国"]
[11,{"$f":"IF(貴校データ入力シート!B55=0,\"\",貴校データ入力シート!B55)","v":"（１１）"},{"$f":"IF(貴校データ入力シート!C55=0,\"\",貴校データ入力シート!C55)","v":"人が困っているときは、進んで助けていますか"},null,null,null,null,null,null,null,null,"当てはまる","どちらかといえば、当てはまる","どちらかといえば、当てはまらない","当てはまらない","その他","無回答"]
[null,null,null,null,null,null,null,null,null,null,"貴校"]
[null,null,null,null,null,null,null,null,null,null,"島根県"]
[null,null,null,null,null,null,null,null,null,null,"全国"]
[12,{"$f":"IF(貴校データ入力シート!B59=0,\"\",貴校データ入力シート!B59)","v":"（１２）"},{"$f":"IF(貴校データ入力シート!C59=0,\"\",貴校データ入力シート!C59)","v":"いじめは、どんな理由があってもいけないことだと思いますか"},null,null,null,null,null,null,null,null,"当てはまる","どちらかといえば、当てはまる","どちらかといえば、当てはまらない","当てはまらない","その他","無回答"]
[null,null,null,null,null,null,null,null,null,null,"貴校"]
[null,null,null,null,null,null,null,null,null,null,"島根県"]
[null,null,null,null,null,null,null,null,null,null,"全国"]
[13,{"$f":"IF(貴校データ入力シート!B63=0,\"\",貴校データ入力シート!B63)","v":"（１３）"},{"$f":"IF(貴校データ入力シート!C63=0,\"\",貴校データ入力シート!C63)","v":"困りごとや不安がある時に、先生や学校にいる大人にいつでも相談できますか"},null,null,null,null,null,null,null,null,"当てはまる","どちらかといえば、当てはまる","どちらかといえば、当てはまらない","当てはまらない","その他","無回答"]
[null,null,null,null,null,null,null,null,null,null,"貴校"]
[null,null,null,null,null,null,null,null,null,null,"島根県"]
[null,null,null,null,null,null,null,null,null,null,"全国"]
[14,{"$f":"IF(貴校データ入力シート!B67=0,\"\",貴校データ入力シート!B67)","v":"（１４）"},{"$f":"IF(貴校データ入力シート!C67=0,\"\",貴校データ入力シート!C67)","v":"人の役に立つ人間になりたいと思いますか"},null,null,null,null,null,null,null,null,"当てはまる","どちらかといえば、当てはまる","どちらかといえば、当てはまらない","当てはまらない","その他","無回答"]
[null,null,null,null,null,null,null,null,null,null,"貴校"]
[null,null,null,null,null,null,null,null,null,null,"島根県"]
[null,null,null,null,null,null,null,null,null,null,"全国"]
[15,{"$f":"IF(貴校データ入力シート!B71=0,\"\",貴校データ入力シート!B71)","v":"（１５）"},{"$f":"IF(貴校データ入力シート!C71=0,\"\",貴校データ入力シート!C71)","v":"学校に行くのは楽しいと思いますか"},null,null,null,null,null,null,null,null,"当てはまる","どちらかといえば、当てはまる","どちらかといえば、当てはまらない","当てはまらない","その他","無回答"]
[null,null,null,null,null,null,null,null,null,null,"貴校"]
[null,null,null,null,null,null,null,null,null,null,"島根県"]
[null,null,null,null,null,null,null,null,null,null,"全国"]
[16,{"$f":"IF(貴校データ入力シート!B75=0,\"\",貴校データ入力シート!B75)","v":"（１６）"},{"$f":"IF(貴校データ入力シート!C75=0,\"\",貴校データ入力シート!C75)","v":"自分と違う意見について考えるのは楽しいと思いますか"},null,null,null,null,null,null,null,null,"当てはまる","どちらかといえば、当てはまる","どちらかといえば、当てはまらない","当てはまらない","その他","無回答"]
[null,null,null,null,null,null,null,null,null,null,"貴校"]
[null,null,null,null,null,null,null,null,null,null,"島根県"]
[null,null,null,null,null,null,null,null,null,null,"全国"]
[17,{"$f":"IF(貴校データ入力シート!B79=0,\"\",貴校データ入力シート!B79)","v":"（１７）"},{"$f":"IF(貴校データ入力シート!C79=0,\"\",貴校データ入力シート!C79)","v":"友達関係に満足していますか"},null,null,null,null,null,null,null,null,"当てはまる","どちらかといえば、当てはまる","どちらかといえば、当てはまらない","当てはまらない","その他","無回答"]
[null,null,null,null,null,null,null,null,null,null,"貴校"]
[null,null,null,null,null,null,null,null,null,null,"島根県"]
[null,null,null,null,null,null,null,null,null,null,"全国"]
[24,{"$f":"IF(貴校データ入力シート!B83=0,\"\",貴校データ入力シート!B83)","v":"（２０）"},{"$f":"IF(貴校データ入力シート!C83=0,\"\",貴校データ入力シート!C83)","v":"あなたの学級では、人と違う意見を言っても否定されないと思いますか"},null,null,null,null,null,null,null,null,"当てはまる","どちらかといえば、当てはまる","どちらともいえない","どちらかといえば、当てはまらない","当てはまらない","その他","無回答"]
[null,null,null,null,null,null,null,null,null,null,"貴校"]
[null,null,null,null,null,null,null,null,null,null,"島根県"]
[null,null,null,null,null,null,null,null,null,null,"全国"]
[25,{"$f":"IF(貴校データ入力シート!B87=0,\"\",貴校データ入力シート!B87)","v":"（２１）"},{"$f":"IF(貴校データ入力シート!C87=0,\"\",貴校データ入力シート!C87)","v":"普段の生活の中で、幸せな気持ちになることはどれくらいありますか"},null,null,null,null,null,null,null,null,"よくある","ときどきある","あまりない","全くない","その他","無回答"]
[null,null,null,null,null,null,null,null,null,null,"貴校"]
[null,null,null,null,null,null,null,null,null,null,"島根県"]
[null,null,null,null,null,null,null,null,null,null,"全国"]
[26,{"$f":"IF(貴校データ入力シート!B91=0,\"\",貴校データ入力シート!B91)","v":"（２２）"},{"$f":"IF(貴校データ入力シート!C91=0,\"\",貴校データ入力シート!C91)","v":"分からないことやくわしく知りたいことがあったときに、自分で学び方を考え、工夫することはできていますか"},null,null,null,null,null,null,null,null,"できている","どちらかといえば、できている","どちらかといえば、できていない","できていない","その他","無回答"]
[null,null,null,null,null,null,null,null,null,null,"貴校"]
[null,null,null,null,null,null,null,null,null,null,"島根県"]
[null,null,null,null,null,null,null,null,null,null,"全国"]
[27,{"$f":"IF(貴校データ入力シート!B95=0,\"\",貴校データ入力シート!B95)","v":"（２３）"},{"$f":"IF(貴校データ入力シート!C95=0,\"\",貴校データ入力シート!C95)","v":"学校の授業時間以外に、普段（月曜日から金曜日）、１日当たりどれくらいの時間、勉強をしますか（学習塾で勉強している時間や家庭教師の先生に教わっている時間、インターネットを活用して学ぶ時間も含む）"},null,null,null,null,null,null,null,null,"３時間以上","２時間以上、３時間より少ない","１時間以上、２時間より少ない","３０分以上、１時間より少ない","３０分より少ない","全くしない","その他","無回答"]
[null,null,null,null,null,null,null,null,null,null,"貴校"]
[null,null,null,null,null,null,null,null,null,null,"島根県"]
[null,null,null,null,null,null,null,null,null,null,"全国"]
[28,{"$f":"IF(貴校データ入力シート!B99=0,\"\",貴校データ入力シート!B99)","v":"（２４）"},{"$f":"IF(貴校データ入力シート!C99=0,\"\",貴校データ入力シート!C99)","v":"学校の授業時間以外に、普段（月曜日から金曜日）、１日当たりどれくらいの時間、PC・タブレットなどのICT機器を、勉強のために使っていますか（遊びなどの目的に使う時間は除く）"},null,null,null,null,null,null,null,null,"３時間以上","２時間以上、３時間より少ない","１時間以上、２時間より少ない","３０分以上、１時間より少ない","３０分より少ない","全く使っていない","その他","無回答"]
[null,null,null,null,null,null,null,null,null,null,"貴校"]
[null,null,null,null,null,null,null,null,null,null,"島根県"]
[null,null,null,null,null,null,null,null,null,null,"全国"]
[29,{"$f":"IF(貴校データ入力シート!B103=0,\"\",貴校データ入力シート!B103)","v":"（２５）"},{"$f":"IF(貴校データ入力シート!C103=0,\"\",貴校データ入力シート!C103)","v":"土曜日や日曜日など学校が休みの日に、１日当たりどれくらいの時間、勉強をしますか（学習塾で勉強している時間や家庭教師の先生に教わっている時間、インターネットを活用して学ぶ時間も含む）"},null,null,null,null,null,null,null,null,"４時間以上","３時間以上、４時間より少ない","２時間以上、３時間より少ない","１時間以上、２時間より少ない","１時間より少ない","全くしない","その他","無回答"]
[null,null,null,null,null,null,null,null,null,null,"貴校"]
[null,null,null,null,null,null,null,null,null,null,"島根県"]
[null,null,null,null,null,null,null,null,null,null,"全国"]
[30,{"$f":"IF(貴校データ入力シート!B107=0,\"\",貴校データ入力シート!B107)","v":"（２６）"},{"$f":"IF(貴校データ入力シート!C107=0,\"\",貴校データ入力シート!C107)","v":"学校の授業時間以外に、普段、１日当たりどれくらいの時間、読書をしますか（電子書籍の読書も含む。教科書や参考書、漫画や雑誌は除く）"},null,null,null,null,null,null,null,null,"２時間以上","１時間以上、２時間より少ない","３０分以上、１時間より少ない","１０分以上、３０分より少ない","１０分より少ない","全くしない","その他","無回答"]
[null,null,null,null,null,null,null,null,null,null,"貴校"]
[null,null,null,null,null,null,null,null,null,null,"島根県"]
[null,null,null,null,null,null,null,null,null,null,"全国"]
[31,{"$f":"IF(貴校データ入力シート!B111=0,\"\",貴校データ入力シート!B111)","v":"（２７）"},{"$f":"IF(貴校データ入力シート!C111=0,\"\",貴校データ入力シート!C111)","v":"昼休みや放課後に、本（教科書や参考書、漫画や雑誌は除く）を読んだり、借りたりするために、学校図書館・学校図書室（電子図書館を含む）にどれくらい行きますか"},null,null,null,null,null,null,null,null,"だいたい週に４回以上行く","週に１～３回程度行く","月に１～３回程度行く","年に数回程度行く","ほとんど行かない","全く行かない","その他","無回答"]
[null,null,null,null,null,null,null,null,null,null,"貴校"]
[null,null,null,null,null,null,null,null,null,null,"島根県"]
[null,null,null,null,null,null,null,null,null,null,"全国"]
[32,{"$f":"IF(貴校データ入力シート!B115=0,\"\",貴校データ入力シート!B115)","v":"（２８）"},{"$f":"IF(貴校データ入力シート!C115=0,\"\",貴校データ入力シート!C115)","v":"放課後や学校が休みの日に、本（教科書や参考書、漫画や雑誌は除く）を読んだり、借りたりするために、地域の図書館（電子図書館を含む）にどれくらい行きますか"},null,null,null,null,null,null,null,null,"だいたい週に４回以上行く","週に１～３回程度行く","月に１～３回程度行く","年に数回程度行く","ほとんど行かない","全く行かない","近くに図書館がない","その他","無回答"]
[null,null,null,null,null,null,null,null,null,null,"貴校"]
[null,null,null,null,null,null,null,null,null,null,"島根県"]
[null,null,null,null,null,null,null,null,null,null,"全国"]
[33,{"$f":"IF(貴校データ入力シート!B119=0,\"\",貴校データ入力シート!B119)","v":"（２９）"},{"$f":"IF(貴校データ入力シート!C119=0,\"\",貴校データ入力シート!C119)","v":"あなたの家には、およそどれくらいの本がありますか（雑誌、新聞、教科書は除く）"},null,null,null,null,null,null,null,null,"０～１０冊","１１～２５冊","２６～１００冊","１０１～２００冊","２０１～５００冊","５０１冊以上","その他","無回答"]
[null,null,null,null,null,null,null,null,null,null,"貴校"]
[null,null,null,null,null,null,null,null,null,null,"島根県"]
[null,null,null,null,null,null,null,null,null,null,"全国"]
[34,{"$f":"IF(貴校データ入力シート!B123=0,\"\",貴校データ入力シート!B123)","v":"（３０）"},{"$f":"IF(貴校データ入力シート!C123=0,\"\",貴校データ入力シート!C123)","v":"新聞をどれくらい読んでいますか"},null,null,null,null,null,null,null,null,"ほぼ毎日読んでいる","週に１～３回程度読んでいる","月に１～３回程度読んでいる","ほとんど、または、全く読まない","その他","無回答"]
[null,null,null,null,null,null,null,null,null,null,"貴校"]
[null,null,null,null,null,null,null,null,null,null,"島根県"]
[null,null,null,null,null,null,null,null,null,null,"全国"]
[41,{"$f":"IF(貴校データ入力シート!B127=0,\"\",貴校データ入力シート!B127)","v":"（３３）"},{"$f":"IF(貴校データ入力シート!C127=0,\"\",貴校データ入力シート!C127)","v":"地域や社会をよくするために何かしてみたいと思いますか"},null,null,null,null,null,null,null,null,"当てはまる","どちらかといえば、当てはまる","どちらかといえば、当てはまらない","当てはまらない","その他","無回答"]
[null,null,null,null,null,null,null,null,null,null,"貴校"]
[null,null,null,null,null,null,null,null,null,null,"島根県"]
[null,null,null,null,null,null,null,null,null,null,"全国"]
[44,{"$f":"IF(貴校データ入力シート!B131=0,\"\",貴校データ入力シート!B131)","v":"（３５）"},{"$f":"IF(貴校データ入力シート!C131=0,\"\",貴校データ入力シート!C131)","v":"５年生までに受けた授業で、PC・タブレットなどのICT機器を、どの程度使用しましたか"},null,null,null,null,null,null,null,null,"ほぼ毎日（１日に複数の授業で活用）","ほぼ毎日（１日に１回くらいの授業で活用）","週３回以上","週１回以上","月１回以上","月１回未満","その他","無回答"]
[null,null,null,null,null,null,null,null,null,null,"貴校"]
[null,null,null,null,null,null,null,null,null,null,"島根県"]
[null,null,null,null,null,null,null,null,null,null,"全国"]
[45,{"$f":"IF(貴校データ入力シート!B135=0,\"\",貴校データ入力シート!B135)","v":"（３６－１）"},{"$f":"IF(貴校データ入力シート!C135=0,\"\",貴校データ入力シート!C135)","v":"あなたは自分がPC・タブレットなどのICT機器で文章を作成する（文字、コメントを書くなど）ことができると思いますか"},null,null,null,null,null,null,null,null,"そう思う","どちらかといえば、そう思う","どちらかといえば、そう思わない","そう思わない","その他","無回答"]
[null,null,null,null,null,null,null,null,null,null,"貴校"]
[null,null,null,null,null,null,null,null,null,null,"島根県"]
[null,null,null,null,null,null,null,null,null,null,"全国"]
[46,{"$f":"IF(貴校データ入力シート!B139=0,\"\",貴校データ入力シート!B139)","v":"（３６－２）"},{"$f":"IF(貴校データ入力シート!C139=0,\"\",貴校データ入力シート!C139)","v":"あなたは自分がインターネットを使って情報を収集する（検索する、調べるなど）ことができると思いますか"},null,null,null,null,null,null,null,null,"そう思う","どちらかといえば、そう思う","どちらかといえば、そう思わない","そう思わない","その他","無回答"]
[null,null,null,null,null,null,null,null,null,null,"貴校"]
[null,null,null,null,null,null,null,null,null,null,"島根県"]
[null,null,null,null,null,null,null,null,null,null,"全国"]
[47,{"$f":"IF(貴校データ入力シート!B143=0,\"\",貴校データ入力シート!B143)","v":"（３６－３）"},{"$f":"IF(貴校データ入力シート!C143=0,\"\",貴校データ入力シート!C143)","v":"あなたは自分がPC・タブレットなどのICT機器を使って情報を整理する（図、表、グラフ、思考ツールなどを使ってまとめる）ことができると思いますか"},null,null,null,null,null,null,null,null,"そう思う","どちらかといえば、そう思う","どちらかといえば、そう思わない","そう思わない","その他","無回答"]
[null,null,null,null,null,null,null,null,null,null,"貴校"]
[null,null,null,null,null,null,null,null,null,null,"島根県"]
[null,null,null,null,null,null,null,null,null,null,"全国"]
[48,{"$f":"IF(貴校データ入力シート!B147=0,\"\",貴校データ入力シート!B147)","v":"（３６－４）"},{"$f":"IF(貴校データ入力シート!C147=0,\"\",貴校データ入力シート!C147)","v":"あなたは自分がPC・タブレットなどのICT機器を使って学校での活動でプレゼンテーション（発表のスライド）を作成することができると思いますか"},null,null,null,null,null,null,null,null,"そう思う","どちらかといえば、そう思う","どちらかといえば、そう思わない","そう思わない","その他","無回答"]
[null,null,null,null,null,null,null,null,null,null,"貴校"]
[null,null,null,null,null,null,null,null,null,null,"島根県"]
[null,null,null,null,null,null,null,null,null,null,"全国"]
[60,{"$f":"IF(貴校データ入力シート!B151=0,\"\",貴校データ入力シート!B151)","v":"（３８）"},{"$f":"IF(貴校データ入力シート!C151=0,\"\",貴校データ入力シート!C151)","v":"５年生までに受けた授業で、自分の考えを発表する機会では、自分の考えがうまく伝わるよう、資料や文章、話の組立てなどを工夫して発表していましたか"},null,null,null,null,null,null,null,null,"発表していた","どちらかといえば、発表していた","どちらかといえば、発表していなかった","発表していなかった","考えを発表する機会はなかった","その他","無回答"]
[null,null,null,null,null,null,null,null,null,null,"貴校"]
[null,null,null,null,null,null,null,null,null,null,"島根県"]
[null,null,null,null,null,null,null,null,null,null,"全国"]
[61,{"$f":"IF(貴校データ入力シート!B155=0,\"\",貴校データ入力シート!B155)","v":"（３９）"},{"$f":"IF(貴校データ入力シート!C155=0,\"\",貴校データ入力シート!C155)","v":"５年生までに受けた授業では、課題の解決に向けて、自分で考え、自分から取り組んでいましたか"},null,null,null,null,null,null,null,null,"当てはまる","どちらかといえば、当てはまる","どちらかといえば、当てはまらない","当てはまらない","その他","無回答"]
[null,null,null,null,null,null,null,null,null,null,"貴校"]
[null,null,null,null,null,null,null,null,null,null,"島根県"]
[null,null,null,null,null,null,null,null,null,null,"全国"]
[62,{"$f":"IF(貴校データ入力シート!B159=0,\"\",貴校データ入力シート!B159)","v":"（４０）"},{"$f":"IF(貴校データ入力シート!C159=0,\"\",貴校データ入力シート!C159)","v":"５年生までに受けた授業では、各教科などで学んだことを生かしながら、自分の考えをまとめる活動を行っていましたか"},null,null,null,null,null,null,null,null,"当てはまる","どちらかといえば、当てはまる","どちらかといえば、当てはまらない","当てはまらない","その他","無回答"]
[null,null,null,null,null,null,null,null,null,null,"貴校"]
[null,null,null,null,null,null,null,null,null,null,"島根県"]
[null,null,null,null,null,null,null,null,null,null,"全国"]
[63,{"$f":"IF(貴校データ入力シート!B163=0,\"\",貴校データ入力シート!B163)","v":"（４１）"},{"$f":"IF(貴校データ入力シート!C163=0,\"\",貴校データ入力シート!C163)","v":"５年生までに受けた授業は、自分にあった教え方、教材、学習時間などになっていましたか"},null,null,null,null,null,null,null,null,"当てはまる","どちらかといえば、当てはまる","どちらかといえば、当てはまらない","当てはまらない","その他","無回答"]
[null,null,null,null,null,null,null,null,null,null,"貴校"]
[null,null,null,null,null,null,null,null,null,null,"島根県"]
[null,null,null,null,null,null,null,null,null,null,"全国"]
[64,{"$f":"IF(貴校データ入力シート!B167=0,\"\",貴校データ入力シート!B167)","v":"（４２）"},{"$f":"IF(貴校データ入力シート!C167=0,\"\",貴校データ入力シート!C167)","v":"学級の友達との間で話し合う活動を通じて、自分の考えを深めたり、新たな考え方に気付いたりすることができていますか"},null,null,null,null,null,null,null,null,"当てはまる","どちらかといえば、当てはまる","どちらかといえば、当てはまらない","当てはまらない","学級の友達との間で話し合う活動を行っていない","その他","無回答"]
[null,null,null,null,null,null,null,null,null,null,"貴校"]
[null,null,null,null,null,null,null,null,null,null,"島根県"]
[null,null,null,null,null,null,null,null,null,null,"全国"]
[65,{"$f":"IF(貴校データ入力シート!B171=0,\"\",貴校データ入力シート!B171)","v":"（４３）"},{"$f":"IF(貴校データ入力シート!C171=0,\"\",貴校データ入力シート!C171)","v":"学習した内容について、分かった点や、よく分からなかった点を見直し、次の学習につなげることができていますか"},null,null,null,null,null,null,null,null,"当てはまる","どちらかといえば、当てはまる","どちらかといえば、当てはまらない","当てはまらない","その他","無回答"]
[null,null,null,null,null,null,null,null,null,null,"貴校"]
[null,null,null,null,null,null,null,null,null,null,"島根県"]
[null,null,null,null,null,null,null,null,null,null,"全国"]
[66,{"$f":"IF(貴校データ入力シート!B175=0,\"\",貴校データ入力シート!B175)","v":"（４４）"},{"$f":"IF(貴校データ入力シート!C175=0,\"\",貴校データ入力シート!C175)","v":"授業で学んだことを、次の学習や実生活に結びつけて考えたり、生かしたりすることができると思いますか"},null,null,null,null,null,null,null,null,"当てはまる","どちらかといえば、当てはまる","どちらかといえば、当てはまらない","当てはまらない","その他","無回答"]
[null,null,null,null,null,null,null,null,null,null,"貴校"]
[null,null,null,null,null,null,null,null,null,null,"島根県"]
[null,null,null,null,null,null,null,null,null,null,"全国"]
[67,{"$f":"IF(貴校データ入力シート!B179=0,\"\",貴校データ入力シート!B179)","v":"（４５）"},{"$f":"IF(貴校データ入力シート!C179=0,\"\",貴校データ入力シート!C179)","v":"先生は、授業やテストで間違えたところや、理解していないところについて、分かるまで教えてくれていると思いますか"},null,null,null,null,null,null,null,null,"当てはまる","どちらかといえば、当てはまる","どちらかといえば、当てはまらない","当てはまらない","その他","無回答"]
[null,null,null,null,null,null,null,null,null,null,"貴校"]
[null,null,null,null,null,null,null,null,null,null,"島根県"]
[null,null,null,null,null,null,null,null,null,null,"全国"]
[68,{"$f":"IF(貴校データ入力シート!B183=0,\"\",貴校データ入力シート!B183)","v":"（４６）"},{"$f":"IF(貴校データ入力シート!C183=0,\"\",貴校データ入力シート!C183)","v":"授業や学校生活では、友達や周りの人の考えを大切にして、お互いに協力しながら課題の解決に取り組んでいますか"},null,null,null,null,null,null,null,null,"当てはまる","どちらかといえば、当てはまる","どちらかといえば、当てはまらない","当てはまらない","その他","無回答"]
[null,null,null,null,null,null,null,null,null,null,"貴校"]
[null,null,null,null,null,null,null,null,null,null,"島根県"]
[null,null,null,null,null,null,null,null,null,null,"全国"]
[69,{"$f":"IF(貴校データ入力シート!B187=0,\"\",貴校データ入力シート!B187)","v":"（４７）"},{"$f":"IF(貴校データ入力シート!C187=0,\"\",貴校データ入力シート!C187)","v":"総合的な学習の時間では、自分で課題を立てて情報を集め整理して、調べたことを発表するなどの学習活動に取り組んでいますか"},null,null,null,null,null,null,null,null,"当てはまる","どちらかといえば、当てはまる","どちらかといえば、当てはまらない","当てはまらない","その他","無回答"]
[null,null,null,null,null,null,null,null,null,null,"貴校"]
[null,null,null,null,null,null,null,null,null,null,"島根県"]
[null,null,null,null,null,null,null,null,null,null,"全国"]
[70,{"$f":"IF(貴校データ入力シート!B191=0,\"\",貴校データ入力シート!B191)","v":"（４８）"},{"$f":"IF(貴校データ入力シート!C191=0,\"\",貴校データ入力シート!C191)","v":"総合的な学習の時間では、PC・タブレットなどのICT機器を使って、うまく情報を集めたり、整理したり、発表したりできていますか"},null,null,null,null,null,null,null,null,"当てはまる","どちらかといえば、当てはまる","どちらかといえば、当てはまらない","当てはまらない","その他","無回答"]
[null,null,null,null,null,null,null,null,null,null,"貴校"]
[null,null,null,null,null,null,null,null,null,null,"島根県"]
[null,null,null,null,null,null,null,null,null,null,"全国"]
[71,{"$f":"IF(貴校データ入力シート!B195=0,\"\",貴校データ入力シート!B195)","v":"（４９）"},{"$f":"IF(貴校データ入力シート!C195=0,\"\",貴校データ入力シート!C195)","v":"あなたの学級では、学級生活をよりよくするために学級会で話し合い、互いの意見のよさを生かして解決方法を決めていますか"},null,null,null,null,null,null,null,null,"当てはまる","どちらかといえば、当てはまる","どちらかといえば、当てはまらない","当てはまらない","その他","無回答"]
[null,null,null,null,null,null,null,null,null,null,"貴校"]
[null,null,null,null,null,null,null,null,null,null,"島根県"]
[null,null,null,null,null,null,null,null,null,null,"全国"]
[72,{"$f":"IF(貴校データ入力シート!B199=0,\"\",貴校データ入力シート!B199)","v":"（５０）"},{"$f":"IF(貴校データ入力シート!C199=0,\"\",貴校データ入力シート!C199)","v":"学級会における学級での話合いを生かして、今、自分が努力すべきことを決めて取り組んでいますか"},null,null,null,null,null,null,null,null,"当てはまる","どちらかといえば、当てはまる","どちらかといえば、当てはまらない","当てはまらない","その他","無回答"]
[null,null,null,null,null,null,null,null,null,null,"貴校"]
[null,null,null,null,null,null,null,null,null,null,"島根県"]
[null,null,null,null,null,null,null,null,null,null,"全国"]
[73,{"$f":"IF(貴校データ入力シート!B203=0,\"\",貴校データ入力シート!B203)","v":"（５１）"},{"$f":"IF(貴校データ入力シート!C203=0,\"\",貴校データ入力シート!C203)","v":"道徳の授業では、自分の考えを深めたり、学級やグループで話し合ったりする活動に取り組んでいますか"},null,null,null,null,null,null,null,null,"当てはまる","どちらかといえば、当てはまる","どちらかといえば、当てはまらない","当てはまらない","その他","無回答"]
[null,null,null,null,null,null,null,null,null,null,"貴校"]
[null,null,null,null,null,null,null,null,null,null,"島根県"]
[null,null,null,null,null,null,null,null,null,null,"全国"]
[74,{"$f":"IF(貴校データ入力シート!B207=0,\"\",貴校データ入力シート!B207)","v":"（５２）"},{"$f":"IF(貴校データ入力シート!C207=0,\"\",貴校データ入力シート!C207)","v":"国語の勉強は得意ですか"},null,null,null,null,null,null,null,null,"当てはまる","どちらかといえば、当てはまる","どちらかといえば、当てはまらない","当てはまらない","その他","無回答"]
[null,null,null,null,null,null,null,null,null,null,"貴校"]
[null,null,null,null,null,null,null,null,null,null,"島根県"]
[null,null,null,null,null,null,null,null,null,null,"全国"]
[75,{"$f":"IF(貴校データ入力シート!B211=0,\"\",貴校データ入力シート!B211)","v":"（５３）"},{"$f":"IF(貴校データ入力シート!C211=0,\"\",貴校データ入力シート!C211)","v":"国語の勉強は好きですか"},null,null,null,null,null,null,null,null,"当てはまる","どちらかといえば、当てはまる","どちらかといえば、当てはまらない","当てはまらない","その他","無回答"]
[null,null,null,null,null,null,null,null,null,null,"貴校"]
[null,null,null,null,null,null,null,null,null,null,"島根県"]
[null,null,null,null,null,null,null,null,null,null,"全国"]
[76,{"$f":"IF(貴校データ入力シート!B215=0,\"\",貴校データ入力シート!B215)","v":"（５４）"},{"$f":"IF(貴校データ入力シート!C215=0,\"\",貴校データ入力シート!C215)","v":"国語の授業の内容はよく分かりますか"},null,null,null,null,null,null,null,null,"当てはまる","どちらかといえば、当てはまる","どちらかといえば、当てはまらない","当てはまらない","その他","無回答"]
[null,null,null,null,null,null,null,null,null,null,"貴校"]
[null,null,null,null,null,null,null,null,null,null,"島根県"]
[null,null,null,null,null,null,null,null,null,null,"全国"]
[77,{"$f":"IF(貴校データ入力シート!B219=0,\"\",貴校データ入力シート!B219)","v":"（５５）"},{"$f":"IF(貴校データ入力シート!C219=0,\"\",貴校データ入力シート!C219)","v":"国語の授業で学習したことは、将来、社会に出たときに役に立つと思いますか"},null,null,null,null,null,null,null,null,"当てはまる","どちらかといえば、当てはまる","どちらかといえば、当てはまらない","当てはまらない","その他","無回答"]
[null,null,null,null,null,null,null,null,null,null,"貴校"]
[null,null,null,null,null,null,null,null,null,null,"島根県"]
[null,null,null,null,null,null,null,null,null,null,"全国"]
[78,{"$f":"IF(貴校データ入力シート!B223=0,\"\",貴校データ入力シート!B223)","v":"（５６）"},{"$f":"IF(貴校データ入力シート!C223=0,\"\",貴校データ入力シート!C223)","v":"５年生までにうけた授業では、国語の授業で、先生は、あなたの良いところや、前よりもできるようになったところはどこかを伝えてくれましたか"},null,null,null,null,null,null,null,null,"よくある","たまにある","ほとんどない","全くない","その他","無回答"]
[null,null,null,null,null,null,null,null,null,null,"貴校"]
[null,null,null,null,null,null,null,null,null,null,"島根県"]
[null,null,null,null,null,null,null,null,null,null,"全国"]
[79,{"$f":"IF(貴校データ入力シート!B227=0,\"\",貴校データ入力シート!B227)","v":"（５７）"},{"$f":"IF(貴校データ入力シート!C227=0,\"\",貴校データ入力シート!C227)","v":"５年生までにうけた授業では、国語の授業で、先生は、あなたの学習のうまくできていないところはどこかを伝え、どうしたらうまくできるようになるかを教えてくれましたか"},null,null,null,null,null,null,null,null,"よくある","たまにある","ほとんどない","全くない","その他","無回答"]
[null,null,null,null,null,null,null,null,null,null,"貴校"]
[null,null,null,null,null,null,null,null,null,null,"島根県"]
[null,null,null,null,null,null,null,null,null,null,"全国"]
[80,{"$f":"IF(貴校データ入力シート!B231=0,\"\",貴校データ入力シート!B231)","v":"（５８）"},{"$f":"IF(貴校データ入力シート!C231=0,\"\",貴校データ入力シート!C231)","v":"５年生までにうけた授業では、国語の授業で、文章などを引用して、自分の考えが伝わるように書き表し方を工夫して文章を書いていましたか"},null,null,null,null,null,null,null,null,"している","どちらかといえば、している","どちらかといえば、していない","していない","その他","無回答"]
[null,null,null,null,null,null,null,null,null,null,"貴校"]
[null,null,null,null,null,null,null,null,null,null,"島根県"]
[null,null,null,null,null,null,null,null,null,null,"全国"]
[81,{"$f":"IF(貴校データ入力シート!B235=0,\"\",貴校データ入力シート!B235)","v":"（５９）"},{"$f":"IF(貴校データ入力シート!C235=0,\"\",貴校データ入力シート!C235)","v":"５年生までにうけた授業では、国語の授業で、文章を読んで理解したことに基づいて、自分の考えをまとめていましたか"},null,null,null,null,null,null,null,null,"している","どちらかといえば、している","どちらかといえば、していない","していない","その他","無回答"]
[null,null,null,null,null,null,null,null,null,null,"貴校"]
[null,null,null,null,null,null,null,null,null,null,"島根県"]
[null,null,null,null,null,null,null,null,null,null,"全国"]
[82,{"$f":"IF(貴校データ入力シート!B239=0,\"\",貴校データ入力シート!B239)","v":"（６０）"},{"$f":"IF(貴校データ入力シート!C239=0,\"\",貴校データ入力シート!C239)","v":"算数の勉強は得意ですか"},null,null,null,null,null,null,null,null,"当てはまる","どちらかといえば、当てはまる","どちらかといえば、当てはまらない","当てはまらない","その他","無回答"]
[null,null,null,null,null,null,null,null,null,null,"貴校"]
[null,null,null,null,null,null,null,null,null,null,"島根県"]
[null,null,null,null,null,null,null,null,null,null,"全国"]
[83,{"$f":"IF(貴校データ入力シート!B243=0,\"\",貴校データ入力シート!B243)","v":"（６１）"},{"$f":"IF(貴校データ入力シート!C243=0,\"\",貴校データ入力シート!C243)","v":"算数の勉強は好きですか"},null,null,null,null,null,null,null,null,"当てはまる","どちらかといえば、当てはまる","どちらかといえば、当てはまらない","当てはまらない","その他","無回答"]
[null,null,null,null,null,null,null,null,null,null,"貴校"]
[null,null,null,null,null,null,null,null,null,null,"島根県"]
[null,null,null,null,null,null,null,null,null,null,"全国"]
[84,{"$f":"IF(貴校データ入力シート!B247=0,\"\",貴校データ入力シート!B247)","v":"（６２）"},{"$f":"IF(貴校データ入力シート!C247=0,\"\",貴校データ入力シート!C247)","v":"算数の授業の内容はよく分かりますか"},null,null,null,null,null,null,null,null,"当てはまる","どちらかといえば、当てはまる","どちらかといえば、当てはまらない","当てはまらない","その他","無回答"]
[null,null,null,null,null,null,null,null,null,null,"貴校"]
[null,null,null,null,null,null,null,null,null,null,"島根県"]
[null,null,null,null,null,null,null,null,null,null,"全国"]
[85,{"$f":"IF(貴校データ入力シート!B251=0,\"\",貴校データ入力シート!B251)","v":"（６３）"},{"$f":"IF(貴校データ入力シート!C251=0,\"\",貴校データ入力シート!C251)","v":"算数の授業で学習したことは、将来、社会に出たときに役に立つと思いますか"},null,null,null,null,null,null,null,null,"当てはまる","どちらかといえば、当てはまる","どちらかといえば、当てはまらない","当てはまらない","その他","無回答"]
[null,null,null,null,null,null,null,null,null,null,"貴校"]
[null,null,null,null,null,null,null,null,null,null,"島根県"]
[null,null,null,null,null,null,null,null,null,null,"全国"]
[86,{"$f":"IF(貴校データ入力シート!B255=0,\"\",貴校データ入力シート!B255)","v":"（６４）"},{"$f":"IF(貴校データ入力シート!C255=0,\"\",貴校データ入力シート!C255)","v":"５年生までに受けた授業では、算数の授業で学習したことを、普段の生活の中で活用できていましたか"},null,null,null,null,null,null,null,null,"当てはまる","どちらかといえば、当てはまる","どちらかといえば、当てはまらない","当てはまらない","その他","無回答"]
[null,null,null,null,null,null,null,null,null,null,"貴校"]
[null,null,null,null,null,null,null,null,null,null,"島根県"]
[null,null,null,null,null,null,null,null,null,null,"全国"]
[87,{"$f":"IF(貴校データ入力シート!B259=0,\"\",貴校データ入力シート!B259)","v":"（６５）"},{"$f":"IF(貴校データ入力シート!C259=0,\"\",貴校データ入力シート!C259)","v":"５年生までに受けた授業では、算数の問題の解き方が分からないときは、あきらめずにいろいろな方法を考えましたか"},null,null,null,null,null,null,null,null,"当てはまる","どちらかといえば、当てはまる","どちらかといえば、当てはまらない","当てはまらない","その他","無回答"]
[null,null,null,null,null,null,null,null,null,null,"貴校"]
[null,null,null,null,null,null,null,null,null,null,"島根県"]
[null,null,null,null,null,null,null,null,null,null,"全国"]
[88,{"$f":"IF(貴校データ入力シート!B263=0,\"\",貴校データ入力シート!B263)","v":"（６６）"},{"$f":"IF(貴校データ入力シート!C263=0,\"\",貴校データ入力シート!C263)","v":"５年生までに受けた授業では、算数の授業で、どのように考えたのかについて説明する活動をよく行っていましたか"},null,null,null,null,null,null,null,null,"当てはまる","どちらかといえば、当てはまる","どちらかといえば、当てはまらない","当てはまらない","その他","無回答"]
[null,null,null,null,null,null,null,null,null,null,"貴校"]
[null,null,null,null,null,null,null,null,null,null,"島根県"]
[null,null,null,null,null,null,null,null,null,null,"全国"]
[89,{"$f":"IF(貴校データ入力シート!B267=0,\"\",貴校データ入力シート!B267)","v":"（６７）"},{"$f":"IF(貴校データ入力シート!C267=0,\"\",貴校データ入力シート!C267)","v":"５年生までに受けた授業では、図形や数直線など図が示された問題では、問題を解くときに図が役に立つと思いましたか"},null,null,null,null,null,null,null,null,"当てはまる","どちらかといえば、当てはまる","どちらかといえば、当てはまらない","当てはまらない","その他","無回答"]
[null,null,null,null,null,null,null,null,null,null,"貴校"]
[null,null,null,null,null,null,null,null,null,null,"島根県"]
[null,null,null,null,null,null,null,null,null,null,"全国"]
[100,{"$f":"IF(貴校データ入力シート!B271=0,\"\",貴校データ入力シート!B271)","v":"（６９）"},{"$f":"IF(貴校データ入力シート!C271=0,\"\",貴校データ入力シート!C271)","v":"英語の勉強は得意ですか"},null,null,null,null,null,null,null,null,"当てはまる","どちらかといえば、当てはまる","どちらかといえば、当てはまらない","当てはまらない","その他","無回答"]
[null,null,null,null,null,null,null,null,null,null,"貴校"]
[null,null,null,null,null,null,null,null,null,null,"島根県"]
[null,null,null,null,null,null,null,null,null,null,"全国"]
[101,{"$f":"IF(貴校データ入力シート!B275=0,\"\",貴校データ入力シート!B275)","v":"（７０）"},{"$f":"IF(貴校データ入力シート!C275=0,\"\",貴校データ入力シート!C275)","v":"英語の勉強は好きですか"},null,null,null,null,null,null,null,null,"当てはまる","どちらかといえば、当てはまる","どちらかといえば、当てはまらない","当てはまらない","その他","無回答"]
[null,null,null,null,null,null,null,null,null,null,"貴校"]
[null,null,null,null,null,null,null,null,null,null,"島根県"]
[null,null,null,null,null,null,null,null,null,null,"全国"]
[102,{"$f":"IF(貴校データ入力シート!B279=0,\"\",貴校データ入力シート!B279)","v":"（７１）"},{"$f":"IF(貴校データ入力シート!C279=0,\"\",貴校データ入力シート!C279)","v":"将来、積極的に英語を使うような生活をしたり職業に就いたりしたいですか"},null,null,null,null,null,null,null,null,"当てはまる","どちらかといえば、当てはまる","どちらかといえば、当てはまらない","当てはまらない","その他","無回答"]
[null,null,null,null,null,null,null,null,null,null,"貴校"]
[null,null,null,null,null,null,null,null,null,null,"島根県"]
[null,null,null,null,null,null,null,null,null,null,"全国"]
[103,{"$f":"IF(貴校データ入力シート!B283=0,\"\",貴校データ入力シート!B283)","v":"（７２）"},{"$f":"IF(貴校データ入力シート!C283=0,\"\",貴校データ入力シート!C283)","v":"これまで、学校の授業以外で、英語を使う機会がありましたか（地域の人や外国にいる人と英語で話す、英語で手紙や電子メールを書く、英語のテレビや動画、ホームページを見る、PC・タブレットなどのICT機器を利用して他者と英語で交流する、英会話教室に通うなど）"},null,null,null,null,null,null,null,null,"当てはまる","どちらかといえば、当てはまる","どちらかといえば、当てはまらない","当てはまらない","その他","無回答"]
[null,null,null,null,null,null,null,null,null,null,"貴校"]
[null,null,null,null,null,null,null,null,null,null,"島根県"]
[null,null,null,null,null,null,null,null,null,null,"全国"]
[104,{"$f":"IF(貴校データ入力シート!B287=0,\"\",貴校データ入力シート!B287)","v":"（７３）"},{"$f":"IF(貴校データ入力シート!C287=0,\"\",貴校データ入力シート!C287)","v":"家庭学習の課題（宿題）として、どの程度、PC・タブレットなどのICT機器を使用して、英語の音声を聞いたり英語を話す練習をしたりしていますか"},null,null,null,null,null,null,null,null,"ほぼ毎日","週３回以上","週１回程度","月１回程度","月１回未満","行っていない","その他","無回答"]
[null,null,null,null,null,null,null,null,null,null,"貴校"]
[null,null,null,null,null,null,null,null,null,null,"島根県"]
[null,null,null,null,null,null,null,null,null,null,"全国"]
[105,{"$f":"IF(貴校データ入力シート!B291=0,\"\",貴校データ入力シート!B291)","v":"（国１）"},{"$f":"IF(貴校データ入力シート!C291=0,\"\",貴校データ入力シート!C291)","v":"今回の国語の問題では、解答を文章で書く問題がありました。それらの問題について、どのように解答しましたか"},null,null,null,null,null,null,null,null,"全ての書く問題で最後まで解答を書こうと努力した","書く問題で解答しなかったり、解答を書くことを途中であきらめたりしたものがあった","書く問題は全く解答しなかった","その他","無回答"]
[null,null,null,null,null,null,null,null,null,null,"貴校"]
[null,null,null,null,null,null,null,null,null,null,"島根県"]
[null,null,null,null,null,null,null,null,null,null,"全国"]
[106,{"$f":"IF(貴校データ入力シート!B295=0,\"\",貴校データ入力シート!B295)","v":"（国２）"},{"$f":"IF(貴校データ入力シート!C295=0,\"\",貴校データ入力シート!C295)","v":"解答時間は十分でしたか（国語）"},null,null,null,null,null,null,null,null,"時間が余った","ちょうどよかった","やや足りなかった","全く足りなかった","その他","無回答"]
[null,null,null,null,null,null,null,null,null,null,"貴校"]
[null,null,null,null,null,null,null,null,null,null,"島根県"]
[null,null,null,null,null,null,null,null,null,null,"全国"]
[107,{"$f":"IF(貴校データ入力シート!B299=0,\"\",貴校データ入力シート!B299)","v":"（算１）"},{"$f":"IF(貴校データ入力シート!C299=0,\"\",貴校データ入力シート!C299)","v":"今回の算数の問題では、言葉や数、式を使って、わけや求め方などを書く問題がありました。それらの問題について、どのように解答しましたか"},null,null,null,null,null,null,null,null,"全ての書く問題で最後まで解答を書こうと努力した","書く問題で解答しなかったり、解答を書くことを途中であきらめたりしたものがあった","書く問題は全く解答しなかった","その他","無回答"]
[null,null,null,null,null,null,null,null,null,null,"貴校"]
[null,null,null,null,null,null,null,null,null,null,"島根県"]
[null,null,null,null,null,null,null,null,null,null,"全国"]
[108,{"$f":"IF(貴校データ入力シート!B303=0,\"\",貴校データ入力シート!B303)","v":"（算２）"},{"$f":"IF(貴校データ入力シート!C303=0,\"\",貴校データ入力シート!C303)","v":"解答時間は十分でしたか（算数）"},null,null,null,null,null,null,null,null,"時間が余った","ちょうどよかった","やや足りなかった","全く足りなかった","その他","無回答"]
[null,null,null,null,null,null,null,null,null,null,"貴校"]
[null,null,null,null,null,null,null,null,null,null,"島根県"]
[null,null,null,null,null,null,null,null,null,null,"全国"]

{"sheet":"選択肢","index":5,"n_rows":73,"n_cols":8,"rows_kept":73,"cut":false,"hidden":false,"merged":[]}
["（１）","している","どちらかといえば、している","あまりしていない","全くしていない"]
["（２）","している","どちらかといえば、している","あまりしていない","全くしていない"]
["（３）","している","どちらかといえば、している","あまりしていない","全くしていない"]
["（４）","４時間以上","３時間以上、４時間より少ない","２時間以上、３時間より少ない","１時間以上、２時間より少ない","３０分以上、１時間より少ない","３０分より少ない","スマートフォン等を持っていない"]
["（５）","日本語","その他の言語"]
["（６）","ほぼ毎日","週に１～２回","月に１～２回","年に１～２回","ほとんど、または、全くない"]
["（７）","ほぼ毎日","週に１～２回","月に１～２回","年に１～２回","ほとんど、または、全くない"]
["（８）","当てはまる","どちらかといえば、当てはまる","どちらかといえば、当てはまらない","当てはまらない"]
["（９）","当てはまる","どちらかといえば、当てはまる","どちらかといえば、当てはまらない","当てはまらない"]
["（１０）","当てはまる","どちらかといえば、当てはまる","どちらかといえば、当てはまらない","当てはまらない"]
["（１１）","当てはまる","どちらかといえば、当てはまる","どちらかといえば、当てはまらない","当てはまらない"]
["（１２）","当てはまる","どちらかといえば、当てはまる","どちらかといえば、当てはまらない","当てはまらない"]
["（１３）","当てはまる","どちらかといえば、当てはまる","どちらかといえば、当てはまらない","当てはまらない"]
["（１４）","当てはまる","どちらかといえば、当てはまる","どちらかといえば、当てはまらない","当てはまらない"]
["（１５）","当てはまる","どちらかといえば、当てはまる","どちらかといえば、当てはまらない","当てはまらない"]
["（１６）","当てはまる","どちらかといえば、当てはまる","どちらかといえば、当てはまらない","当てはまらない"]
["（１７）","当てはまる","どちらかといえば、当てはまる","どちらかといえば、当てはまらない","当てはまらない"]
["（２０）","当てはまる","どちらかといえば、当てはまる","どちらともいえない","どちらかといえば、当てはまらない","当てはまらない"]
["（２１）","よくある","ときどきある","あまりない","全くない"]
["（２２）","できている","どちらかといえば、できている","どちらかといえば、できていない","できていない"]
["（２３）","３時間以上","２時間以上、３時間より少ない","１時間以上、２時間より少ない","３０分以上、１時間より少ない","３０分より少ない","全くしない"]
["（２４）","３時間以上","２時間以上、３時間より少ない","１時間以上、２時間より少ない","３０分以上、１時間より少ない","３０分より少ない","全く使っていない"]
["（２５）","４時間以上","３時間以上、４時間より少ない","２時間以上、３時間より少ない","１時間以上、２時間より少ない","１時間より少ない","全くしない"]
["（２６）","２時間以上","１時間以上、２時間より少ない","３０分以上、１時間より少ない","１０分以上、３０分より少ない","１０分より少ない","全くしない"]
["（２７）","だいたい週に４回以上行く","週に１～３回程度行く","月に１～３回程度行く","年に数回程度行く","ほとんど行かない","全く行かない"]
["（２８）","だいたい週に４回以上行く","週に１～３回程度行く","月に１～３回程度行く","年に数回程度行く","ほとんど行かない","全く行かない","近くに図書館がない"]
["（２９）","０～１０冊","１１～２５冊","２６～１００冊","１０１～２００冊","２０１～５００冊","５０１冊以上"]
["（３０）","ほぼ毎日読んでいる","週に１～３回程度読んでいる","月に１～３回程度読んでいる","ほとんど、または、全く読まない"]
["（３３）","当てはまる","どちらかといえば、当てはまる","どちらかといえば、当てはまらない","当てはまらない"]
["（３５）","ほぼ毎日（１日に複数の授業で活用）","ほぼ毎日（１日に１回くらいの授業で活用）","週３回以上","週１回以上","月１回以上","月１回未満"]
["（３６－１）","そう思う","どちらかといえば、そう思う","どちらかといえば、そう思わない","そう思わない"]
["（３６－２）","そう思う","どちらかといえば、そう思う","どちらかといえば、そう思わない","そう思わない"]
["（３６－３）","そう思う","どちらかといえば、そう思う","どちらかといえば、そう思わない","そう思わない"]
["（３６－４）","そう思う","どちらかといえば、そう思う","どちらかといえば、そう思わない","そう思わない"]
["（３８）","発表していた","どちらかといえば、発表していた","どちらかといえば、発表していなかった","発表していなかった","考えを発表する機会はなかった"]
["（３９）","当てはまる","どちらかといえば、当てはまる","どちらかといえば、当てはまらない","当てはまらない"]
["（４０）","当てはまる","どちらかといえば、当てはまる","どちらかといえば、当てはまらない","当てはまらない"]
["（４１）","当てはまる","どちらかといえば、当てはまる","どちらかといえば、当てはまらない","当てはまらない"]
["（４２）","当てはまる","どちらかといえば、当てはまる","どちらかといえば、当てはまらない","当てはまらない","学級の友達との間で話し合う活動を行っていない"]
["（４３）","当てはまる","どちらかといえば、当てはまる","どちらかといえば、当てはまらない","当てはまらない"]
["（４４）","当てはまる","どちらかといえば、当てはまる","どちらかといえば、当てはまらない","当てはまらない"]
["（４５）","当てはまる","どちらかといえば、当てはまる","どちらかといえば、当てはまらない","当てはまらない"]
["（４６）","当てはまる","どちらかといえば、当てはまる","どちらかといえば、当てはまらない","当てはまらない"]
["（４７）","当てはまる","どちらかといえば、当てはまる","どちらかといえば、当てはまらない","当てはまらない"]
["（４８）","当てはまる","どちらかといえば、当てはまる","どちらかといえば、当てはまらない","当てはまらない"]
["（４９）","当てはまる","どちらかといえば、当てはまる","どちらかといえば、当てはまらない","当てはまらない"]
["（５０）","当てはまる","どちらかといえば、当てはまる","どちらかといえば、当てはまらない","当てはまらない"]
["（５１）","当てはまる","どちらかといえば、当てはまる","どちらかといえば、当てはまらない","当てはまらない"]
["（５２）","当てはまる","どちらかといえば、当てはまる","どちらかといえば、当てはまらない","当てはまらない"]
["（５３）","当てはまる","どちらかといえば、当てはまる","どちらかといえば、当てはまらない","当てはまらない"]
["（５４）","当てはまる","どちらかといえば、当てはまる","どちらかといえば、当てはまらない","当てはまらない"]
["（５５）","当てはまる","どちらかといえば、当てはまる","どちらかといえば、当てはまらない","当てはまらない"]
["（５６）","よくある","たまにある","ほとんどない","全くない"]
["（５７）","よくある","たまにある","ほとんどない","全くない"]
["（５８）","している","どちらかといえば、している","どちらかといえば、していない","していない"]
["（５９）","している","どちらかといえば、している","どちらかといえば、していない","していない"]
["（６０）","当てはまる","どちらかといえば、当てはまる","どちらかといえば、当てはまらない","当てはまらない"]
["（６１）","当てはまる","どちらかといえば、当てはまる","どちらかといえば、当てはまらない","当てはまらない"]
["（６２）","当てはまる","どちらかといえば、当てはまる","どちらかといえば、当てはまらない","当てはまらない"]
["（６３）","当てはまる","どちらかといえば、当てはまる","どちらかといえば、当てはまらない","当てはまらない"]
["（６４）","当てはまる","どちらかといえば、当てはまる","どちらかといえば、当てはまらない","当てはまらない"]
["（６５）","当てはまる","どちらかといえば、当てはまる","どちらかといえば、当てはまらない","当てはまらない"]
["（６６）","当てはまる","どちらかといえば、当てはまる","どちらかといえば、当てはまらない","当てはまらない"]
["（６７）","当てはまる","どちらかといえば、当てはまる","どちらかといえば、当てはまらない","当てはまらない"]
["（６９）","当てはまる","どちらかといえば、当てはまる","どちらかといえば、当てはまらない","当てはまらない"]
["（７０）","当てはまる","どちらかといえば、当てはまる","どちらかといえば、当てはまらない","当てはまらない"]
["（７１）","当てはまる","どちらかといえば、当てはまる","どちらかといえば、当てはまらない","当てはまらない"]
["（７２）","当てはまる","どちらかといえば、当てはまる","どちらかといえば、当てはまらない","当てはまらない"]
["（７３）","ほぼ毎日","週３回以上","週１回程度","月１回程度","月１回未満","行っていない"]
["（国１）","全ての書く問題で最後まで解答を書こうと努力した","書く問題で解答しなかったり、解答を書くことを途中であきらめたりしたものがあった","書く問題は全く解答しなかった"]
["（国２）","時間が余った","ちょうどよかった","やや足りなかった","全く足りなかった"]
["（算１）","全ての書く問題で最後まで解答を書こうと努力した","書く問題で解答しなかったり、解答を書くことを途中であきらめたりしたものがあった","書く問題は全く解答しなかった"]
["（算２）","時間が余った","ちょうどよかった","やや足りなかった","全く足りなかった"]